BEGIN:VCALENDAR
VERSION:2.0
PRODID:-//destination.one//NONSGML destination.meta API//DE
X-WR-CALDESC:A calendar powered by destination.meta
X-WR-CALNAME:zweiuferland Kalender via destination.meta
BEGIN:VEVENT
CATEGORIES:Konzert
CATEGORIES:Sonstiges
DESCRIPTION:\n\nmehr Informationen unter http://pages.destination.one/de/zw
 eiuferland/streaming/detail/Event/e_101221665/benefiz-schlagernacht-melody
 -friends
DTEND;TZID=Europe/Berlin:20260502T235900
DTSTAMP:20260423T122457Z
DTSTART;TZID=Europe/Berlin:20260502T180000
GEO:49.830633;9.869916
LOCATION:Mainfrankensäle\, Mainlände 1\, Veitshöchheim
ORGANIZER;CN=Mainfrankensäle:mailto:info@mainfrankensaele.de
SEQUENCE:0
SUMMARY:Benefiz Schlagernacht Melody & Friends
UID:e_101221665_iv0
URL:http://pages.destination.one/de/zweiuferland/streaming/detail/Event/e_1
 01221665/benefiz-schlagernacht-melody-friends
END:VEVENT
BEGIN:VTIMEZONE
TZID:Europe/Berlin
X-LIC-LOCATION:Europe/Berlin
BEGIN:DAYLIGHT
DTSTART:19700329T020000
RRULE:FREQ=YEARLY;BYDAY=-1SU;BYMONTH=3
TZNAME:CEST
TZOFFSETFROM:+0100
TZOFFSETTO:+0200
END:DAYLIGHT
BEGIN:STANDARD
DTSTART:19701025T030000
RRULE:FREQ=YEARLY;BYDAY=-1SU;BYMONTH=10
TZNAME:CET
TZOFFSETFROM:+0200
TZOFFSETTO:+0100
END:STANDARD
END:VTIMEZONE
END:VCALENDAR
