BEGIN:VCALENDAR
VERSION:2.0
PRODID:-//destination.one//NONSGML destination.meta API//DE
X-WR-CALDESC:A calendar powered by destination.meta
X-WR-CALNAME:zweiuferland Kalender via destination.meta
BEGIN:VEVENT
CATEGORIES:Konzert
CATEGORIES:Kulturkalender
DESCRIPTION:\n\nmehr Informationen unter http://pages.destination.one/de/zw
 eiuferland/streaming/detail/Event/e_100593153/livemusik-mit-simply-acousti
 c
DTEND;TZID=Europe/Berlin:20230421T235900
DTSTAMP:20260423T122253Z
DTSTART;TZID=Europe/Berlin:20230421T190000
GEO:49.859843;9.844866
LOCATION:Meisnerhof\, Mainleite 1\, Erlabrunn
ORGANIZER;CN=Meisnerhof:mailto:info@meisnerhof.de
SEQUENCE:0
SUMMARY:Livemusik mit Simply Acoustic
UID:e_100593153_iv0
URL:http://pages.destination.one/de/zweiuferland/streaming/detail/Event/e_1
 00593153/livemusik-mit-simply-acoustic
END:VEVENT
BEGIN:VEVENT
CATEGORIES:Konzert
CATEGORIES:Kulturkalender
DESCRIPTION:\n\nmehr Informationen unter http://pages.destination.one/de/zw
 eiuferland/streaming/detail/Event/e_100593153/livemusik-mit-simply-acousti
 c
DTEND;TZID=Europe/Berlin:20260426T235900
DTSTAMP:20260423T122253Z
DTSTART;TZID=Europe/Berlin:20260426T130000
GEO:49.859843;9.844866
LOCATION:Meisnerhof\, Mainleite 1\, Erlabrunn
ORGANIZER;CN=Meisnerhof:mailto:info@meisnerhof.de
SEQUENCE:0
SUMMARY:Livemusik mit Simply Acoustic
UID:e_100593153_iv1
URL:http://pages.destination.one/de/zweiuferland/streaming/detail/Event/e_1
 00593153/livemusik-mit-simply-acoustic
END:VEVENT
BEGIN:VEVENT
CATEGORIES:Konzert
CATEGORIES:Kulturkalender
DESCRIPTION:\n\nmehr Informationen unter http://pages.destination.one/de/zw
 eiuferland/streaming/detail/Event/e_100593153/livemusik-mit-simply-acousti
 c
DTEND;TZID=Europe/Berlin:20260724T235900
DTSTAMP:20260423T122253Z
DTSTART;TZID=Europe/Berlin:20260724T183000
GEO:49.859843;9.844866
LOCATION:Meisnerhof\, Mainleite 1\, Erlabrunn
ORGANIZER;CN=Meisnerhof:mailto:info@meisnerhof.de
SEQUENCE:0
SUMMARY:Livemusik mit Simply Acoustic
UID:e_100593153_iv2
URL:http://pages.destination.one/de/zweiuferland/streaming/detail/Event/e_1
 00593153/livemusik-mit-simply-acoustic
END:VEVENT
BEGIN:VTIMEZONE
TZID:Europe/Berlin
X-LIC-LOCATION:Europe/Berlin
BEGIN:DAYLIGHT
DTSTART:19700329T020000
RRULE:FREQ=YEARLY;BYDAY=-1SU;BYMONTH=3
TZNAME:CEST
TZOFFSETFROM:+0100
TZOFFSETTO:+0200
END:DAYLIGHT
BEGIN:STANDARD
DTSTART:19701025T030000
RRULE:FREQ=YEARLY;BYDAY=-1SU;BYMONTH=10
TZNAME:CET
TZOFFSETFROM:+0200
TZOFFSETTO:+0100
END:STANDARD
END:VTIMEZONE
END:VCALENDAR
