BEGIN:VCALENDAR
VERSION:2.0
PRODID:-//destination.one//NONSGML destination.meta API//DE
X-WR-CALDESC:A calendar powered by destination.meta
X-WR-CALNAME:zweiuferland Kalender via destination.meta
BEGIN:VEVENT
CATEGORIES:Brauchtum/Kultur
DESCRIPTION:\n\nmehr Informationen unter http://pages.destination.one/de/zw
 eiuferland/streaming/detail/Event/e_100562989/maibaumaufstellung-in-retzba
 ch
DTEND;TZID=Europe/Berlin:20230501T235900
DTSTAMP:20260423T122456Z
DTSTART;TZID=Europe/Berlin:20230501T140000
GEO:49.903665;9.823619
LOCATION: Pfarrkirche St. Laurentius \, Kirchgasse 11\, Zellingen
ORGANIZER;CN=Markt Zellingen:mailto:touristinformation@zellingen.de
SEQUENCE:0
SUMMARY:Maibaumaufstellung in Retzbach
UID:e_100562989_iv0
URL:http://pages.destination.one/de/zweiuferland/streaming/detail/Event/e_1
 00562989/maibaumaufstellung-in-retzbach
END:VEVENT
BEGIN:VEVENT
CATEGORIES:Brauchtum/Kultur
DESCRIPTION:\n\nmehr Informationen unter http://pages.destination.one/de/zw
 eiuferland/streaming/detail/Event/e_100562989/maibaumaufstellung-in-retzba
 ch
DTEND;TZID=Europe/Berlin:20260501T235900
DTSTAMP:20260423T122456Z
DTSTART;TZID=Europe/Berlin:20260501T140000
GEO:49.903665;9.823619
LOCATION: Pfarrkirche St. Laurentius \, Kirchgasse 11\, Zellingen
ORGANIZER;CN=Markt Zellingen:mailto:touristinformation@zellingen.de
SEQUENCE:0
SUMMARY:Maibaumaufstellung in Retzbach
UID:e_100562989_iv1
URL:http://pages.destination.one/de/zweiuferland/streaming/detail/Event/e_1
 00562989/maibaumaufstellung-in-retzbach
END:VEVENT
BEGIN:VTIMEZONE
TZID:Europe/Berlin
X-LIC-LOCATION:Europe/Berlin
BEGIN:DAYLIGHT
DTSTART:19700329T020000
RRULE:FREQ=YEARLY;BYDAY=-1SU;BYMONTH=3
TZNAME:CEST
TZOFFSETFROM:+0100
TZOFFSETTO:+0200
END:DAYLIGHT
BEGIN:STANDARD
DTSTART:19701025T030000
RRULE:FREQ=YEARLY;BYDAY=-1SU;BYMONTH=10
TZNAME:CET
TZOFFSETFROM:+0200
TZOFFSETTO:+0100
END:STANDARD
END:VTIMEZONE
END:VCALENDAR
