BEGIN:VCALENDAR
VERSION:2.0
PRODID:-//destination.one//NONSGML destination.meta API//DE
X-WR-CALDESC:A calendar powered by destination.meta
X-WR-CALNAME:zweiuferland Kalender via destination.meta
BEGIN:VEVENT
CATEGORIES:Führung/Besichtigung
CATEGORIES:Kirche
DESCRIPTION:\n\nmehr Informationen unter http://pages.destination.one/de/zw
 eiuferland/streaming/detail/Event/e_100368289/f-hrung-ber-das-klosterareal
 -unterzell
DTEND;TZID=Europe/Berlin:20220522T160000
DTSTAMP:20260423T122553Z
DTSTART;TZID=Europe/Berlin:20220522T143000
GEO:49.812579;9.871253
LOCATION:Markt Zell a. Main\, Rathausplatz 8\, Zell am Main
ORGANIZER;CN=AK Kultur Zell am Main:mailto:pichler@zell-main.de
SEQUENCE:0
SUMMARY:Führung über das Klosterareal Unterzell
UID:e_100368289_iv0
URL:http://pages.destination.one/de/zweiuferland/streaming/detail/Event/e_1
 00368289/f-hrung-ber-das-klosterareal-unterzell
END:VEVENT
BEGIN:VEVENT
CATEGORIES:Führung/Besichtigung
CATEGORIES:Kirche
DESCRIPTION:\n\nmehr Informationen unter http://pages.destination.one/de/zw
 eiuferland/streaming/detail/Event/e_100368289/f-hrung-ber-das-klosterareal
 -unterzell
DTEND;TZID=Europe/Berlin:20220925T160000
DTSTAMP:20260423T122553Z
DTSTART;TZID=Europe/Berlin:20220925T143000
GEO:49.812579;9.871253
LOCATION:Markt Zell a. Main\, Rathausplatz 8\, Zell am Main
ORGANIZER;CN=AK Kultur Zell am Main:mailto:pichler@zell-main.de
SEQUENCE:0
SUMMARY:Führung über das Klosterareal Unterzell
UID:e_100368289_iv1
URL:http://pages.destination.one/de/zweiuferland/streaming/detail/Event/e_1
 00368289/f-hrung-ber-das-klosterareal-unterzell
END:VEVENT
BEGIN:VEVENT
CATEGORIES:Führung/Besichtigung
CATEGORIES:Kirche
DESCRIPTION:\n\nmehr Informationen unter http://pages.destination.one/de/zw
 eiuferland/streaming/detail/Event/e_100368289/f-hrung-ber-das-klosterareal
 -unterzell
DTEND;TZID=Europe/Berlin:20240428T153000
DTSTAMP:20260423T122553Z
DTSTART;TZID=Europe/Berlin:20240428T140000
GEO:49.812579;9.871253
LOCATION:Markt Zell a. Main\, Rathausplatz 8\, Zell am Main
ORGANIZER;CN=AK Kultur Zell am Main:mailto:pichler@zell-main.de
SEQUENCE:0
SUMMARY:Führung über das Klosterareal Unterzell
UID:e_100368289_iv2
URL:http://pages.destination.one/de/zweiuferland/streaming/detail/Event/e_1
 00368289/f-hrung-ber-das-klosterareal-unterzell
END:VEVENT
BEGIN:VEVENT
CATEGORIES:Führung/Besichtigung
CATEGORIES:Kirche
DESCRIPTION:\n\nmehr Informationen unter http://pages.destination.one/de/zw
 eiuferland/streaming/detail/Event/e_100368289/f-hrung-ber-das-klosterareal
 -unterzell
DTEND;TZID=Europe/Berlin:20241013T153000
DTSTAMP:20260423T122553Z
DTSTART;TZID=Europe/Berlin:20241013T140000
GEO:49.812579;9.871253
LOCATION:Markt Zell a. Main\, Rathausplatz 8\, Zell am Main
ORGANIZER;CN=AK Kultur Zell am Main:mailto:pichler@zell-main.de
SEQUENCE:0
SUMMARY:Führung über das Klosterareal Unterzell
UID:e_100368289_iv3
URL:http://pages.destination.one/de/zweiuferland/streaming/detail/Event/e_1
 00368289/f-hrung-ber-das-klosterareal-unterzell
END:VEVENT
BEGIN:VEVENT
CATEGORIES:Führung/Besichtigung
CATEGORIES:Kirche
DESCRIPTION:\n\nmehr Informationen unter http://pages.destination.one/de/zw
 eiuferland/streaming/detail/Event/e_100368289/f-hrung-ber-das-klosterareal
 -unterzell
DTEND;TZID=Europe/Berlin:20260426T235900
DTSTAMP:20260423T122553Z
DTSTART;TZID=Europe/Berlin:20260426T110000
GEO:49.812579;9.871253
LOCATION:Markt Zell a. Main\, Rathausplatz 8\, Zell am Main
ORGANIZER;CN=AK Kultur Zell am Main:mailto:pichler@zell-main.de
SEQUENCE:0
SUMMARY:Führung über das Klosterareal Unterzell
UID:e_100368289_iv4
URL:http://pages.destination.one/de/zweiuferland/streaming/detail/Event/e_1
 00368289/f-hrung-ber-das-klosterareal-unterzell
END:VEVENT
BEGIN:VTIMEZONE
TZID:Europe/Berlin
X-LIC-LOCATION:Europe/Berlin
BEGIN:DAYLIGHT
DTSTART:19700329T020000
RRULE:FREQ=YEARLY;BYDAY=-1SU;BYMONTH=3
TZNAME:CEST
TZOFFSETFROM:+0100
TZOFFSETTO:+0200
END:DAYLIGHT
BEGIN:STANDARD
DTSTART:19701025T030000
RRULE:FREQ=YEARLY;BYDAY=-1SU;BYMONTH=10
TZNAME:CET
TZOFFSETFROM:+0200
TZOFFSETTO:+0100
END:STANDARD
END:VTIMEZONE
END:VCALENDAR
