BEGIN:VCALENDAR
VERSION:2.0
PRODID:-//destination.one//NONSGML destination.meta API//DE
X-WR-CALDESC:A calendar powered by destination.meta
X-WR-CALNAME:zweiuferland Kalender via destination.meta
BEGIN:VEVENT
CATEGORIES:Brauchtum/Kultur
CATEGORIES:Genuss/Gourmet
CATEGORIES:Party
CATEGORIES:Wanderung
DESCRIPTION:2022 abgesagt und durch Wanderun ersetzt\n\nmehr Informationen 
 unter http://pages.destination.one/de/zweiuferland/streaming/detail/Event/
 e_100367997/kirschbl-tenfest
DTEND;TZID=Europe/Berlin:20210501T235900
DTSTAMP:20260423T121938Z
DTSTART;TZID=Europe/Berlin:20210501T100000
GEO:49.868391;9.783068
LOCATION:Gemeinschaftskirschanlage\, Am Hausberg\, Leinach
ORGANIZER;CN=Obst- und Gartenbauverein Leinach:http://www.ogv-leinach.de/
RRULE:FREQ=YEARLY;UNTIL=20230430T215900;BYMONTH=5;BYMONTHDAY=1
SEQUENCE:0
SUMMARY:Kirschblütenfest
UID:e_100367997_iv0
URL:http://pages.destination.one/de/zweiuferland/streaming/detail/Event/e_1
 00367997/kirschbl-tenfest
END:VEVENT
BEGIN:VEVENT
CATEGORIES:Brauchtum/Kultur
CATEGORIES:Genuss/Gourmet
CATEGORIES:Party
CATEGORIES:Wanderung
DESCRIPTION:2022 abgesagt und durch Wanderun ersetzt\n\nmehr Informationen 
 unter http://pages.destination.one/de/zweiuferland/streaming/detail/Event/
 e_100367997/kirschbl-tenfest
DTEND;TZID=Europe/Berlin:20230501T235900
DTSTAMP:20260423T121938Z
DTSTART;TZID=Europe/Berlin:20230501T113000
GEO:49.868391;9.783068
LOCATION:Gemeinschaftskirschanlage\, Am Hausberg\, Leinach
ORGANIZER;CN=Obst- und Gartenbauverein Leinach:http://www.ogv-leinach.de/
SEQUENCE:0
SUMMARY:Kirschblütenfest
UID:e_100367997_iv1
URL:http://pages.destination.one/de/zweiuferland/streaming/detail/Event/e_1
 00367997/kirschbl-tenfest
END:VEVENT
BEGIN:VEVENT
CATEGORIES:Brauchtum/Kultur
CATEGORIES:Genuss/Gourmet
CATEGORIES:Party
CATEGORIES:Wanderung
DESCRIPTION:2022 abgesagt und durch Wanderun ersetzt\n\nmehr Informationen 
 unter http://pages.destination.one/de/zweiuferland/streaming/detail/Event/
 e_100367997/kirschbl-tenfest
DTEND;TZID=Europe/Berlin:20240501T235900
DTSTAMP:20260423T121938Z
DTSTART;TZID=Europe/Berlin:20240501T100000
GEO:49.868391;9.783068
LOCATION:Gemeinschaftskirschanlage\, Am Hausberg\, Leinach
ORGANIZER;CN=Obst- und Gartenbauverein Leinach:http://www.ogv-leinach.de/
RRULE:FREQ=YEARLY;COUNT=47;BYMONTH=5;BYMONTHDAY=1
SEQUENCE:0
SUMMARY:Kirschblütenfest
UID:e_100367997_iv2
URL:http://pages.destination.one/de/zweiuferland/streaming/detail/Event/e_1
 00367997/kirschbl-tenfest
END:VEVENT
BEGIN:VTIMEZONE
TZID:Europe/Berlin
X-LIC-LOCATION:Europe/Berlin
BEGIN:DAYLIGHT
DTSTART:19700329T020000
RRULE:FREQ=YEARLY;BYDAY=-1SU;BYMONTH=3
TZNAME:CEST
TZOFFSETFROM:+0100
TZOFFSETTO:+0200
END:DAYLIGHT
BEGIN:STANDARD
DTSTART:19701025T030000
RRULE:FREQ=YEARLY;BYDAY=-1SU;BYMONTH=10
TZNAME:CET
TZOFFSETFROM:+0200
TZOFFSETTO:+0100
END:STANDARD
END:VTIMEZONE
END:VCALENDAR
