BEGIN:VCALENDAR
VERSION:2.0
PRODID:-//destination.one//NONSGML destination.meta API//DE
X-WR-CALDESC:A calendar powered by destination.meta
X-WR-CALNAME:zweiuferland Kalender via destination.meta
BEGIN:VEVENT
CATEGORIES:Gastronomie
CATEGORIES:Genuss/Gourmet
CATEGORIES:Regionale Spezialitäten
CATEGORIES:Sonstiges
CATEGORIES:Wein
DESCRIPTION:\n\nmehr Informationen unter http://pages.destination.one/de/zw
 eiuferland/streaming/detail/Event/e_100343416/heckenwirtschaft-weingut-hes
 sler
DTEND;TZID=Europe/Berlin:20211019T220000
DTSTAMP:20260421T103923Z
DTSTART;TZID=Europe/Berlin:20211019T160000
GEO:49.833026;9.896977
LOCATION:Weingut Hessler\, Wolfstalstraße 1\, Veitshöchheim
ORGANIZER;CN=Weingut Hessler:mailto:info@weingut-hessler.de
RRULE:FREQ=WEEKLY;UNTIL=20211030T140000;BYDAY=TU,WE,TH,FR,SA
SEQUENCE:0
SUMMARY:Heckenwirtschaft Weingut Hessler
UID:e_100343416_iv0
URL:http://pages.destination.one/de/zweiuferland/streaming/detail/Event/e_1
 00343416/heckenwirtschaft-weingut-hessler
END:VEVENT
BEGIN:VEVENT
CATEGORIES:Gastronomie
CATEGORIES:Genuss/Gourmet
CATEGORIES:Regionale Spezialitäten
CATEGORIES:Sonstiges
CATEGORIES:Wein
DESCRIPTION:\n\nmehr Informationen unter http://pages.destination.one/de/zw
 eiuferland/streaming/detail/Event/e_100343416/heckenwirtschaft-weingut-hes
 sler
DTEND;TZID=Europe/Berlin:20260310T220000
DTSTAMP:20260421T103923Z
DTSTART;TZID=Europe/Berlin:20260310T170000
GEO:49.833026;9.896977
LOCATION:Weingut Hessler\, Wolfstalstraße 1\, Veitshöchheim
ORGANIZER;CN=Weingut Hessler:mailto:info@weingut-hessler.de
RRULE:FREQ=DAILY;UNTIL=20260314T160000
SEQUENCE:0
SUMMARY:Heckenwirtschaft Weingut Hessler
UID:e_100343416_iv1
URL:http://pages.destination.one/de/zweiuferland/streaming/detail/Event/e_1
 00343416/heckenwirtschaft-weingut-hessler
END:VEVENT
BEGIN:VEVENT
CATEGORIES:Gastronomie
CATEGORIES:Genuss/Gourmet
CATEGORIES:Regionale Spezialitäten
CATEGORIES:Sonstiges
CATEGORIES:Wein
DESCRIPTION:\n\nmehr Informationen unter http://pages.destination.one/de/zw
 eiuferland/streaming/detail/Event/e_100343416/heckenwirtschaft-weingut-hes
 sler
DTEND;TZID=Europe/Berlin:20260414T220000
DTSTAMP:20260421T103923Z
DTSTART;TZID=Europe/Berlin:20260414T160000
GEO:49.833026;9.896977
LOCATION:Weingut Hessler\, Wolfstalstraße 1\, Veitshöchheim
ORGANIZER;CN=Weingut Hessler:mailto:info@weingut-hessler.de
RRULE:FREQ=DAILY;UNTIL=20260418T200000
SEQUENCE:0
SUMMARY:Heckenwirtschaft Weingut Hessler
UID:e_100343416_iv2
URL:http://pages.destination.one/de/zweiuferland/streaming/detail/Event/e_1
 00343416/heckenwirtschaft-weingut-hessler
END:VEVENT
BEGIN:VEVENT
CATEGORIES:Gastronomie
CATEGORIES:Genuss/Gourmet
CATEGORIES:Regionale Spezialitäten
CATEGORIES:Sonstiges
CATEGORIES:Wein
DESCRIPTION:\n\nmehr Informationen unter http://pages.destination.one/de/zw
 eiuferland/streaming/detail/Event/e_100343416/heckenwirtschaft-weingut-hes
 sler
DTEND;TZID=Europe/Berlin:20260421T220000
DTSTAMP:20260421T103923Z
DTSTART;TZID=Europe/Berlin:20260421T160000
GEO:49.833026;9.896977
LOCATION:Weingut Hessler\, Wolfstalstraße 1\, Veitshöchheim
ORGANIZER;CN=Weingut Hessler:mailto:info@weingut-hessler.de
RRULE:FREQ=DAILY;UNTIL=20260424T200000
SEQUENCE:0
SUMMARY:Heckenwirtschaft Weingut Hessler
UID:e_100343416_iv3
URL:http://pages.destination.one/de/zweiuferland/streaming/detail/Event/e_1
 00343416/heckenwirtschaft-weingut-hessler
END:VEVENT
BEGIN:VTIMEZONE
TZID:Europe/Berlin
X-LIC-LOCATION:Europe/Berlin
BEGIN:DAYLIGHT
DTSTART:19700329T020000
RRULE:FREQ=YEARLY;BYDAY=-1SU;BYMONTH=3
TZNAME:CEST
TZOFFSETFROM:+0100
TZOFFSETTO:+0200
END:DAYLIGHT
BEGIN:STANDARD
DTSTART:19701025T030000
RRULE:FREQ=YEARLY;BYDAY=-1SU;BYMONTH=10
TZNAME:CET
TZOFFSETFROM:+0200
TZOFFSETTO:+0100
END:STANDARD
END:VTIMEZONE
END:VCALENDAR
