BEGIN:VCALENDAR
VERSION:2.0
PRODID:-//destination.one//NONSGML destination.meta API//DE
X-WR-CALDESC:A calendar powered by destination.meta
X-WR-CALNAME:zweiuferland Kalender via destination.meta
BEGIN:VEVENT
CATEGORIES:Markt
CATEGORIES:Regionale Spezialitäten
DESCRIPTION:Wöchentlicher Bauernmarkt in Zell am Main\, neben dem MaxlBäck\
 n\nmehr Informationen unter http://pages.destination.one/de/zweiuferland/s
 treaming/detail/Event/e_100285426/bauernmarkt-in-zell-am-main
DTEND;TZID=Europe/Berlin:20210305T130000
DTSTAMP:20260423T122938Z
DTSTART;TZID=Europe/Berlin:20210305T090000
GEO:49.813481;9.870787
LOCATION:Neue Mitte Zell\, Fahrmannstraße\, Zell am Main
ORGANIZER;CN=Markt Zell a. Main:mailto:rathaus@zell-main.de
RRULE:FREQ=WEEKLY;UNTIL=20220203T120000;BYDAY=FR
SEQUENCE:0
SUMMARY:Bauernmarkt in Zell am Main
UID:e_100285426_iv0
URL:http://pages.destination.one/de/zweiuferland/streaming/detail/Event/e_1
 00285426/bauernmarkt-in-zell-am-main
END:VEVENT
BEGIN:VEVENT
CATEGORIES:Markt
CATEGORIES:Regionale Spezialitäten
DESCRIPTION:Wöchentlicher Bauernmarkt in Zell am Main\, neben dem MaxlBäck\
 n\nmehr Informationen unter http://pages.destination.one/de/zweiuferland/s
 treaming/detail/Event/e_100285426/bauernmarkt-in-zell-am-main
DTEND;TZID=Europe/Berlin:20220204T130000
DTSTAMP:20260423T122938Z
DTSTART;TZID=Europe/Berlin:20220204T090000
GEO:49.813481;9.870787
LOCATION:Neue Mitte Zell\, Fahrmannstraße\, Zell am Main
ORGANIZER;CN=Markt Zell a. Main:mailto:rathaus@zell-main.de
SEQUENCE:0
SUMMARY:Bauernmarkt in Zell am Main
UID:e_100285426_iv1
URL:http://pages.destination.one/de/zweiuferland/streaming/detail/Event/e_1
 00285426/bauernmarkt-in-zell-am-main
END:VEVENT
BEGIN:VEVENT
CATEGORIES:Markt
CATEGORIES:Regionale Spezialitäten
DESCRIPTION:Wöchentlicher Bauernmarkt in Zell am Main\, neben dem MaxlBäck\
 n\nmehr Informationen unter http://pages.destination.one/de/zweiuferland/s
 treaming/detail/Event/e_100285426/bauernmarkt-in-zell-am-main
DTEND;TZID=Europe/Berlin:20220211T130000
DTSTAMP:20260423T122938Z
DTSTART;TZID=Europe/Berlin:20220211T090000
GEO:49.813481;9.870787
LOCATION:Neue Mitte Zell\, Fahrmannstraße\, Zell am Main
ORGANIZER;CN=Markt Zell a. Main:mailto:rathaus@zell-main.de
RRULE:FREQ=WEEKLY;BYDAY=FR
SEQUENCE:0
SUMMARY:Bauernmarkt in Zell am Main
UID:e_100285426_iv2
URL:http://pages.destination.one/de/zweiuferland/streaming/detail/Event/e_1
 00285426/bauernmarkt-in-zell-am-main
END:VEVENT
BEGIN:VTIMEZONE
TZID:Europe/Berlin
X-LIC-LOCATION:Europe/Berlin
BEGIN:DAYLIGHT
DTSTART:19700329T020000
RRULE:FREQ=YEARLY;BYDAY=-1SU;BYMONTH=3
TZNAME:CEST
TZOFFSETFROM:+0100
TZOFFSETTO:+0200
END:DAYLIGHT
BEGIN:STANDARD
DTSTART:19701025T030000
RRULE:FREQ=YEARLY;BYDAY=-1SU;BYMONTH=10
TZNAME:CET
TZOFFSETFROM:+0200
TZOFFSETTO:+0100
END:STANDARD
END:VTIMEZONE
END:VCALENDAR
