BEGIN:VCALENDAR
VERSION:2.0
PRODID:-//destination.one//NONSGML destination.meta API//DE
X-WR-CALDESC:A calendar powered by destination.meta
X-WR-CALNAME:wernigerode Kalender via destination.meta
BEGIN:VEVENT
CATEGORIES:RadEvents
CATEGORIES:Radsport
DESCRIPTION:The Gravel Fest ist im Harz\n\nmehr Informationen unter http://
 pages.destination.one/de/wernigerode/streaming/detail/Event/e_100984985/th
 e-gravel-fest
DTEND;TZID=Europe/Berlin:20260514T220000
DTSTAMP:20260421T145200Z
DTSTART;TZID=Europe/Berlin:20260514T160000
GEO:51.764175;10.659313
LOCATION:Kurpark Schierke\, Brockenstraße\, Wernigerode OT Schierke
ORGANIZER;CN=THE LIVE X PERIENCE GmbH:mailto:info@thegravelfest.com
SEQUENCE:0
SUMMARY:THE GRAVEL FEST
UID:e_100984985_iv0
URL:http://pages.destination.one/de/wernigerode/streaming/detail/Event/e_10
 0984985/the-gravel-fest
END:VEVENT
BEGIN:VEVENT
CATEGORIES:RadEvents
CATEGORIES:Radsport
DESCRIPTION:The Gravel Fest ist im Harz\n\nmehr Informationen unter http://
 pages.destination.one/de/wernigerode/streaming/detail/Event/e_100984985/th
 e-gravel-fest
DTEND;TZID=Europe/Berlin:20260515T233000
DTSTAMP:20260421T145200Z
DTSTART;TZID=Europe/Berlin:20260515T080000
GEO:51.764175;10.659313
LOCATION:Kurpark Schierke\, Brockenstraße\, Wernigerode OT Schierke
ORGANIZER;CN=THE LIVE X PERIENCE GmbH:mailto:info@thegravelfest.com
SEQUENCE:0
SUMMARY:THE GRAVEL FEST
UID:e_100984985_iv1
URL:http://pages.destination.one/de/wernigerode/streaming/detail/Event/e_10
 0984985/the-gravel-fest
END:VEVENT
BEGIN:VEVENT
CATEGORIES:RadEvents
CATEGORIES:Radsport
DESCRIPTION:The Gravel Fest ist im Harz\n\nmehr Informationen unter http://
 pages.destination.one/de/wernigerode/streaming/detail/Event/e_100984985/th
 e-gravel-fest
DTEND;TZID=Europe/Berlin:20260516T220000
DTSTAMP:20260421T145200Z
DTSTART;TZID=Europe/Berlin:20260516T080000
GEO:51.764175;10.659313
LOCATION:Kurpark Schierke\, Brockenstraße\, Wernigerode OT Schierke
ORGANIZER;CN=THE LIVE X PERIENCE GmbH:mailto:info@thegravelfest.com
SEQUENCE:0
SUMMARY:THE GRAVEL FEST
UID:e_100984985_iv2
URL:http://pages.destination.one/de/wernigerode/streaming/detail/Event/e_10
 0984985/the-gravel-fest
END:VEVENT
BEGIN:VEVENT
CATEGORIES:RadEvents
CATEGORIES:Radsport
DESCRIPTION:The Gravel Fest ist im Harz\n\nmehr Informationen unter http://
 pages.destination.one/de/wernigerode/streaming/detail/Event/e_100984985/th
 e-gravel-fest
DTEND;TZID=Europe/Berlin:20260517T160000
DTSTAMP:20260421T145200Z
DTSTART;TZID=Europe/Berlin:20260517T080000
GEO:51.764175;10.659313
LOCATION:Kurpark Schierke\, Brockenstraße\, Wernigerode OT Schierke
ORGANIZER;CN=THE LIVE X PERIENCE GmbH:mailto:info@thegravelfest.com
SEQUENCE:0
SUMMARY:THE GRAVEL FEST
UID:e_100984985_iv3
URL:http://pages.destination.one/de/wernigerode/streaming/detail/Event/e_10
 0984985/the-gravel-fest
END:VEVENT
BEGIN:VTIMEZONE
TZID:Europe/Berlin
X-LIC-LOCATION:Europe/Berlin
BEGIN:DAYLIGHT
DTSTART:19700329T020000
RRULE:FREQ=YEARLY;BYDAY=-1SU;BYMONTH=3
TZNAME:CEST
TZOFFSETFROM:+0100
TZOFFSETTO:+0200
END:DAYLIGHT
BEGIN:STANDARD
DTSTART:19701025T030000
RRULE:FREQ=YEARLY;BYDAY=-1SU;BYMONTH=10
TZNAME:CET
TZOFFSETFROM:+0200
TZOFFSETTO:+0100
END:STANDARD
END:VTIMEZONE
END:VCALENDAR
