BEGIN:VCALENDAR
VERSION:2.0
PRODID:-//destination.one//NONSGML destination.meta API//DE
X-WR-CALDESC:A calendar powered by destination.meta
X-WR-CALNAME:usedomer-bernsteinbaeder Kalender via destination.meta
BEGIN:VEVENT
CATEGORIES:Musik
CATEGORIES:Open Air
CATEGORIES:Highlights
DESCRIPTION:\n\nmehr Informationen unter http://pages.destination.one/de/us
 edomer-bernsteinbaeder/streaming/detail/Event/e_100131529/26-countryfest
DTEND;TZID=Europe/Berlin:20180817T235900
DTSTAMP:20260420T063434Z
DTSTART;TZID=Europe/Berlin:20180817T180000
GEO:54.056375;14.003299
LOCATION:auf dem Kurplatz\, Vinetastr.\, Koserow
ORGANIZER;CN=Kurverwaltung Koserow:mailto:info@seebad-koserow.de
PRIORITY:4
SEQUENCE:0
SUMMARY:26. Countryfest
UID:e_100131529_iv0
URL:http://pages.destination.one/de/usedomer-bernsteinbaeder/streaming/deta
 il/Event/e_100131529/26-countryfest
END:VEVENT
BEGIN:VEVENT
CATEGORIES:Musik
CATEGORIES:Open Air
CATEGORIES:Highlights
DESCRIPTION:\n\nmehr Informationen unter http://pages.destination.one/de/us
 edomer-bernsteinbaeder/streaming/detail/Event/e_100131529/26-countryfest
DTEND;TZID=Europe/Berlin:20180818T235900
DTSTAMP:20260420T063434Z
DTSTART;TZID=Europe/Berlin:20180818T150000
GEO:54.056375;14.003299
LOCATION:auf dem Kurplatz\, Vinetastr.\, Koserow
ORGANIZER;CN=Kurverwaltung Koserow:mailto:info@seebad-koserow.de
PRIORITY:4
SEQUENCE:0
SUMMARY:26. Countryfest
UID:e_100131529_iv1
URL:http://pages.destination.one/de/usedomer-bernsteinbaeder/streaming/deta
 il/Event/e_100131529/26-countryfest
END:VEVENT
BEGIN:VEVENT
CATEGORIES:Musik
CATEGORIES:Open Air
CATEGORIES:Highlights
DESCRIPTION:\n\nmehr Informationen unter http://pages.destination.one/de/us
 edomer-bernsteinbaeder/streaming/detail/Event/e_100131529/26-countryfest
DTEND;TZID=Europe/Berlin:20190816T235900
DTSTAMP:20260420T063434Z
DTSTART;TZID=Europe/Berlin:20190816T180000
GEO:54.056375;14.003299
LOCATION:auf dem Kurplatz\, Vinetastr.\, Koserow
ORGANIZER;CN=Kurverwaltung Koserow:mailto:info@seebad-koserow.de
PRIORITY:4
SEQUENCE:0
SUMMARY:26. Countryfest
UID:e_100131529_iv2
URL:http://pages.destination.one/de/usedomer-bernsteinbaeder/streaming/deta
 il/Event/e_100131529/26-countryfest
END:VEVENT
BEGIN:VEVENT
CATEGORIES:Musik
CATEGORIES:Open Air
CATEGORIES:Highlights
DESCRIPTION:\n\nmehr Informationen unter http://pages.destination.one/de/us
 edomer-bernsteinbaeder/streaming/detail/Event/e_100131529/26-countryfest
DTEND;TZID=Europe/Berlin:20190817T235900
DTSTAMP:20260420T063434Z
DTSTART;TZID=Europe/Berlin:20190817T150000
GEO:54.056375;14.003299
LOCATION:auf dem Kurplatz\, Vinetastr.\, Koserow
ORGANIZER;CN=Kurverwaltung Koserow:mailto:info@seebad-koserow.de
PRIORITY:4
SEQUENCE:0
SUMMARY:26. Countryfest
UID:e_100131529_iv3
URL:http://pages.destination.one/de/usedomer-bernsteinbaeder/streaming/deta
 il/Event/e_100131529/26-countryfest
END:VEVENT
BEGIN:VEVENT
CATEGORIES:Musik
CATEGORIES:Open Air
CATEGORIES:Highlights
DESCRIPTION:\n\nmehr Informationen unter http://pages.destination.one/de/us
 edomer-bernsteinbaeder/streaming/detail/Event/e_100131529/26-countryfest
DTEND;TZID=Europe/Berlin:20200814T220000
DTSTAMP:20260420T063434Z
DTSTART;TZID=Europe/Berlin:20200814T180000
GEO:54.056375;14.003299
LOCATION:auf dem Kurplatz\, Vinetastr.\, Koserow
ORGANIZER;CN=Kurverwaltung Koserow:mailto:info@seebad-koserow.de
PRIORITY:4
SEQUENCE:0
SUMMARY:26. Countryfest
UID:e_100131529_iv4
URL:http://pages.destination.one/de/usedomer-bernsteinbaeder/streaming/deta
 il/Event/e_100131529/26-countryfest
END:VEVENT
BEGIN:VEVENT
CATEGORIES:Musik
CATEGORIES:Open Air
CATEGORIES:Highlights
DESCRIPTION:\n\nmehr Informationen unter http://pages.destination.one/de/us
 edomer-bernsteinbaeder/streaming/detail/Event/e_100131529/26-countryfest
DTEND;TZID=Europe/Berlin:20200816T000000
DTSTAMP:20260420T063434Z
DTSTART;TZID=Europe/Berlin:20200815T150000
GEO:54.056375;14.003299
LOCATION:auf dem Kurplatz\, Vinetastr.\, Koserow
ORGANIZER;CN=Kurverwaltung Koserow:mailto:info@seebad-koserow.de
PRIORITY:4
SEQUENCE:0
SUMMARY:26. Countryfest
UID:e_100131529_iv5
URL:http://pages.destination.one/de/usedomer-bernsteinbaeder/streaming/deta
 il/Event/e_100131529/26-countryfest
END:VEVENT
BEGIN:VEVENT
CATEGORIES:Musik
CATEGORIES:Open Air
CATEGORIES:Highlights
DESCRIPTION:\n\nmehr Informationen unter http://pages.destination.one/de/us
 edomer-bernsteinbaeder/streaming/detail/Event/e_100131529/26-countryfest
DTEND;TZID=Europe/Berlin:20210813T220000
DTSTAMP:20260420T063434Z
DTSTART;TZID=Europe/Berlin:20210813T180000
GEO:54.056375;14.003299
LOCATION:auf dem Kurplatz\, Vinetastr.\, Koserow
ORGANIZER;CN=Kurverwaltung Koserow:mailto:info@seebad-koserow.de
PRIORITY:4
SEQUENCE:0
SUMMARY:26. Countryfest
UID:e_100131529_iv6
URL:http://pages.destination.one/de/usedomer-bernsteinbaeder/streaming/deta
 il/Event/e_100131529/26-countryfest
END:VEVENT
BEGIN:VEVENT
CATEGORIES:Musik
CATEGORIES:Open Air
CATEGORIES:Highlights
DESCRIPTION:\n\nmehr Informationen unter http://pages.destination.one/de/us
 edomer-bernsteinbaeder/streaming/detail/Event/e_100131529/26-countryfest
DTEND;TZID=Europe/Berlin:20210814T234500
DTSTAMP:20260420T063434Z
DTSTART;TZID=Europe/Berlin:20210814T150000
GEO:54.056375;14.003299
LOCATION:auf dem Kurplatz\, Vinetastr.\, Koserow
ORGANIZER;CN=Kurverwaltung Koserow:mailto:info@seebad-koserow.de
PRIORITY:4
SEQUENCE:0
SUMMARY:26. Countryfest
UID:e_100131529_iv7
URL:http://pages.destination.one/de/usedomer-bernsteinbaeder/streaming/deta
 il/Event/e_100131529/26-countryfest
END:VEVENT
BEGIN:VEVENT
CATEGORIES:Musik
CATEGORIES:Open Air
CATEGORIES:Highlights
DESCRIPTION:\n\nmehr Informationen unter http://pages.destination.one/de/us
 edomer-bernsteinbaeder/streaming/detail/Event/e_100131529/26-countryfest
DTEND;TZID=Europe/Berlin:20220819T220000
DTSTAMP:20260420T063434Z
DTSTART;TZID=Europe/Berlin:20220819T180000
GEO:54.056375;14.003299
LOCATION:auf dem Kurplatz\, Vinetastr.\, Koserow
ORGANIZER;CN=Kurverwaltung Koserow:mailto:info@seebad-koserow.de
PRIORITY:4
SEQUENCE:0
SUMMARY:26. Countryfest
UID:e_100131529_iv8
URL:http://pages.destination.one/de/usedomer-bernsteinbaeder/streaming/deta
 il/Event/e_100131529/26-countryfest
END:VEVENT
BEGIN:VEVENT
CATEGORIES:Musik
CATEGORIES:Open Air
CATEGORIES:Highlights
DESCRIPTION:\n\nmehr Informationen unter http://pages.destination.one/de/us
 edomer-bernsteinbaeder/streaming/detail/Event/e_100131529/26-countryfest
DTEND;TZID=Europe/Berlin:20220821T010000
DTSTAMP:20260420T063434Z
DTSTART;TZID=Europe/Berlin:20220820T150000
GEO:54.056375;14.003299
LOCATION:auf dem Kurplatz\, Vinetastr.\, Koserow
ORGANIZER;CN=Kurverwaltung Koserow:mailto:info@seebad-koserow.de
PRIORITY:4
SEQUENCE:0
SUMMARY:26. Countryfest
UID:e_100131529_iv9
URL:http://pages.destination.one/de/usedomer-bernsteinbaeder/streaming/deta
 il/Event/e_100131529/26-countryfest
END:VEVENT
BEGIN:VEVENT
CATEGORIES:Musik
CATEGORIES:Open Air
CATEGORIES:Highlights
DESCRIPTION:\n\nmehr Informationen unter http://pages.destination.one/de/us
 edomer-bernsteinbaeder/streaming/detail/Event/e_100131529/26-countryfest
DTEND;TZID=Europe/Berlin:20230818T220000
DTSTAMP:20260420T063434Z
DTSTART;TZID=Europe/Berlin:20230818T180000
GEO:54.056375;14.003299
LOCATION:auf dem Kurplatz\, Vinetastr.\, Koserow
ORGANIZER;CN=Kurverwaltung Koserow:mailto:info@seebad-koserow.de
PRIORITY:4
SEQUENCE:0
SUMMARY:26. Countryfest
UID:e_100131529_iv10
URL:http://pages.destination.one/de/usedomer-bernsteinbaeder/streaming/deta
 il/Event/e_100131529/26-countryfest
END:VEVENT
BEGIN:VEVENT
CATEGORIES:Musik
CATEGORIES:Open Air
CATEGORIES:Highlights
DESCRIPTION:\n\nmehr Informationen unter http://pages.destination.one/de/us
 edomer-bernsteinbaeder/streaming/detail/Event/e_100131529/26-countryfest
DTEND;TZID=Europe/Berlin:20230819T235900
DTSTAMP:20260420T063434Z
DTSTART;TZID=Europe/Berlin:20230819T150000
GEO:54.056375;14.003299
LOCATION:auf dem Kurplatz\, Vinetastr.\, Koserow
ORGANIZER;CN=Kurverwaltung Koserow:mailto:info@seebad-koserow.de
PRIORITY:4
SEQUENCE:0
SUMMARY:26. Countryfest
UID:e_100131529_iv11
URL:http://pages.destination.one/de/usedomer-bernsteinbaeder/streaming/deta
 il/Event/e_100131529/26-countryfest
END:VEVENT
BEGIN:VEVENT
CATEGORIES:Musik
CATEGORIES:Open Air
CATEGORIES:Highlights
DESCRIPTION:\n\nmehr Informationen unter http://pages.destination.one/de/us
 edomer-bernsteinbaeder/streaming/detail/Event/e_100131529/26-countryfest
DTEND;TZID=Europe/Berlin:20240816T220000
DTSTAMP:20260420T063434Z
DTSTART;TZID=Europe/Berlin:20240816T180000
GEO:54.056375;14.003299
LOCATION:auf dem Kurplatz\, Vinetastr.\, Koserow
ORGANIZER;CN=Kurverwaltung Koserow:mailto:info@seebad-koserow.de
PRIORITY:4
SEQUENCE:0
SUMMARY:26. Countryfest
UID:e_100131529_iv12
URL:http://pages.destination.one/de/usedomer-bernsteinbaeder/streaming/deta
 il/Event/e_100131529/26-countryfest
END:VEVENT
BEGIN:VEVENT
CATEGORIES:Musik
CATEGORIES:Open Air
CATEGORIES:Highlights
DESCRIPTION:\n\nmehr Informationen unter http://pages.destination.one/de/us
 edomer-bernsteinbaeder/streaming/detail/Event/e_100131529/26-countryfest
DTEND;TZID=Europe/Berlin:20240818T230000
DTSTAMP:20260420T063434Z
DTSTART;TZID=Europe/Berlin:20240817T150000
GEO:54.056375;14.003299
LOCATION:auf dem Kurplatz\, Vinetastr.\, Koserow
ORGANIZER;CN=Kurverwaltung Koserow:mailto:info@seebad-koserow.de
PRIORITY:4
SEQUENCE:0
SUMMARY:26. Countryfest
UID:e_100131529_iv13
URL:http://pages.destination.one/de/usedomer-bernsteinbaeder/streaming/deta
 il/Event/e_100131529/26-countryfest
END:VEVENT
BEGIN:VEVENT
CATEGORIES:Musik
CATEGORIES:Open Air
CATEGORIES:Highlights
DESCRIPTION:\n\nmehr Informationen unter http://pages.destination.one/de/us
 edomer-bernsteinbaeder/streaming/detail/Event/e_100131529/26-countryfest
DTEND;TZID=Europe/Berlin:20260814T230000
DTSTAMP:20260420T063434Z
DTSTART;TZID=Europe/Berlin:20260814T180000
GEO:54.056375;14.003299
LOCATION:auf dem Kurplatz\, Vinetastr.\, Koserow
ORGANIZER;CN=Kurverwaltung Koserow:mailto:info@seebad-koserow.de
PRIORITY:4
SEQUENCE:0
SUMMARY:26. Countryfest
UID:e_100131529_iv14
URL:http://pages.destination.one/de/usedomer-bernsteinbaeder/streaming/deta
 il/Event/e_100131529/26-countryfest
END:VEVENT
BEGIN:VEVENT
CATEGORIES:Musik
CATEGORIES:Open Air
CATEGORIES:Highlights
DESCRIPTION:\n\nmehr Informationen unter http://pages.destination.one/de/us
 edomer-bernsteinbaeder/streaming/detail/Event/e_100131529/26-countryfest
DTEND;TZID=Europe/Berlin:20260815T230000
DTSTAMP:20260420T063434Z
DTSTART;TZID=Europe/Berlin:20260815T150000
GEO:54.056375;14.003299
LOCATION:auf dem Kurplatz\, Vinetastr.\, Koserow
ORGANIZER;CN=Kurverwaltung Koserow:mailto:info@seebad-koserow.de
PRIORITY:4
SEQUENCE:0
SUMMARY:26. Countryfest
UID:e_100131529_iv15
URL:http://pages.destination.one/de/usedomer-bernsteinbaeder/streaming/deta
 il/Event/e_100131529/26-countryfest
END:VEVENT
BEGIN:VTIMEZONE
TZID:Europe/Berlin
X-LIC-LOCATION:Europe/Berlin
BEGIN:DAYLIGHT
DTSTART:19700329T020000
RRULE:FREQ=YEARLY;BYDAY=-1SU;BYMONTH=3
TZNAME:CEST
TZOFFSETFROM:+0100
TZOFFSETTO:+0200
END:DAYLIGHT
BEGIN:STANDARD
DTSTART:19701025T030000
RRULE:FREQ=YEARLY;BYDAY=-1SU;BYMONTH=10
TZNAME:CET
TZOFFSETFROM:+0200
TZOFFSETTO:+0100
END:STANDARD
END:VTIMEZONE
END:VCALENDAR
