BEGIN:VCALENDAR
VERSION:2.0
PRODID:-//destination.one//NONSGML destination.meta API//DE
X-WR-CALDESC:A calendar powered by destination.meta
X-WR-CALNAME:usedom Kalender via destination.meta
BEGIN:VEVENT
CATEGORIES:Führung/Exkursion
CATEGORIES:UsedomCard
DESCRIPTION:\n\nmehr Informationen unter http://pages.destination.one/de/us
 edom/streaming/detail/Event/e_100126806/historische-rundfahrt-peenem-nde
DTEND;TZID=Europe/Berlin:20250401T110000
DTSTAMP:20260422T023057Z
DTSTART;TZID=Europe/Berlin:20250401T090000
GEO:54.116848;13.829568
LOCATION:Haus des Gastes\, Hauptstraße 4\, Karlshagen
ORGANIZER;CN=Museumsverein Peenemünde e. V.:mailto:info@peenemuende-west.de
PRIORITY:4
RRULE:FREQ=WEEKLY;UNTIL=20251031T100000;BYDAY=TU
SEQUENCE:0
SUMMARY:Historische Rundfahrt Peenemünde
UID:e_100126806_iv0
URL:http://pages.destination.one/de/usedom/streaming/detail/Event/e_1001268
 06/historische-rundfahrt-peenem-nde
END:VEVENT
BEGIN:VEVENT
CATEGORIES:Führung/Exkursion
CATEGORIES:UsedomCard
DESCRIPTION:\n\nmehr Informationen unter http://pages.destination.one/de/us
 edom/streaming/detail/Event/e_100126806/historische-rundfahrt-peenem-nde
DTEND;TZID=Europe/Berlin:20250601T110000
DTSTAMP:20260422T023057Z
DTSTART;TZID=Europe/Berlin:20250601T090000
GEO:54.116848;13.829568
LOCATION:Haus des Gastes\, Hauptstraße 4\, Karlshagen
ORGANIZER;CN=Museumsverein Peenemünde e. V.:mailto:info@peenemuende-west.de
PRIORITY:4
RRULE:FREQ=WEEKLY;UNTIL=20250930T090000;BYDAY=TH
SEQUENCE:0
SUMMARY:Historische Rundfahrt Peenemünde
UID:e_100126806_iv1
URL:http://pages.destination.one/de/usedom/streaming/detail/Event/e_1001268
 06/historische-rundfahrt-peenem-nde
END:VEVENT
BEGIN:VEVENT
CATEGORIES:Führung/Exkursion
CATEGORIES:UsedomCard
DESCRIPTION:\n\nmehr Informationen unter http://pages.destination.one/de/us
 edom/streaming/detail/Event/e_100126806/historische-rundfahrt-peenem-nde
DTEND;TZID=Europe/Berlin:20260505T110000
DTSTAMP:20260422T023057Z
DTSTART;TZID=Europe/Berlin:20260505T090000
GEO:54.116848;13.829568
LOCATION:Haus des Gastes\, Hauptstraße 4\, Karlshagen
ORGANIZER;CN=Museumsverein Peenemünde e. V.:mailto:info@peenemuende-west.de
PRIORITY:4
RRULE:FREQ=WEEKLY;UNTIL=20260526T090000;BYDAY=TU
SEQUENCE:0
SUMMARY:Historische Rundfahrt Peenemünde
UID:e_100126806_iv2
URL:http://pages.destination.one/de/usedom/streaming/detail/Event/e_1001268
 06/historische-rundfahrt-peenem-nde
END:VEVENT
BEGIN:VTIMEZONE
TZID:Europe/Berlin
X-LIC-LOCATION:Europe/Berlin
BEGIN:DAYLIGHT
DTSTART:19700329T020000
RRULE:FREQ=YEARLY;BYDAY=-1SU;BYMONTH=3
TZNAME:CEST
TZOFFSETFROM:+0100
TZOFFSETTO:+0200
END:DAYLIGHT
BEGIN:STANDARD
DTSTART:19701025T030000
RRULE:FREQ=YEARLY;BYDAY=-1SU;BYMONTH=10
TZNAME:CET
TZOFFSETFROM:+0200
TZOFFSETTO:+0100
END:STANDARD
END:VTIMEZONE
END:VCALENDAR
