BEGIN:VCALENDAR
VERSION:2.0
PRODID:-//destination.one//NONSGML destination.meta API//DE
X-WR-CALDESC:A calendar powered by destination.meta
X-WR-CALNAME:thueringer-staedte Kalender via destination.meta
BEGIN:VEVENT
CATEGORIES:Konzerte\, Festivals\, Show & Tanz
CATEGORIES:Märkte & Feste
CATEGORIES:Kinder
CATEGORIES:Sonstiges
CATEGORIES:Essen & Trinken
DESCRIPTION:Mitternachtsshopping in der Suhler Innenstadt zu Halloween\n\nm
 ehr Informationen unter http://pages.destination.one/de/thueringer-staedte
 /streaming/detail/Event/e_100160846/mitternachtsshopping-halloween-in-suhl
DTEND;TZID=Europe/Berlin:20181031T010000
DTSTAMP:20260423T123449Z
DTSTART;TZID=Europe/Berlin:20181030T180000
GEO:50.609389;10.691586
LOCATION:Stadtmarketingverein Suhl e.V.\, \, Suhl
ORGANIZER;CN=Stadtmarketingverein Suhl e.V.:mailto:info@stadtmarketing-suhl
 .de
SEQUENCE:0
SUMMARY:Mitternachtsshopping Halloween in Suhl
UID:e_100160846_iv0
URL:http://pages.destination.one/de/thueringer-staedte/streaming/detail/Eve
 nt/e_100160846/mitternachtsshopping-halloween-in-suhl
END:VEVENT
BEGIN:VEVENT
CATEGORIES:Konzerte\, Festivals\, Show & Tanz
CATEGORIES:Märkte & Feste
CATEGORIES:Kinder
CATEGORIES:Sonstiges
CATEGORIES:Essen & Trinken
DESCRIPTION:Mitternachtsshopping in der Suhler Innenstadt zu Halloween\n\nm
 ehr Informationen unter http://pages.destination.one/de/thueringer-staedte
 /streaming/detail/Event/e_100160846/mitternachtsshopping-halloween-in-suhl
DTEND;TZID=Europe/Berlin:20191030T235900
DTSTAMP:20260423T123449Z
DTSTART;TZID=Europe/Berlin:20191030T180000
GEO:50.609389;10.691586
LOCATION:Stadtmarketingverein Suhl e.V.\, \, Suhl
ORGANIZER;CN=Stadtmarketingverein Suhl e.V.:mailto:info@stadtmarketing-suhl
 .de
SEQUENCE:0
SUMMARY:Mitternachtsshopping Halloween in Suhl
UID:e_100160846_iv1
URL:http://pages.destination.one/de/thueringer-staedte/streaming/detail/Eve
 nt/e_100160846/mitternachtsshopping-halloween-in-suhl
END:VEVENT
BEGIN:VEVENT
CATEGORIES:Konzerte\, Festivals\, Show & Tanz
CATEGORIES:Märkte & Feste
CATEGORIES:Kinder
CATEGORIES:Sonstiges
CATEGORIES:Essen & Trinken
DESCRIPTION:Mitternachtsshopping in der Suhler Innenstadt zu Halloween\n\nm
 ehr Informationen unter http://pages.destination.one/de/thueringer-staedte
 /streaming/detail/Event/e_100160846/mitternachtsshopping-halloween-in-suhl
DTEND;TZID=Europe/Berlin:20221028T235900
DTSTAMP:20260423T123449Z
DTSTART;TZID=Europe/Berlin:20221028T180000
GEO:50.609389;10.691586
LOCATION:Stadtmarketingverein Suhl e.V.\, \, Suhl
ORGANIZER;CN=Stadtmarketingverein Suhl e.V.:mailto:info@stadtmarketing-suhl
 .de
SEQUENCE:0
SUMMARY:Mitternachtsshopping Halloween in Suhl
UID:e_100160846_iv2
URL:http://pages.destination.one/de/thueringer-staedte/streaming/detail/Eve
 nt/e_100160846/mitternachtsshopping-halloween-in-suhl
END:VEVENT
BEGIN:VEVENT
CATEGORIES:Konzerte\, Festivals\, Show & Tanz
CATEGORIES:Märkte & Feste
CATEGORIES:Kinder
CATEGORIES:Sonstiges
CATEGORIES:Essen & Trinken
DESCRIPTION:Mitternachtsshopping in der Suhler Innenstadt zu Halloween\n\nm
 ehr Informationen unter http://pages.destination.one/de/thueringer-staedte
 /streaming/detail/Event/e_100160846/mitternachtsshopping-halloween-in-suhl
DTEND;TZID=Europe/Berlin:20231030T234500
DTSTAMP:20260423T123449Z
DTSTART;TZID=Europe/Berlin:20231030T200000
GEO:50.609389;10.691586
LOCATION:Stadtmarketingverein Suhl e.V.\, \, Suhl
ORGANIZER;CN=Stadtmarketingverein Suhl e.V.:mailto:info@stadtmarketing-suhl
 .de
SEQUENCE:0
SUMMARY:Mitternachtsshopping Halloween in Suhl
UID:e_100160846_iv3
URL:http://pages.destination.one/de/thueringer-staedte/streaming/detail/Eve
 nt/e_100160846/mitternachtsshopping-halloween-in-suhl
END:VEVENT
BEGIN:VEVENT
CATEGORIES:Konzerte\, Festivals\, Show & Tanz
CATEGORIES:Märkte & Feste
CATEGORIES:Kinder
CATEGORIES:Sonstiges
CATEGORIES:Essen & Trinken
DESCRIPTION:Mitternachtsshopping in der Suhler Innenstadt zu Halloween\n\nm
 ehr Informationen unter http://pages.destination.one/de/thueringer-staedte
 /streaming/detail/Event/e_100160846/mitternachtsshopping-halloween-in-suhl
DTEND;TZID=Europe/Berlin:20241030T233000
DTSTAMP:20260423T123449Z
DTSTART;TZID=Europe/Berlin:20241030T180000
GEO:50.609389;10.691586
LOCATION:Stadtmarketingverein Suhl e.V.\, \, Suhl
ORGANIZER;CN=Stadtmarketingverein Suhl e.V.:mailto:info@stadtmarketing-suhl
 .de
SEQUENCE:0
SUMMARY:Mitternachtsshopping Halloween in Suhl
UID:e_100160846_iv4
URL:http://pages.destination.one/de/thueringer-staedte/streaming/detail/Eve
 nt/e_100160846/mitternachtsshopping-halloween-in-suhl
END:VEVENT
BEGIN:VEVENT
CATEGORIES:Konzerte\, Festivals\, Show & Tanz
CATEGORIES:Märkte & Feste
CATEGORIES:Kinder
CATEGORIES:Sonstiges
CATEGORIES:Essen & Trinken
DESCRIPTION:Mitternachtsshopping in der Suhler Innenstadt zu Halloween\n\nm
 ehr Informationen unter http://pages.destination.one/de/thueringer-staedte
 /streaming/detail/Event/e_100160846/mitternachtsshopping-halloween-in-suhl
DTEND;TZID=Europe/Berlin:20251030T220000
DTSTAMP:20260423T123449Z
DTSTART;TZID=Europe/Berlin:20251030T170000
GEO:50.609389;10.691586
LOCATION:Stadtmarketingverein Suhl e.V.\, \, Suhl
ORGANIZER;CN=Stadtmarketingverein Suhl e.V.:mailto:info@stadtmarketing-suhl
 .de
SEQUENCE:0
SUMMARY:Mitternachtsshopping Halloween in Suhl
UID:e_100160846_iv5
URL:http://pages.destination.one/de/thueringer-staedte/streaming/detail/Eve
 nt/e_100160846/mitternachtsshopping-halloween-in-suhl
END:VEVENT
BEGIN:VEVENT
CATEGORIES:Konzerte\, Festivals\, Show & Tanz
CATEGORIES:Märkte & Feste
CATEGORIES:Kinder
CATEGORIES:Sonstiges
CATEGORIES:Essen & Trinken
DESCRIPTION:Mitternachtsshopping in der Suhler Innenstadt zu Halloween\n\nm
 ehr Informationen unter http://pages.destination.one/de/thueringer-staedte
 /streaming/detail/Event/e_100160846/mitternachtsshopping-halloween-in-suhl
DTEND;TZID=Europe/Berlin:20261030T233000
DTSTAMP:20260423T123449Z
DTSTART;TZID=Europe/Berlin:20261030T180000
GEO:50.609389;10.691586
LOCATION:Stadtmarketingverein Suhl e.V.\, \, Suhl
ORGANIZER;CN=Stadtmarketingverein Suhl e.V.:mailto:info@stadtmarketing-suhl
 .de
SEQUENCE:0
SUMMARY:Mitternachtsshopping Halloween in Suhl
UID:e_100160846_iv6
URL:http://pages.destination.one/de/thueringer-staedte/streaming/detail/Eve
 nt/e_100160846/mitternachtsshopping-halloween-in-suhl
END:VEVENT
BEGIN:VTIMEZONE
TZID:Europe/Berlin
X-LIC-LOCATION:Europe/Berlin
BEGIN:DAYLIGHT
DTSTART:19700329T020000
RRULE:FREQ=YEARLY;BYDAY=-1SU;BYMONTH=3
TZNAME:CEST
TZOFFSETFROM:+0100
TZOFFSETTO:+0200
END:DAYLIGHT
BEGIN:STANDARD
DTSTART:19701025T030000
RRULE:FREQ=YEARLY;BYDAY=-1SU;BYMONTH=10
TZNAME:CET
TZOFFSETFROM:+0200
TZOFFSETTO:+0100
END:STANDARD
END:VTIMEZONE
END:VCALENDAR
