BEGIN:VCALENDAR
VERSION:2.0
PRODID:-//destination.one//NONSGML destination.meta API//DE
X-WR-CALDESC:A calendar powered by destination.meta
X-WR-CALNAME:stiftungfriedenstein Kalender via destination.meta
BEGIN:VEVENT
CATEGORIES:Führungen & Touren
CATEGORIES:Johann Sebastian Bach
DESCRIPTION:Führung durch die Bachstadt Arnstadt\n\nmehr Informationen unte
 r http://pages.destination.one/de/stiftungfriedenstein/streaming/detail/Ev
 ent/e_100586311/ffentliche-stadtf-hrung-treffpunkt-schlossmuseum
DTEND;TZID=Europe/Berlin:20200404T123000
DTSTAMP:20260423T144230Z
DTSTART;TZID=Europe/Berlin:20200404T110000
GEO:50.834809;10.950129
LOCATION:Schlossmuseum Arnstadt\, Schloßplatz 1\, Arnstadt
ORGANIZER;CN=Tourist-Information Arnstadt:mailto:information@arnstadt.de
RRULE:FREQ=WEEKLY;UNTIL=20201026T113000;BYDAY=SA
SEQUENCE:0
SUMMARY:Öffentliche Stadtführung - Treffpunkt Schlossmuseum
UID:e_100586311_iv0
URL:http://pages.destination.one/de/stiftungfriedenstein/streaming/detail/E
 vent/e_100586311/ffentliche-stadtf-hrung-treffpunkt-schlossmuseum
END:VEVENT
BEGIN:VEVENT
CATEGORIES:Führungen & Touren
CATEGORIES:Johann Sebastian Bach
DESCRIPTION:Führung durch die Bachstadt Arnstadt\n\nmehr Informationen unte
 r http://pages.destination.one/de/stiftungfriedenstein/streaming/detail/Ev
 ent/e_100586311/ffentliche-stadtf-hrung-treffpunkt-schlossmuseum
DTEND;TZID=Europe/Berlin:20210612T123000
DTSTAMP:20260423T144230Z
DTSTART;TZID=Europe/Berlin:20210612T110000
GEO:50.834809;10.950129
LOCATION:Schlossmuseum Arnstadt\, Schloßplatz 1\, Arnstadt
ORGANIZER;CN=Tourist-Information Arnstadt:mailto:information@arnstadt.de
RRULE:FREQ=WEEKLY;UNTIL=20211105T110000;BYDAY=SA
SEQUENCE:0
SUMMARY:Öffentliche Stadtführung - Treffpunkt Schlossmuseum
UID:e_100586311_iv1
URL:http://pages.destination.one/de/stiftungfriedenstein/streaming/detail/E
 vent/e_100586311/ffentliche-stadtf-hrung-treffpunkt-schlossmuseum
END:VEVENT
BEGIN:VEVENT
CATEGORIES:Führungen & Touren
CATEGORIES:Johann Sebastian Bach
DESCRIPTION:Führung durch die Bachstadt Arnstadt\n\nmehr Informationen unte
 r http://pages.destination.one/de/stiftungfriedenstein/streaming/detail/Ev
 ent/e_100586311/ffentliche-stadtf-hrung-treffpunkt-schlossmuseum
DTEND;TZID=Europe/Berlin:20220402T123000
DTSTAMP:20260423T144230Z
DTSTART;TZID=Europe/Berlin:20220402T110000
GEO:50.834809;10.950129
LOCATION:Schlossmuseum Arnstadt\, Schloßplatz 1\, Arnstadt
ORGANIZER;CN=Tourist-Information Arnstadt:mailto:information@arnstadt.de
RRULE:FREQ=WEEKLY;UNTIL=20221029T103000;BYDAY=SA
SEQUENCE:0
SUMMARY:Öffentliche Stadtführung - Treffpunkt Schlossmuseum
UID:e_100586311_iv2
URL:http://pages.destination.one/de/stiftungfriedenstein/streaming/detail/E
 vent/e_100586311/ffentliche-stadtf-hrung-treffpunkt-schlossmuseum
END:VEVENT
BEGIN:VEVENT
CATEGORIES:Führungen & Touren
CATEGORIES:Johann Sebastian Bach
DESCRIPTION:Führung durch die Bachstadt Arnstadt\n\nmehr Informationen unte
 r http://pages.destination.one/de/stiftungfriedenstein/streaming/detail/Ev
 ent/e_100586311/ffentliche-stadtf-hrung-treffpunkt-schlossmuseum
DTEND;TZID=Europe/Berlin:20230402T153000
DTSTAMP:20260423T144230Z
DTSTART;TZID=Europe/Berlin:20230402T140000
GEO:50.834809;10.950129
LOCATION:Schlossmuseum Arnstadt\, Schloßplatz 1\, Arnstadt
ORGANIZER;CN=Tourist-Information Arnstadt:mailto:information@arnstadt.de
RRULE:FREQ=WEEKLY;UNTIL=20230506T120000;BYDAY=SU
SEQUENCE:0
SUMMARY:Öffentliche Stadtführung - Treffpunkt Schlossmuseum
UID:e_100586311_iv3
URL:http://pages.destination.one/de/stiftungfriedenstein/streaming/detail/E
 vent/e_100586311/ffentliche-stadtf-hrung-treffpunkt-schlossmuseum
END:VEVENT
BEGIN:VEVENT
CATEGORIES:Führungen & Touren
CATEGORIES:Johann Sebastian Bach
DESCRIPTION:Führung durch die Bachstadt Arnstadt\n\nmehr Informationen unte
 r http://pages.destination.one/de/stiftungfriedenstein/streaming/detail/Ev
 ent/e_100586311/ffentliche-stadtf-hrung-treffpunkt-schlossmuseum
DTEND;TZID=Europe/Berlin:20230507T123000
DTSTAMP:20260423T144230Z
DTSTART;TZID=Europe/Berlin:20230507T110000
GEO:50.834809;10.950129
LOCATION:Schlossmuseum Arnstadt\, Schloßplatz 1\, Arnstadt
ORGANIZER;CN=Tourist-Information Arnstadt:mailto:information@arnstadt.de
RRULE:FREQ=WEEKLY;UNTIL=20231029T113000;BYDAY=SU
SEQUENCE:0
SUMMARY:Öffentliche Stadtführung - Treffpunkt Schlossmuseum
UID:e_100586311_iv4
URL:http://pages.destination.one/de/stiftungfriedenstein/streaming/detail/E
 vent/e_100586311/ffentliche-stadtf-hrung-treffpunkt-schlossmuseum
END:VEVENT
BEGIN:VEVENT
CATEGORIES:Führungen & Touren
CATEGORIES:Johann Sebastian Bach
DESCRIPTION:Führung durch die Bachstadt Arnstadt\n\nmehr Informationen unte
 r http://pages.destination.one/de/stiftungfriedenstein/streaming/detail/Ev
 ent/e_100586311/ffentliche-stadtf-hrung-treffpunkt-schlossmuseum
DTEND;TZID=Europe/Berlin:20240407T123000
DTSTAMP:20260423T144230Z
DTSTART;TZID=Europe/Berlin:20240407T110000
GEO:50.834809;10.950129
LOCATION:Schlossmuseum Arnstadt\, Schloßplatz 1\, Arnstadt
ORGANIZER;CN=Tourist-Information Arnstadt:mailto:information@arnstadt.de
SEQUENCE:0
SUMMARY:Öffentliche Stadtführung - Treffpunkt Schlossmuseum
UID:e_100586311_iv5
URL:http://pages.destination.one/de/stiftungfriedenstein/streaming/detail/E
 vent/e_100586311/ffentliche-stadtf-hrung-treffpunkt-schlossmuseum
END:VEVENT
BEGIN:VEVENT
CATEGORIES:Führungen & Touren
CATEGORIES:Johann Sebastian Bach
DESCRIPTION:Führung durch die Bachstadt Arnstadt\n\nmehr Informationen unte
 r http://pages.destination.one/de/stiftungfriedenstein/streaming/detail/Ev
 ent/e_100586311/ffentliche-stadtf-hrung-treffpunkt-schlossmuseum
DTEND;TZID=Europe/Berlin:20240414T123000
DTSTAMP:20260423T144230Z
DTSTART;TZID=Europe/Berlin:20240414T110000
GEO:50.834809;10.950129
LOCATION:Schlossmuseum Arnstadt\, Schloßplatz 1\, Arnstadt
ORGANIZER;CN=Tourist-Information Arnstadt:mailto:information@arnstadt.de
RRULE:FREQ=WEEKLY;UNTIL=20241027T113000;BYDAY=SU
SEQUENCE:0
SUMMARY:Öffentliche Stadtführung - Treffpunkt Schlossmuseum
UID:e_100586311_iv6
URL:http://pages.destination.one/de/stiftungfriedenstein/streaming/detail/E
 vent/e_100586311/ffentliche-stadtf-hrung-treffpunkt-schlossmuseum
END:VEVENT
BEGIN:VEVENT
CATEGORIES:Führungen & Touren
CATEGORIES:Johann Sebastian Bach
DESCRIPTION:Führung durch die Bachstadt Arnstadt\n\nmehr Informationen unte
 r http://pages.destination.one/de/stiftungfriedenstein/streaming/detail/Ev
 ent/e_100586311/ffentliche-stadtf-hrung-treffpunkt-schlossmuseum
DTEND;TZID=Europe/Berlin:20250406T123000
DTSTAMP:20260423T144230Z
DTSTART;TZID=Europe/Berlin:20250406T110000
GEO:50.834809;10.950129
LOCATION:Schlossmuseum Arnstadt\, Schloßplatz 1\, Arnstadt
ORGANIZER;CN=Tourist-Information Arnstadt:mailto:information@arnstadt.de
RRULE:FREQ=WEEKLY;UNTIL=20250531T103000;BYDAY=SU
SEQUENCE:0
SUMMARY:Öffentliche Stadtführung - Treffpunkt Schlossmuseum
UID:e_100586311_iv7
URL:http://pages.destination.one/de/stiftungfriedenstein/streaming/detail/E
 vent/e_100586311/ffentliche-stadtf-hrung-treffpunkt-schlossmuseum
END:VEVENT
BEGIN:VEVENT
CATEGORIES:Führungen & Touren
CATEGORIES:Johann Sebastian Bach
DESCRIPTION:Führung durch die Bachstadt Arnstadt\n\nmehr Informationen unte
 r http://pages.destination.one/de/stiftungfriedenstein/streaming/detail/Ev
 ent/e_100586311/ffentliche-stadtf-hrung-treffpunkt-schlossmuseum
DTEND;TZID=Europe/Berlin:20250608T123000
DTSTAMP:20260423T144230Z
DTSTART;TZID=Europe/Berlin:20250608T110000
GEO:50.834809;10.950129
LOCATION:Schlossmuseum Arnstadt\, Schloßplatz 1\, Arnstadt
ORGANIZER;CN=Tourist-Information Arnstadt:mailto:information@arnstadt.de
RRULE:FREQ=WEEKLY;UNTIL=20251031T113000;BYDAY=SU
SEQUENCE:0
SUMMARY:Öffentliche Stadtführung - Treffpunkt Schlossmuseum
UID:e_100586311_iv8
URL:http://pages.destination.one/de/stiftungfriedenstein/streaming/detail/E
 vent/e_100586311/ffentliche-stadtf-hrung-treffpunkt-schlossmuseum
END:VEVENT
BEGIN:VEVENT
CATEGORIES:Führungen & Touren
CATEGORIES:Johann Sebastian Bach
DESCRIPTION:Führung durch die Bachstadt Arnstadt\n\nmehr Informationen unte
 r http://pages.destination.one/de/stiftungfriedenstein/streaming/detail/Ev
 ent/e_100586311/ffentliche-stadtf-hrung-treffpunkt-schlossmuseum
DTEND;TZID=Europe/Berlin:20260405T123000
DTSTAMP:20260423T144230Z
DTSTART;TZID=Europe/Berlin:20260405T110000
GEO:50.834809;10.950129
LOCATION:Schlossmuseum Arnstadt\, Schloßplatz 1\, Arnstadt
ORGANIZER;CN=Tourist-Information Arnstadt:mailto:information@arnstadt.de
RRULE:FREQ=WEEKLY;UNTIL=20261025T113000;BYDAY=SU
SEQUENCE:0
SUMMARY:Öffentliche Stadtführung - Treffpunkt Schlossmuseum
UID:e_100586311_iv9
URL:http://pages.destination.one/de/stiftungfriedenstein/streaming/detail/E
 vent/e_100586311/ffentliche-stadtf-hrung-treffpunkt-schlossmuseum
END:VEVENT
BEGIN:VTIMEZONE
TZID:Europe/Berlin
X-LIC-LOCATION:Europe/Berlin
BEGIN:DAYLIGHT
DTSTART:19700329T020000
RRULE:FREQ=YEARLY;BYDAY=-1SU;BYMONTH=3
TZNAME:CEST
TZOFFSETFROM:+0100
TZOFFSETTO:+0200
END:DAYLIGHT
BEGIN:STANDARD
DTSTART:19701025T030000
RRULE:FREQ=YEARLY;BYDAY=-1SU;BYMONTH=10
TZNAME:CET
TZOFFSETFROM:+0200
TZOFFSETTO:+0100
END:STANDARD
END:VTIMEZONE
END:VCALENDAR
