BEGIN:VCALENDAR
VERSION:2.0
PRODID:-//destination.one//NONSGML destination.meta API//DE
X-WR-CALDESC:A calendar powered by destination.meta
X-WR-CALNAME:saalfeld-tourismus Kalender via destination.meta
BEGIN:VEVENT
CATEGORIES:Konzerte\, Festivals\, Show & Tanz
CATEGORIES:Jubiläen & Gedenkveranstaltungen
DESCRIPTION:Galakonzert mit den schönsten Melodien aus Oper und Operette\n\
 nmehr Informationen unter http://pages.destination.one/de/saalfeld-tourism
 us/streaming/detail/Event/e_100561180/klangzauber-unterm-sternenzelt-galak
 onzert-mit-den-sch-nsten-melodien-aus-oper-und-operette
DTEND;TZID=Europe/Berlin:20220717T220000
DTSTAMP:20260422T092239Z
DTSTART;TZID=Europe/Berlin:20220717T200000
GEO:50.647341;11.365346
LOCATION:Burgruine Hoher Schwarm\, Schwarmgasse\, Saalfeld/Saale
ORGANIZER;CN=Theater Rudolstadt:mailto:service@theater-rudolstadt.de
SEQUENCE:0
SUMMARY:Klangzauber unterm Sternenzelt - Galakonzert mit den schönsten Melo
 dien aus Oper und Operette
UID:e_100561180_iv0
URL:http://pages.destination.one/de/saalfeld-tourismus/streaming/detail/Eve
 nt/e_100561180/klangzauber-unterm-sternenzelt-galakonzert-mit-den-sch-nste
 n-melodien-aus-oper-und-operette
END:VEVENT
BEGIN:VEVENT
CATEGORIES:Konzerte\, Festivals\, Show & Tanz
CATEGORIES:Jubiläen & Gedenkveranstaltungen
DESCRIPTION:Galakonzert mit den schönsten Melodien aus Oper und Operette\n\
 nmehr Informationen unter http://pages.destination.one/de/saalfeld-tourism
 us/streaming/detail/Event/e_100561180/klangzauber-unterm-sternenzelt-galak
 onzert-mit-den-sch-nsten-melodien-aus-oper-und-operette
DTEND;TZID=Europe/Berlin:20240623T235900
DTSTAMP:20260422T092239Z
DTSTART;TZID=Europe/Berlin:20240623T200000
GEO:50.647341;11.365346
LOCATION:Burgruine Hoher Schwarm\, Schwarmgasse\, Saalfeld/Saale
ORGANIZER;CN=Theater Rudolstadt:mailto:service@theater-rudolstadt.de
SEQUENCE:0
SUMMARY:Klangzauber unterm Sternenzelt - Galakonzert mit den schönsten Melo
 dien aus Oper und Operette
UID:e_100561180_iv1
URL:http://pages.destination.one/de/saalfeld-tourismus/streaming/detail/Eve
 nt/e_100561180/klangzauber-unterm-sternenzelt-galakonzert-mit-den-sch-nste
 n-melodien-aus-oper-und-operette
END:VEVENT
BEGIN:VEVENT
CATEGORIES:Konzerte\, Festivals\, Show & Tanz
CATEGORIES:Jubiläen & Gedenkveranstaltungen
DESCRIPTION:Galakonzert mit den schönsten Melodien aus Oper und Operette\n\
 nmehr Informationen unter http://pages.destination.one/de/saalfeld-tourism
 us/streaming/detail/Event/e_100561180/klangzauber-unterm-sternenzelt-galak
 onzert-mit-den-sch-nsten-melodien-aus-oper-und-operette
DTEND;TZID=Europe/Berlin:20250705T235900
DTSTAMP:20260422T092239Z
DTSTART;TZID=Europe/Berlin:20250705T200000
GEO:50.647341;11.365346
LOCATION:Burgruine Hoher Schwarm\, Schwarmgasse\, Saalfeld/Saale
ORGANIZER;CN=Theater Rudolstadt:mailto:service@theater-rudolstadt.de
SEQUENCE:0
SUMMARY:Klangzauber unterm Sternenzelt - Galakonzert mit den schönsten Melo
 dien aus Oper und Operette
UID:e_100561180_iv2
URL:http://pages.destination.one/de/saalfeld-tourismus/streaming/detail/Eve
 nt/e_100561180/klangzauber-unterm-sternenzelt-galakonzert-mit-den-sch-nste
 n-melodien-aus-oper-und-operette
END:VEVENT
BEGIN:VEVENT
CATEGORIES:Konzerte\, Festivals\, Show & Tanz
CATEGORIES:Jubiläen & Gedenkveranstaltungen
DESCRIPTION:Galakonzert mit den schönsten Melodien aus Oper und Operette\n\
 nmehr Informationen unter http://pages.destination.one/de/saalfeld-tourism
 us/streaming/detail/Event/e_100561180/klangzauber-unterm-sternenzelt-galak
 onzert-mit-den-sch-nsten-melodien-aus-oper-und-operette
DTEND;TZID=Europe/Berlin:20260704T213000
DTSTAMP:20260422T092239Z
DTSTART;TZID=Europe/Berlin:20260704T200000
GEO:50.647341;11.365346
LOCATION:Burgruine Hoher Schwarm\, Schwarmgasse\, Saalfeld/Saale
ORGANIZER;CN=Theater Rudolstadt:mailto:service@theater-rudolstadt.de
SEQUENCE:0
SUMMARY:Klangzauber unterm Sternenzelt - Galakonzert mit den schönsten Melo
 dien aus Oper und Operette
UID:e_100561180_iv3
URL:http://pages.destination.one/de/saalfeld-tourismus/streaming/detail/Eve
 nt/e_100561180/klangzauber-unterm-sternenzelt-galakonzert-mit-den-sch-nste
 n-melodien-aus-oper-und-operette
END:VEVENT
BEGIN:VTIMEZONE
TZID:Europe/Berlin
X-LIC-LOCATION:Europe/Berlin
BEGIN:DAYLIGHT
DTSTART:19700329T020000
RRULE:FREQ=YEARLY;BYDAY=-1SU;BYMONTH=3
TZNAME:CEST
TZOFFSETFROM:+0100
TZOFFSETTO:+0200
END:DAYLIGHT
BEGIN:STANDARD
DTSTART:19701025T030000
RRULE:FREQ=YEARLY;BYDAY=-1SU;BYMONTH=10
TZNAME:CET
TZOFFSETFROM:+0200
TZOFFSETTO:+0100
END:STANDARD
END:VTIMEZONE
END:VCALENDAR
