BEGIN:VCALENDAR
VERSION:2.0
PRODID:-//destination.one//NONSGML destination.meta API//DE
X-WR-CALDESC:A calendar powered by destination.meta
X-WR-CALNAME:saale-unstrut-tourismus Kalender via destination.meta
BEGIN:VEVENT
CATEGORIES:Bildung/Vorträge/Diskussionen
CATEGORIES:Führung/Besichtigung
DESCRIPTION:\n\nmehr Informationen unter http://pages.destination.one/de/sa
 ale-unstrut-tourismus/streaming/detail/Event/e_101202676/ber-hmte-sch-ler-
 der-landesschule-pforta
DTEND;TZID=Europe/Berlin:20260228T120000
DTSTAMP:20260421T104958Z
DTSTART;TZID=Europe/Berlin:20260228T103000
GEO:51.143420;11.752280
LOCATION:Stiftung Schulpforta / Besucherzentrum\, Schulstraße 26\, Naumburg
  OT Bad Kösen
ORGANIZER;CN=Stiftung Schulpforta:mailto:info@stiftung-schulpforta.de
RRULE:FREQ=MONTHLY;UNTIL=20260522T100000;BYDAY=4SA
SEQUENCE:0
SUMMARY:Berühmte Schüler der Landesschule Pforta
UID:e_101202676_iv0
URL:http://pages.destination.one/de/saale-unstrut-tourismus/streaming/detai
 l/Event/e_101202676/ber-hmte-sch-ler-der-landesschule-pforta
END:VEVENT
BEGIN:VEVENT
CATEGORIES:Bildung/Vorträge/Diskussionen
CATEGORIES:Führung/Besichtigung
DESCRIPTION:\n\nmehr Informationen unter http://pages.destination.one/de/sa
 ale-unstrut-tourismus/streaming/detail/Event/e_101202676/ber-hmte-sch-ler-
 der-landesschule-pforta
DTEND;TZID=Europe/Berlin:20260530T120000
DTSTAMP:20260421T104958Z
DTSTART;TZID=Europe/Berlin:20260530T103000
GEO:51.143420;11.752280
LOCATION:Stiftung Schulpforta / Besucherzentrum\, Schulstraße 26\, Naumburg
  OT Bad Kösen
ORGANIZER;CN=Stiftung Schulpforta:mailto:info@stiftung-schulpforta.de
SEQUENCE:0
SUMMARY:Berühmte Schüler der Landesschule Pforta
UID:e_101202676_iv1
URL:http://pages.destination.one/de/saale-unstrut-tourismus/streaming/detai
 l/Event/e_101202676/ber-hmte-sch-ler-der-landesschule-pforta
END:VEVENT
BEGIN:VEVENT
CATEGORIES:Bildung/Vorträge/Diskussionen
CATEGORIES:Führung/Besichtigung
DESCRIPTION:\n\nmehr Informationen unter http://pages.destination.one/de/sa
 ale-unstrut-tourismus/streaming/detail/Event/e_101202676/ber-hmte-sch-ler-
 der-landesschule-pforta
DTEND;TZID=Europe/Berlin:20260627T120000
DTSTAMP:20260421T104958Z
DTSTART;TZID=Europe/Berlin:20260627T103000
GEO:51.143420;11.752280
LOCATION:Stiftung Schulpforta / Besucherzentrum\, Schulstraße 26\, Naumburg
  OT Bad Kösen
ORGANIZER;CN=Stiftung Schulpforta:mailto:info@stiftung-schulpforta.de
RRULE:FREQ=MONTHLY;UNTIL=20260821T100000;BYDAY=4SA
SEQUENCE:0
SUMMARY:Berühmte Schüler der Landesschule Pforta
UID:e_101202676_iv2
URL:http://pages.destination.one/de/saale-unstrut-tourismus/streaming/detai
 l/Event/e_101202676/ber-hmte-sch-ler-der-landesschule-pforta
END:VEVENT
BEGIN:VEVENT
CATEGORIES:Bildung/Vorträge/Diskussionen
CATEGORIES:Führung/Besichtigung
DESCRIPTION:\n\nmehr Informationen unter http://pages.destination.one/de/sa
 ale-unstrut-tourismus/streaming/detail/Event/e_101202676/ber-hmte-sch-ler-
 der-landesschule-pforta
DTEND;TZID=Europe/Berlin:20260829T120000
DTSTAMP:20260421T104958Z
DTSTART;TZID=Europe/Berlin:20260829T103000
GEO:51.143420;11.752280
LOCATION:Stiftung Schulpforta / Besucherzentrum\, Schulstraße 26\, Naumburg
  OT Bad Kösen
ORGANIZER;CN=Stiftung Schulpforta:mailto:info@stiftung-schulpforta.de
SEQUENCE:0
SUMMARY:Berühmte Schüler der Landesschule Pforta
UID:e_101202676_iv3
URL:http://pages.destination.one/de/saale-unstrut-tourismus/streaming/detai
 l/Event/e_101202676/ber-hmte-sch-ler-der-landesschule-pforta
END:VEVENT
BEGIN:VEVENT
CATEGORIES:Bildung/Vorträge/Diskussionen
CATEGORIES:Führung/Besichtigung
DESCRIPTION:\n\nmehr Informationen unter http://pages.destination.one/de/sa
 ale-unstrut-tourismus/streaming/detail/Event/e_101202676/ber-hmte-sch-ler-
 der-landesschule-pforta
DTEND;TZID=Europe/Berlin:20260926T120000
DTSTAMP:20260421T104958Z
DTSTART;TZID=Europe/Berlin:20260926T103000
GEO:51.143420;11.752280
LOCATION:Stiftung Schulpforta / Besucherzentrum\, Schulstraße 26\, Naumburg
  OT Bad Kösen
ORGANIZER;CN=Stiftung Schulpforta:mailto:info@stiftung-schulpforta.de
RRULE:FREQ=MONTHLY;UNTIL=20261023T100000;BYDAY=4SA
SEQUENCE:0
SUMMARY:Berühmte Schüler der Landesschule Pforta
UID:e_101202676_iv4
URL:http://pages.destination.one/de/saale-unstrut-tourismus/streaming/detai
 l/Event/e_101202676/ber-hmte-sch-ler-der-landesschule-pforta
END:VEVENT
BEGIN:VEVENT
CATEGORIES:Bildung/Vorträge/Diskussionen
CATEGORIES:Führung/Besichtigung
DESCRIPTION:\n\nmehr Informationen unter http://pages.destination.one/de/sa
 ale-unstrut-tourismus/streaming/detail/Event/e_101202676/ber-hmte-sch-ler-
 der-landesschule-pforta
DTEND;TZID=Europe/Berlin:20261031T120000
DTSTAMP:20260421T104958Z
DTSTART;TZID=Europe/Berlin:20261031T103000
GEO:51.143420;11.752280
LOCATION:Stiftung Schulpforta / Besucherzentrum\, Schulstraße 26\, Naumburg
  OT Bad Kösen
ORGANIZER;CN=Stiftung Schulpforta:mailto:info@stiftung-schulpforta.de
SEQUENCE:0
SUMMARY:Berühmte Schüler der Landesschule Pforta
UID:e_101202676_iv5
URL:http://pages.destination.one/de/saale-unstrut-tourismus/streaming/detai
 l/Event/e_101202676/ber-hmte-sch-ler-der-landesschule-pforta
END:VEVENT
BEGIN:VEVENT
CATEGORIES:Bildung/Vorträge/Diskussionen
CATEGORIES:Führung/Besichtigung
DESCRIPTION:\n\nmehr Informationen unter http://pages.destination.one/de/sa
 ale-unstrut-tourismus/streaming/detail/Event/e_101202676/ber-hmte-sch-ler-
 der-landesschule-pforta
DTEND;TZID=Europe/Berlin:20261128T120000
DTSTAMP:20260421T104958Z
DTSTART;TZID=Europe/Berlin:20261128T103000
GEO:51.143420;11.752280
LOCATION:Stiftung Schulpforta / Besucherzentrum\, Schulstraße 26\, Naumburg
  OT Bad Kösen
ORGANIZER;CN=Stiftung Schulpforta:mailto:info@stiftung-schulpforta.de
RRULE:FREQ=MONTHLY;UNTIL=20261128T093000;BYDAY=4SA
SEQUENCE:0
SUMMARY:Berühmte Schüler der Landesschule Pforta
UID:e_101202676_iv6
URL:http://pages.destination.one/de/saale-unstrut-tourismus/streaming/detai
 l/Event/e_101202676/ber-hmte-sch-ler-der-landesschule-pforta
END:VEVENT
BEGIN:VTIMEZONE
TZID:Europe/Berlin
X-LIC-LOCATION:Europe/Berlin
BEGIN:DAYLIGHT
DTSTART:19700329T020000
RRULE:FREQ=YEARLY;BYDAY=-1SU;BYMONTH=3
TZNAME:CEST
TZOFFSETFROM:+0100
TZOFFSETTO:+0200
END:DAYLIGHT
BEGIN:STANDARD
DTSTART:19701025T030000
RRULE:FREQ=YEARLY;BYDAY=-1SU;BYMONTH=10
TZNAME:CET
TZOFFSETFROM:+0200
TZOFFSETTO:+0100
END:STANDARD
END:VTIMEZONE
END:VCALENDAR
