BEGIN:VCALENDAR
VERSION:2.0
PRODID:-//destination.one//NONSGML destination.meta API//DE
X-WR-CALDESC:A calendar powered by destination.meta
X-WR-CALNAME:saale-unstrut-tourismus Kalender via destination.meta
BEGIN:VEVENT
CATEGORIES:Ausstellung
CATEGORIES:Kunst & Kultur
DESCRIPTION:Jonathan Meese zählt zu den bekanntesten und vieldiskutierten d
 eutschen Künstlern der Gegenwart.\n\nmehr Informationen unter http://pages
 .destination.one/de/saale-unstrut-tourismus/streaming/detail/Event/e_10122
 3536/jonathan-meese-mein-dein-k-u-n-s-t-k-o-r-p-s-richard-wagnerz-erzverbi
 ndungen-der-totalstliebe-trommelndes-gesamtkunstwerk-de-large
DTEND;TZID=Europe/Berlin:20260327T170000
DTSTAMP:20260422T125858Z
DTSTART;TZID=Europe/Berlin:20260327T100000
GEO:50.928639;11.588225
LOCATION:Kunstsammlung Jena\, Markt 7\, Jena
ORGANIZER;CN=Kunstsammlung Jena:mailto:kunstsammlung@jena.de
RRULE:FREQ=WEEKLY;UNTIL=20260607T080000;BYDAY=TU,WE,TH,FR,SA,SU
SEQUENCE:0
SUMMARY:JONATHAN MEESE: MEIN/DEIN „„K.U.N.S.T.K.O.R.P.S.“-RICHARD WAGNERZ“!
  (ERZVERBINDUNGEN DER TOTALSTLIEBE!!!!!!!!) TROMMELNDES GESAMTKUNSTWERK DE
  LARGE!
UID:e_101223536_iv0
URL:http://pages.destination.one/de/saale-unstrut-tourismus/streaming/detai
 l/Event/e_101223536/jonathan-meese-mein-dein-k-u-n-s-t-k-o-r-p-s-richard-w
 agnerz-erzverbindungen-der-totalstliebe-trommelndes-gesamtkunstwerk-de-lar
 ge
END:VEVENT
BEGIN:VEVENT
CATEGORIES:Ausstellung
CATEGORIES:Kunst & Kultur
DESCRIPTION:Jonathan Meese zählt zu den bekanntesten und vieldiskutierten d
 eutschen Künstlern der Gegenwart.\n\nmehr Informationen unter http://pages
 .destination.one/de/saale-unstrut-tourismus/streaming/detail/Event/e_10122
 3536/jonathan-meese-mein-dein-k-u-n-s-t-k-o-r-p-s-richard-wagnerz-erzverbi
 ndungen-der-totalstliebe-trommelndes-gesamtkunstwerk-de-large
DTEND;TZID=Europe/Berlin:20260406T170000
DTSTAMP:20260422T125858Z
DTSTART;TZID=Europe/Berlin:20260406T100000
GEO:50.928639;11.588225
LOCATION:Kunstsammlung Jena\, Markt 7\, Jena
ORGANIZER;CN=Kunstsammlung Jena:mailto:kunstsammlung@jena.de
SEQUENCE:0
SUMMARY:JONATHAN MEESE: MEIN/DEIN „„K.U.N.S.T.K.O.R.P.S.“-RICHARD WAGNERZ“!
  (ERZVERBINDUNGEN DER TOTALSTLIEBE!!!!!!!!) TROMMELNDES GESAMTKUNSTWERK DE
  LARGE!
UID:e_101223536_iv1
URL:http://pages.destination.one/de/saale-unstrut-tourismus/streaming/detai
 l/Event/e_101223536/jonathan-meese-mein-dein-k-u-n-s-t-k-o-r-p-s-richard-w
 agnerz-erzverbindungen-der-totalstliebe-trommelndes-gesamtkunstwerk-de-lar
 ge
END:VEVENT
BEGIN:VTIMEZONE
TZID:Europe/Berlin
X-LIC-LOCATION:Europe/Berlin
BEGIN:DAYLIGHT
DTSTART:19700329T020000
RRULE:FREQ=YEARLY;BYDAY=-1SU;BYMONTH=3
TZNAME:CEST
TZOFFSETFROM:+0100
TZOFFSETTO:+0200
END:DAYLIGHT
BEGIN:STANDARD
DTSTART:19701025T030000
RRULE:FREQ=YEARLY;BYDAY=-1SU;BYMONTH=10
TZNAME:CET
TZOFFSETFROM:+0200
TZOFFSETTO:+0100
END:STANDARD
END:VTIMEZONE
END:VCALENDAR
