BEGIN:VCALENDAR
VERSION:2.0
PRODID:-//destination.one//NONSGML destination.meta API//DE
X-WR-CALDESC:A calendar powered by destination.meta
X-WR-CALNAME:saale-unstrut-tourismus Kalender via destination.meta
BEGIN:VEVENT
CATEGORIES:Ausflugsfahrten
CATEGORIES:Kunst & Kultur
DESCRIPTION:\n\nmehr Informationen unter http://pages.destination.one/de/sa
 ale-unstrut-tourismus/streaming/detail/Event/e_101216727/ausstellung-drift
 en-stefan-lenke
DTEND;TZID=Europe/Berlin:20260307T180000
DTSTAMP:20260424T083940Z
DTSTART;TZID=Europe/Berlin:20260307T120000
GEO:50.927980;11.588440
LOCATION:Jenaer Kunstverein\, Markt 16\, Jena
ORGANIZER;CN=Jenaer Kunstverein:mailto:info@jenaer-kunstverein.de
RRULE:FREQ=WEEKLY;UNTIL=20260530T100000;BYDAY=SA
SEQUENCE:0
SUMMARY:Ausstellung: driften - Stefan Lenke
UID:e_101216727_iv0
URL:http://pages.destination.one/de/saale-unstrut-tourismus/streaming/detai
 l/Event/e_101216727/ausstellung-driften-stefan-lenke
END:VEVENT
BEGIN:VEVENT
CATEGORIES:Ausflugsfahrten
CATEGORIES:Kunst & Kultur
DESCRIPTION:\n\nmehr Informationen unter http://pages.destination.one/de/sa
 ale-unstrut-tourismus/streaming/detail/Event/e_101216727/ausstellung-drift
 en-stefan-lenke
DTEND;TZID=Europe/Berlin:20260312T190000
DTSTAMP:20260424T083940Z
DTSTART;TZID=Europe/Berlin:20260312T140000
GEO:50.927980;11.588440
LOCATION:Jenaer Kunstverein\, Markt 16\, Jena
ORGANIZER;CN=Jenaer Kunstverein:mailto:info@jenaer-kunstverein.de
RRULE:FREQ=WEEKLY;UNTIL=20260604T120000;BYDAY=TH
SEQUENCE:0
SUMMARY:Ausstellung: driften - Stefan Lenke
UID:e_101216727_iv1
URL:http://pages.destination.one/de/saale-unstrut-tourismus/streaming/detai
 l/Event/e_101216727/ausstellung-driften-stefan-lenke
END:VEVENT
BEGIN:VEVENT
CATEGORIES:Ausflugsfahrten
CATEGORIES:Kunst & Kultur
DESCRIPTION:\n\nmehr Informationen unter http://pages.destination.one/de/sa
 ale-unstrut-tourismus/streaming/detail/Event/e_101216727/ausstellung-drift
 en-stefan-lenke
DTEND;TZID=Europe/Berlin:20260313T180000
DTSTAMP:20260424T083940Z
DTSTART;TZID=Europe/Berlin:20260313T140000
GEO:50.927980;11.588440
LOCATION:Jenaer Kunstverein\, Markt 16\, Jena
ORGANIZER;CN=Jenaer Kunstverein:mailto:info@jenaer-kunstverein.de
RRULE:FREQ=WEEKLY;UNTIL=20260605T120000;BYDAY=FR
SEQUENCE:0
SUMMARY:Ausstellung: driften - Stefan Lenke
UID:e_101216727_iv2
URL:http://pages.destination.one/de/saale-unstrut-tourismus/streaming/detai
 l/Event/e_101216727/ausstellung-driften-stefan-lenke
END:VEVENT
BEGIN:VTIMEZONE
TZID:Europe/Berlin
X-LIC-LOCATION:Europe/Berlin
BEGIN:DAYLIGHT
DTSTART:19700329T020000
RRULE:FREQ=YEARLY;BYDAY=-1SU;BYMONTH=3
TZNAME:CEST
TZOFFSETFROM:+0100
TZOFFSETTO:+0200
END:DAYLIGHT
BEGIN:STANDARD
DTSTART:19701025T030000
RRULE:FREQ=YEARLY;BYDAY=-1SU;BYMONTH=10
TZNAME:CET
TZOFFSETFROM:+0200
TZOFFSETTO:+0100
END:STANDARD
END:VTIMEZONE
END:VCALENDAR
