BEGIN:VCALENDAR
VERSION:2.0
PRODID:-//destination.one//NONSGML destination.meta API//DE
X-WR-CALDESC:A calendar powered by destination.meta
X-WR-CALNAME:saale-unstrut-tourismus Kalender via destination.meta
BEGIN:VEVENT
CATEGORIES:Ausstellung
DESCRIPTION:Jenoptik-Produktausstellung\n\nmehr Informationen unter http://
 pages.destination.one/de/saale-unstrut-tourismus/streaming/detail/Event/e_
 100394028/experience-more-light
DTEND;TZID=Europe/Berlin:20220208T180000
DTSTAMP:20260422T123228Z
DTSTART;TZID=Europe/Berlin:20220208T100000
GEO:50.928078;11.580815
LOCATION:JENOPTIK AG\, Foyer\, Carl-Zeiß-Straße 1\, Jena
ORGANIZER;CN=JENOPTIK AG:mailto:events@jenoptik.com
RRULE:FREQ=WEEKLY;UNTIL=20220320T170000;BYDAY=MO,TU,WE,TH
SEQUENCE:0
SUMMARY:Experience More Light
UID:e_100394028_iv0
URL:http://pages.destination.one/de/saale-unstrut-tourismus/streaming/detai
 l/Event/e_100394028/experience-more-light
END:VEVENT
BEGIN:VEVENT
CATEGORIES:Ausstellung
DESCRIPTION:Jenoptik-Produktausstellung\n\nmehr Informationen unter http://
 pages.destination.one/de/saale-unstrut-tourismus/streaming/detail/Event/e_
 100394028/experience-more-light
DTEND;TZID=Europe/Berlin:20220211T150000
DTSTAMP:20260422T123228Z
DTSTART;TZID=Europe/Berlin:20220211T100000
GEO:50.928078;11.580815
LOCATION:JENOPTIK AG\, Foyer\, Carl-Zeiß-Straße 1\, Jena
ORGANIZER;CN=JENOPTIK AG:mailto:events@jenoptik.com
RRULE:FREQ=WEEKLY;BYDAY=FR
SEQUENCE:0
SUMMARY:Experience More Light
UID:e_100394028_iv1
URL:http://pages.destination.one/de/saale-unstrut-tourismus/streaming/detai
 l/Event/e_100394028/experience-more-light
END:VEVENT
BEGIN:VEVENT
CATEGORIES:Ausstellung
DESCRIPTION:Jenoptik-Produktausstellung\n\nmehr Informationen unter http://
 pages.destination.one/de/saale-unstrut-tourismus/streaming/detail/Event/e_
 100394028/experience-more-light
DTEND;TZID=Europe/Berlin:20220321T160000
DTSTAMP:20260422T123228Z
DTSTART;TZID=Europe/Berlin:20220321T100000
GEO:50.928078;11.580815
LOCATION:JENOPTIK AG\, Foyer\, Carl-Zeiß-Straße 1\, Jena
ORGANIZER;CN=JENOPTIK AG:mailto:events@jenoptik.com
SEQUENCE:0
SUMMARY:Experience More Light
UID:e_100394028_iv2
URL:http://pages.destination.one/de/saale-unstrut-tourismus/streaming/detai
 l/Event/e_100394028/experience-more-light
END:VEVENT
BEGIN:VEVENT
CATEGORIES:Ausstellung
DESCRIPTION:Jenoptik-Produktausstellung\n\nmehr Informationen unter http://
 pages.destination.one/de/saale-unstrut-tourismus/streaming/detail/Event/e_
 100394028/experience-more-light
DTEND;TZID=Europe/Berlin:20220322T160000
DTSTAMP:20260422T123228Z
DTSTART;TZID=Europe/Berlin:20220322T100000
GEO:50.928078;11.580815
LOCATION:JENOPTIK AG\, Foyer\, Carl-Zeiß-Straße 1\, Jena
ORGANIZER;CN=JENOPTIK AG:mailto:events@jenoptik.com
SEQUENCE:0
SUMMARY:Experience More Light
UID:e_100394028_iv3
URL:http://pages.destination.one/de/saale-unstrut-tourismus/streaming/detai
 l/Event/e_100394028/experience-more-light
END:VEVENT
BEGIN:VEVENT
CATEGORIES:Ausstellung
DESCRIPTION:Jenoptik-Produktausstellung\n\nmehr Informationen unter http://
 pages.destination.one/de/saale-unstrut-tourismus/streaming/detail/Event/e_
 100394028/experience-more-light
DTEND;TZID=Europe/Berlin:20220323T160000
DTSTAMP:20260422T123228Z
DTSTART;TZID=Europe/Berlin:20220323T100000
GEO:50.928078;11.580815
LOCATION:JENOPTIK AG\, Foyer\, Carl-Zeiß-Straße 1\, Jena
ORGANIZER;CN=JENOPTIK AG:mailto:events@jenoptik.com
SEQUENCE:0
SUMMARY:Experience More Light
UID:e_100394028_iv4
URL:http://pages.destination.one/de/saale-unstrut-tourismus/streaming/detai
 l/Event/e_100394028/experience-more-light
END:VEVENT
BEGIN:VEVENT
CATEGORIES:Ausstellung
DESCRIPTION:Jenoptik-Produktausstellung\n\nmehr Informationen unter http://
 pages.destination.one/de/saale-unstrut-tourismus/streaming/detail/Event/e_
 100394028/experience-more-light
DTEND;TZID=Europe/Berlin:20220324T160000
DTSTAMP:20260422T123228Z
DTSTART;TZID=Europe/Berlin:20220324T100000
GEO:50.928078;11.580815
LOCATION:JENOPTIK AG\, Foyer\, Carl-Zeiß-Straße 1\, Jena
ORGANIZER;CN=JENOPTIK AG:mailto:events@jenoptik.com
SEQUENCE:0
SUMMARY:Experience More Light
UID:e_100394028_iv5
URL:http://pages.destination.one/de/saale-unstrut-tourismus/streaming/detai
 l/Event/e_100394028/experience-more-light
END:VEVENT
BEGIN:VEVENT
CATEGORIES:Ausstellung
DESCRIPTION:Jenoptik-Produktausstellung\n\nmehr Informationen unter http://
 pages.destination.one/de/saale-unstrut-tourismus/streaming/detail/Event/e_
 100394028/experience-more-light
DTEND;TZID=Europe/Berlin:20220328T160000
DTSTAMP:20260422T123228Z
DTSTART;TZID=Europe/Berlin:20220328T100000
GEO:50.928078;11.580815
LOCATION:JENOPTIK AG\, Foyer\, Carl-Zeiß-Straße 1\, Jena
ORGANIZER;CN=JENOPTIK AG:mailto:events@jenoptik.com
SEQUENCE:0
SUMMARY:Experience More Light
UID:e_100394028_iv6
URL:http://pages.destination.one/de/saale-unstrut-tourismus/streaming/detai
 l/Event/e_100394028/experience-more-light
END:VEVENT
BEGIN:VEVENT
CATEGORIES:Ausstellung
DESCRIPTION:Jenoptik-Produktausstellung\n\nmehr Informationen unter http://
 pages.destination.one/de/saale-unstrut-tourismus/streaming/detail/Event/e_
 100394028/experience-more-light
DTEND;TZID=Europe/Berlin:20220329T160000
DTSTAMP:20260422T123228Z
DTSTART;TZID=Europe/Berlin:20220329T100000
GEO:50.928078;11.580815
LOCATION:JENOPTIK AG\, Foyer\, Carl-Zeiß-Straße 1\, Jena
ORGANIZER;CN=JENOPTIK AG:mailto:events@jenoptik.com
SEQUENCE:0
SUMMARY:Experience More Light
UID:e_100394028_iv7
URL:http://pages.destination.one/de/saale-unstrut-tourismus/streaming/detai
 l/Event/e_100394028/experience-more-light
END:VEVENT
BEGIN:VEVENT
CATEGORIES:Ausstellung
DESCRIPTION:Jenoptik-Produktausstellung\n\nmehr Informationen unter http://
 pages.destination.one/de/saale-unstrut-tourismus/streaming/detail/Event/e_
 100394028/experience-more-light
DTEND;TZID=Europe/Berlin:20220330T160000
DTSTAMP:20260422T123228Z
DTSTART;TZID=Europe/Berlin:20220330T100000
GEO:50.928078;11.580815
LOCATION:JENOPTIK AG\, Foyer\, Carl-Zeiß-Straße 1\, Jena
ORGANIZER;CN=JENOPTIK AG:mailto:events@jenoptik.com
SEQUENCE:0
SUMMARY:Experience More Light
UID:e_100394028_iv8
URL:http://pages.destination.one/de/saale-unstrut-tourismus/streaming/detai
 l/Event/e_100394028/experience-more-light
END:VEVENT
BEGIN:VEVENT
CATEGORIES:Ausstellung
DESCRIPTION:Jenoptik-Produktausstellung\n\nmehr Informationen unter http://
 pages.destination.one/de/saale-unstrut-tourismus/streaming/detail/Event/e_
 100394028/experience-more-light
DTEND;TZID=Europe/Berlin:20220331T160000
DTSTAMP:20260422T123228Z
DTSTART;TZID=Europe/Berlin:20220331T100000
GEO:50.928078;11.580815
LOCATION:JENOPTIK AG\, Foyer\, Carl-Zeiß-Straße 1\, Jena
ORGANIZER;CN=JENOPTIK AG:mailto:events@jenoptik.com
SEQUENCE:0
SUMMARY:Experience More Light
UID:e_100394028_iv9
URL:http://pages.destination.one/de/saale-unstrut-tourismus/streaming/detai
 l/Event/e_100394028/experience-more-light
END:VEVENT
BEGIN:VEVENT
CATEGORIES:Ausstellung
DESCRIPTION:Jenoptik-Produktausstellung\n\nmehr Informationen unter http://
 pages.destination.one/de/saale-unstrut-tourismus/streaming/detail/Event/e_
 100394028/experience-more-light
DTEND;TZID=Europe/Berlin:20220404T180000
DTSTAMP:20260422T123228Z
DTSTART;TZID=Europe/Berlin:20220404T100000
GEO:50.928078;11.580815
LOCATION:JENOPTIK AG\, Foyer\, Carl-Zeiß-Straße 1\, Jena
ORGANIZER;CN=JENOPTIK AG:mailto:events@jenoptik.com
RRULE:FREQ=WEEKLY;BYDAY=MO,TU,WE,TH
SEQUENCE:0
SUMMARY:Experience More Light
UID:e_100394028_iv10
URL:http://pages.destination.one/de/saale-unstrut-tourismus/streaming/detai
 l/Event/e_100394028/experience-more-light
END:VEVENT
BEGIN:VTIMEZONE
TZID:Europe/Berlin
X-LIC-LOCATION:Europe/Berlin
BEGIN:DAYLIGHT
DTSTART:19700329T020000
RRULE:FREQ=YEARLY;BYDAY=-1SU;BYMONTH=3
TZNAME:CEST
TZOFFSETFROM:+0100
TZOFFSETTO:+0200
END:DAYLIGHT
BEGIN:STANDARD
DTSTART:19701025T030000
RRULE:FREQ=YEARLY;BYDAY=-1SU;BYMONTH=10
TZNAME:CET
TZOFFSETFROM:+0200
TZOFFSETTO:+0100
END:STANDARD
END:VTIMEZONE
END:VCALENDAR
