BEGIN:VCALENDAR
VERSION:2.0
PRODID:-//destination.one//NONSGML destination.meta API//DE
X-WR-CALDESC:A calendar powered by destination.meta
X-WR-CALNAME:rudolstadt Kalender via destination.meta
BEGIN:VEVENT
CATEGORIES:Vorträge\, Lesungen & Multimedia
DESCRIPTION:\n\nmehr Informationen unter http://pages.destination.one/de/ru
 dolstadt/streaming/detail/Event/e_101250787/jeannette-lauterbach-porzellan
 -in-rudolstadt
DTEND;TZID=Europe/Berlin:20260415T150000
DTSTAMP:20260420T125747Z
DTSTART;TZID=Europe/Berlin:20260415T140000
GEO:50.720156;11.341753
LOCATION:Begegnungsstätte der Stiftung "Herberge zur Heimat"\, Strumpfgasse
  3\, Rudolstadt
ORGANIZER;CN=Begegnungsstätte der Stiftung Herberge zur Heimat:mailto:stift
 ung@diakonie-rudolstadt.de
SEQUENCE:0
SUMMARY:Jeannette Lauterbach: Porzellan in Rudolstadt
UID:e_101250787_iv0
URL:http://pages.destination.one/de/rudolstadt/streaming/detail/Event/e_101
 250787/jeannette-lauterbach-porzellan-in-rudolstadt
END:VEVENT
BEGIN:VTIMEZONE
TZID:Europe/Berlin
X-LIC-LOCATION:Europe/Berlin
BEGIN:DAYLIGHT
DTSTART:19700329T020000
RRULE:FREQ=YEARLY;BYDAY=-1SU;BYMONTH=3
TZNAME:CEST
TZOFFSETFROM:+0100
TZOFFSETTO:+0200
END:DAYLIGHT
BEGIN:STANDARD
DTSTART:19701025T030000
RRULE:FREQ=YEARLY;BYDAY=-1SU;BYMONTH=10
TZNAME:CET
TZOFFSETFROM:+0200
TZOFFSETTO:+0100
END:STANDARD
END:VTIMEZONE
END:VCALENDAR
