BEGIN:VCALENDAR
VERSION:2.0
PRODID:-//destination.one//NONSGML destination.meta API//DE
X-WR-CALDESC:A calendar powered by destination.meta
X-WR-CALNAME:ostfriesland Kalender via destination.meta
BEGIN:VEVENT
CATEGORIES:Bar
CATEGORIES:Club
CATEGORIES:Konzert
CATEGORIES:Nachtleben sonstige
CATEGORIES:Show sonstige
CATEGORIES:Tanz sonstige
CATEGORIES:Tanztreff
DESCRIPTION:\n\nmehr Informationen unter http://pages.destination.one/de/os
 tfriesland/streaming/detail/Event/e_101258139/bass-stube-drum-n-bass-party
 -im-grusy
DTEND;TZID=Europe/Berlin:20260426T040000
DTSTAMP:20260425T214620Z
DTSTART;TZID=Europe/Berlin:20260425T220000
GEO:53.370621;7.206329
LOCATION:Grusy - Dein musikalisches Wohnzimmer\, Neutorstraße 70\, Emden
ORGANIZER;CN=Grusy - Dein musikalisches Wohnzimmer:mailto:Grusy_Orgateam_Fr
 iederike@web.de
SEQUENCE:0
SUMMARY:Bass Stube - Drum'n'Bass-Party im Grusy
UID:e_101258139_iv0
URL:http://pages.destination.one/de/ostfriesland/streaming/detail/Event/e_1
 01258139/bass-stube-drum-n-bass-party-im-grusy
END:VEVENT
BEGIN:VTIMEZONE
TZID:Europe/Berlin
X-LIC-LOCATION:Europe/Berlin
BEGIN:DAYLIGHT
DTSTART:19700329T020000
RRULE:FREQ=YEARLY;BYDAY=-1SU;BYMONTH=3
TZNAME:CEST
TZOFFSETFROM:+0100
TZOFFSETTO:+0200
END:DAYLIGHT
BEGIN:STANDARD
DTSTART:19701025T030000
RRULE:FREQ=YEARLY;BYDAY=-1SU;BYMONTH=10
TZNAME:CET
TZOFFSETFROM:+0200
TZOFFSETTO:+0100
END:STANDARD
END:VTIMEZONE
END:VCALENDAR
