BEGIN:VCALENDAR
VERSION:2.0
PRODID:-//destination.one//NONSGML destination.meta API//DE
X-WR-CALDESC:A calendar powered by destination.meta
X-WR-CALNAME:ostfriesland Kalender via destination.meta
BEGIN:VEVENT
CATEGORIES:Musik sonstige
DESCRIPTION:\n\nmehr Informationen unter http://pages.destination.one/de/os
 tfriesland/streaming/detail/Event/e_101249587/klubkonzert-mit-lark-street-
 akustik-musik-mit-seele
DTEND;TZID=Europe/Berlin:20260425T220000
DTSTAMP:20260425T214512Z
DTSTART;TZID=Europe/Berlin:20260425T193000
GEO:53.394900;8.139450
LOCATION:TABULA MAGICA Cultur im Centrum\, Neue Straße 6\, Varel
ORGANIZER;CN=TABULA MAGICA Cultur im Centrum:mailto:mail@profero-medienagen
 tur.de
SEQUENCE:0
SUMMARY:Klubkonzert mit "Lark Street" - Akustik Musik mit Seele
UID:e_101249587_iv0
URL:http://pages.destination.one/de/ostfriesland/streaming/detail/Event/e_1
 01249587/klubkonzert-mit-lark-street-akustik-musik-mit-seele
END:VEVENT
BEGIN:VTIMEZONE
TZID:Europe/Berlin
X-LIC-LOCATION:Europe/Berlin
BEGIN:DAYLIGHT
DTSTART:19700329T020000
RRULE:FREQ=YEARLY;BYDAY=-1SU;BYMONTH=3
TZNAME:CEST
TZOFFSETFROM:+0100
TZOFFSETTO:+0200
END:DAYLIGHT
BEGIN:STANDARD
DTSTART:19701025T030000
RRULE:FREQ=YEARLY;BYDAY=-1SU;BYMONTH=10
TZNAME:CET
TZOFFSETFROM:+0200
TZOFFSETTO:+0100
END:STANDARD
END:VTIMEZONE
END:VCALENDAR
