BEGIN:VCALENDAR
VERSION:2.0
PRODID:-//destination.one//NONSGML destination.meta API//DE
X-WR-CALDESC:A calendar powered by destination.meta
X-WR-CALNAME:ostfriesland Kalender via destination.meta
BEGIN:VEVENT
CATEGORIES:Konzert
CATEGORIES:Musik sonstige
DESCRIPTION:open stage\n\nmehr Informationen unter http://pages.destination
 .one/de/ostfriesland/streaming/detail/Event/e_101226983/musikerstammtisch
DTEND;TZID=Europe/Berlin:20260426T010000
DTSTAMP:20260425T213642Z
DTSTART;TZID=Europe/Berlin:20260425T200000
GEO:53.326320;7.462700
LOCATION:Jugend- und Kulturzentrum PHöNIX e.V.\, Rorichmoorer Str. 64\, Moo
 rmerland
ORGANIZER;CN=Jugend- und Kulturzentrum PHöNIX e.V.:mailto:info@phoenix-mml.
 de
SEQUENCE:0
SUMMARY:Musikerstammtisch
UID:e_101226983_iv0
URL:http://pages.destination.one/de/ostfriesland/streaming/detail/Event/e_1
 01226983/musikerstammtisch
END:VEVENT
BEGIN:VTIMEZONE
TZID:Europe/Berlin
X-LIC-LOCATION:Europe/Berlin
BEGIN:DAYLIGHT
DTSTART:19700329T020000
RRULE:FREQ=YEARLY;BYDAY=-1SU;BYMONTH=3
TZNAME:CEST
TZOFFSETFROM:+0100
TZOFFSETTO:+0200
END:DAYLIGHT
BEGIN:STANDARD
DTSTART:19701025T030000
RRULE:FREQ=YEARLY;BYDAY=-1SU;BYMONTH=10
TZNAME:CET
TZOFFSETFROM:+0200
TZOFFSETTO:+0100
END:STANDARD
END:VTIMEZONE
END:VCALENDAR
