BEGIN:VCALENDAR
VERSION:2.0
PRODID:-//destination.one//NONSGML destination.meta API//DE
X-WR-CALDESC:A calendar powered by destination.meta
X-WR-CALNAME:ostfriesland Kalender via destination.meta
BEGIN:VEVENT
CATEGORIES:Kongress\, Konferenz\, Tagung sonstige
CATEGORIES:Verbrauchermesse
DESCRIPTION:Am 25. und 26. April wird im Metadrom nicht geschnackt\, sonder
 n gestochen – und das mit Stil!\n\nmehr Informationen unter http://pages.d
 estination.one/de/ostfriesland/streaming/detail/Event/e_101222328/tattooex
 po-ostfriesland
DTEND;TZID=Europe/Berlin:20260425T220000
DTSTAMP:20260425T213815Z
DTSTART;TZID=Europe/Berlin:20260425T110000
GEO:53.375590;7.591570
LOCATION:Metadrom\, Im Unterende N 1\, Großefehn
ORGANIZER;CN=Isabel Lerbs:mailto:isabel.lerbs@hotmail.de
SEQUENCE:0
SUMMARY:Tattooexpo Ostfriesland
UID:e_101222328_iv0
URL:http://pages.destination.one/de/ostfriesland/streaming/detail/Event/e_1
 01222328/tattooexpo-ostfriesland
END:VEVENT
BEGIN:VEVENT
CATEGORIES:Kongress\, Konferenz\, Tagung sonstige
CATEGORIES:Verbrauchermesse
DESCRIPTION:Am 25. und 26. April wird im Metadrom nicht geschnackt\, sonder
 n gestochen – und das mit Stil!\n\nmehr Informationen unter http://pages.d
 estination.one/de/ostfriesland/streaming/detail/Event/e_101222328/tattooex
 po-ostfriesland
DTEND;TZID=Europe/Berlin:20260426T190000
DTSTAMP:20260425T213815Z
DTSTART;TZID=Europe/Berlin:20260426T110000
GEO:53.375590;7.591570
LOCATION:Metadrom\, Im Unterende N 1\, Großefehn
ORGANIZER;CN=Isabel Lerbs:mailto:isabel.lerbs@hotmail.de
SEQUENCE:0
SUMMARY:Tattooexpo Ostfriesland
UID:e_101222328_iv1
URL:http://pages.destination.one/de/ostfriesland/streaming/detail/Event/e_1
 01222328/tattooexpo-ostfriesland
END:VEVENT
BEGIN:VTIMEZONE
TZID:Europe/Berlin
X-LIC-LOCATION:Europe/Berlin
BEGIN:DAYLIGHT
DTSTART:19700329T020000
RRULE:FREQ=YEARLY;BYDAY=-1SU;BYMONTH=3
TZNAME:CEST
TZOFFSETFROM:+0100
TZOFFSETTO:+0200
END:DAYLIGHT
BEGIN:STANDARD
DTSTART:19701025T030000
RRULE:FREQ=YEARLY;BYDAY=-1SU;BYMONTH=10
TZNAME:CET
TZOFFSETFROM:+0200
TZOFFSETTO:+0100
END:STANDARD
END:VTIMEZONE
END:VCALENDAR
