BEGIN:VCALENDAR
VERSION:2.0
PRODID:-//destination.one//NONSGML destination.meta API//DE
X-WR-CALDESC:A calendar powered by destination.meta
X-WR-CALNAME:ostfriesland Kalender via destination.meta
BEGIN:VEVENT
CATEGORIES:Ausstellung
DESCRIPTION:\n\nmehr Informationen unter http://pages.destination.one/de/os
 tfriesland/streaming/detail/Event/e_101218618/bilderausstellung-weite-well
 en-wunder
DTEND;TZID=Europe/Berlin:20260412T200000
DTSTAMP:20260420T012303Z
DTSTART;TZID=Europe/Berlin:20260412T100000
GEO:53.450289;8.120441
LOCATION:Weltnaturerbeportal Dangast\, Edo-Wiemken-Str. 61\, Varel Dangast
RRULE:FREQ=WEEKLY;UNTIL=20260501T180000;BYDAY=MO,TH,SA
SEQUENCE:0
SUMMARY:Bilderausstellung: Weite\, Wellen\, Wunder
UID:e_101218618_iv0
URL:http://pages.destination.one/de/ostfriesland/streaming/detail/Event/e_1
 01218618/bilderausstellung-weite-wellen-wunder
END:VEVENT
BEGIN:VTIMEZONE
TZID:Europe/Berlin
X-LIC-LOCATION:Europe/Berlin
BEGIN:DAYLIGHT
DTSTART:19700329T020000
RRULE:FREQ=YEARLY;BYDAY=-1SU;BYMONTH=3
TZNAME:CEST
TZOFFSETFROM:+0100
TZOFFSETTO:+0200
END:DAYLIGHT
BEGIN:STANDARD
DTSTART:19701025T030000
RRULE:FREQ=YEARLY;BYDAY=-1SU;BYMONTH=10
TZNAME:CET
TZOFFSETFROM:+0200
TZOFFSETTO:+0100
END:STANDARD
END:VTIMEZONE
END:VCALENDAR
