BEGIN:VCALENDAR
VERSION:2.0
PRODID:-//destination.one//NONSGML destination.meta API//DE
X-WR-CALDESC:A calendar powered by destination.meta
X-WR-CALNAME:ostfriesland Kalender via destination.meta
BEGIN:VEVENT
CATEGORIES:Bühnenkunst
CATEGORIES:Sprechtheater
CATEGORIES:Theater sonstige
DESCRIPTION:Theater auf Juist - "Alles für die Katz" \nTheater des Juister 
 Heimatvereins\n\nmehr Informationen unter http://pages.destination.one/de/
 ostfriesland/streaming/detail/Event/e_101215658/theater-alles-f-r-die-katz
 -theatergruppe-des-juister-heimatvereins
DTEND;TZID=Europe/Berlin:20260323T220000
DTSTAMP:20260420T215825Z
DTSTART;TZID=Europe/Berlin:20260323T200000
GEO:53.679718;6.998677
LOCATION:Haus des Kurgastes\, Großer Saal\, Haus des Kurgastes\, Großer Saa
 l – Strandpromenade 6\, Juist
SEQUENCE:0
SUMMARY:Theater: "Alles für die Katz" - Theatergruppe des Juister Heimatver
 eins
UID:e_101215658_iv0
URL:http://pages.destination.one/de/ostfriesland/streaming/detail/Event/e_1
 01215658/theater-alles-f-r-die-katz-theatergruppe-des-juister-heimatverein
 s
END:VEVENT
BEGIN:VEVENT
CATEGORIES:Bühnenkunst
CATEGORIES:Sprechtheater
CATEGORIES:Theater sonstige
DESCRIPTION:Theater auf Juist - "Alles für die Katz" \nTheater des Juister 
 Heimatvereins\n\nmehr Informationen unter http://pages.destination.one/de/
 ostfriesland/streaming/detail/Event/e_101215658/theater-alles-f-r-die-katz
 -theatergruppe-des-juister-heimatvereins
DTEND;TZID=Europe/Berlin:20260330T220000
DTSTAMP:20260420T215825Z
DTSTART;TZID=Europe/Berlin:20260330T200000
GEO:53.679718;6.998677
LOCATION:Haus des Kurgastes\, Großer Saal\, Haus des Kurgastes\, Großer Saa
 l – Strandpromenade 6\, Juist
SEQUENCE:0
SUMMARY:Theater: "Alles für die Katz" - Theatergruppe des Juister Heimatver
 eins
UID:e_101215658_iv1
URL:http://pages.destination.one/de/ostfriesland/streaming/detail/Event/e_1
 01215658/theater-alles-f-r-die-katz-theatergruppe-des-juister-heimatverein
 s
END:VEVENT
BEGIN:VEVENT
CATEGORIES:Bühnenkunst
CATEGORIES:Sprechtheater
CATEGORIES:Theater sonstige
DESCRIPTION:Theater auf Juist - "Alles für die Katz" \nTheater des Juister 
 Heimatvereins\n\nmehr Informationen unter http://pages.destination.one/de/
 ostfriesland/streaming/detail/Event/e_101215658/theater-alles-f-r-die-katz
 -theatergruppe-des-juister-heimatvereins
DTEND;TZID=Europe/Berlin:20260420T220000
DTSTAMP:20260420T215825Z
DTSTART;TZID=Europe/Berlin:20260420T200000
GEO:53.679718;6.998677
LOCATION:Haus des Kurgastes\, Großer Saal\, Haus des Kurgastes\, Großer Saa
 l – Strandpromenade 6\, Juist
SEQUENCE:0
SUMMARY:Theater: "Alles für die Katz" - Theatergruppe des Juister Heimatver
 eins
UID:e_101215658_iv2
URL:http://pages.destination.one/de/ostfriesland/streaming/detail/Event/e_1
 01215658/theater-alles-f-r-die-katz-theatergruppe-des-juister-heimatverein
 s
END:VEVENT
BEGIN:VEVENT
CATEGORIES:Bühnenkunst
CATEGORIES:Sprechtheater
CATEGORIES:Theater sonstige
DESCRIPTION:Theater auf Juist - "Alles für die Katz" \nTheater des Juister 
 Heimatvereins\n\nmehr Informationen unter http://pages.destination.one/de/
 ostfriesland/streaming/detail/Event/e_101215658/theater-alles-f-r-die-katz
 -theatergruppe-des-juister-heimatvereins
DTEND;TZID=Europe/Berlin:20260511T220000
DTSTAMP:20260420T215825Z
DTSTART;TZID=Europe/Berlin:20260511T200000
GEO:53.679718;6.998677
LOCATION:Haus des Kurgastes\, Großer Saal\, Haus des Kurgastes\, Großer Saa
 l – Strandpromenade 6\, Juist
SEQUENCE:0
SUMMARY:Theater: "Alles für die Katz" - Theatergruppe des Juister Heimatver
 eins
UID:e_101215658_iv3
URL:http://pages.destination.one/de/ostfriesland/streaming/detail/Event/e_1
 01215658/theater-alles-f-r-die-katz-theatergruppe-des-juister-heimatverein
 s
END:VEVENT
BEGIN:VEVENT
CATEGORIES:Bühnenkunst
CATEGORIES:Sprechtheater
CATEGORIES:Theater sonstige
DESCRIPTION:Theater auf Juist - "Alles für die Katz" \nTheater des Juister 
 Heimatvereins\n\nmehr Informationen unter http://pages.destination.one/de/
 ostfriesland/streaming/detail/Event/e_101215658/theater-alles-f-r-die-katz
 -theatergruppe-des-juister-heimatvereins
DTEND;TZID=Europe/Berlin:20260615T220000
DTSTAMP:20260420T215825Z
DTSTART;TZID=Europe/Berlin:20260615T200000
GEO:53.679718;6.998677
LOCATION:Haus des Kurgastes\, Großer Saal\, Haus des Kurgastes\, Großer Saa
 l – Strandpromenade 6\, Juist
SEQUENCE:0
SUMMARY:Theater: "Alles für die Katz" - Theatergruppe des Juister Heimatver
 eins
UID:e_101215658_iv4
URL:http://pages.destination.one/de/ostfriesland/streaming/detail/Event/e_1
 01215658/theater-alles-f-r-die-katz-theatergruppe-des-juister-heimatverein
 s
END:VEVENT
BEGIN:VEVENT
CATEGORIES:Bühnenkunst
CATEGORIES:Sprechtheater
CATEGORIES:Theater sonstige
DESCRIPTION:Theater auf Juist - "Alles für die Katz" \nTheater des Juister 
 Heimatvereins\n\nmehr Informationen unter http://pages.destination.one/de/
 ostfriesland/streaming/detail/Event/e_101215658/theater-alles-f-r-die-katz
 -theatergruppe-des-juister-heimatvereins
DTEND;TZID=Europe/Berlin:20260713T220000
DTSTAMP:20260420T215825Z
DTSTART;TZID=Europe/Berlin:20260713T200000
GEO:53.679718;6.998677
LOCATION:Haus des Kurgastes\, Großer Saal\, Haus des Kurgastes\, Großer Saa
 l – Strandpromenade 6\, Juist
SEQUENCE:0
SUMMARY:Theater: "Alles für die Katz" - Theatergruppe des Juister Heimatver
 eins
UID:e_101215658_iv5
URL:http://pages.destination.one/de/ostfriesland/streaming/detail/Event/e_1
 01215658/theater-alles-f-r-die-katz-theatergruppe-des-juister-heimatverein
 s
END:VEVENT
BEGIN:VEVENT
CATEGORIES:Bühnenkunst
CATEGORIES:Sprechtheater
CATEGORIES:Theater sonstige
DESCRIPTION:Theater auf Juist - "Alles für die Katz" \nTheater des Juister 
 Heimatvereins\n\nmehr Informationen unter http://pages.destination.one/de/
 ostfriesland/streaming/detail/Event/e_101215658/theater-alles-f-r-die-katz
 -theatergruppe-des-juister-heimatvereins
DTEND;TZID=Europe/Berlin:20260914T220000
DTSTAMP:20260420T215825Z
DTSTART;TZID=Europe/Berlin:20260914T200000
GEO:53.679718;6.998677
LOCATION:Haus des Kurgastes\, Großer Saal\, Haus des Kurgastes\, Großer Saa
 l – Strandpromenade 6\, Juist
SEQUENCE:0
SUMMARY:Theater: "Alles für die Katz" - Theatergruppe des Juister Heimatver
 eins
UID:e_101215658_iv6
URL:http://pages.destination.one/de/ostfriesland/streaming/detail/Event/e_1
 01215658/theater-alles-f-r-die-katz-theatergruppe-des-juister-heimatverein
 s
END:VEVENT
BEGIN:VEVENT
CATEGORIES:Bühnenkunst
CATEGORIES:Sprechtheater
CATEGORIES:Theater sonstige
DESCRIPTION:Theater auf Juist - "Alles für die Katz" \nTheater des Juister 
 Heimatvereins\n\nmehr Informationen unter http://pages.destination.one/de/
 ostfriesland/streaming/detail/Event/e_101215658/theater-alles-f-r-die-katz
 -theatergruppe-des-juister-heimatvereins
DTEND;TZID=Europe/Berlin:20261012T220000
DTSTAMP:20260420T215825Z
DTSTART;TZID=Europe/Berlin:20261012T200000
GEO:53.679718;6.998677
LOCATION:Haus des Kurgastes\, Großer Saal\, Haus des Kurgastes\, Großer Saa
 l – Strandpromenade 6\, Juist
SEQUENCE:0
SUMMARY:Theater: "Alles für die Katz" - Theatergruppe des Juister Heimatver
 eins
UID:e_101215658_iv7
URL:http://pages.destination.one/de/ostfriesland/streaming/detail/Event/e_1
 01215658/theater-alles-f-r-die-katz-theatergruppe-des-juister-heimatverein
 s
END:VEVENT
BEGIN:VTIMEZONE
TZID:Europe/Berlin
X-LIC-LOCATION:Europe/Berlin
BEGIN:DAYLIGHT
DTSTART:19700329T020000
RRULE:FREQ=YEARLY;BYDAY=-1SU;BYMONTH=3
TZNAME:CEST
TZOFFSETFROM:+0100
TZOFFSETTO:+0200
END:DAYLIGHT
BEGIN:STANDARD
DTSTART:19701025T030000
RRULE:FREQ=YEARLY;BYDAY=-1SU;BYMONTH=10
TZNAME:CET
TZOFFSETFROM:+0200
TZOFFSETTO:+0100
END:STANDARD
END:VTIMEZONE
END:VCALENDAR
