BEGIN:VCALENDAR
VERSION:2.0
PRODID:-//destination.one//NONSGML destination.meta API//DE
X-WR-CALDESC:A calendar powered by destination.meta
X-WR-CALNAME:ostfriesland Kalender via destination.meta
BEGIN:VEVENT
CATEGORIES:Comedy
CATEGORIES:Bühnenkunst
CATEGORIES:Poetry Slam
DESCRIPTION:\n\nmehr Informationen unter http://pages.destination.one/de/os
 tfriesland/streaming/detail/Event/e_101200664/poetry-slam-show-in-holtrop
DTEND;TZID=Europe/Berlin:20260425T213000
DTSTAMP:20260425T214102Z
DTSTART;TZID=Europe/Berlin:20260425T193000
GEO:53.429250;7.570840
LOCATION:Grundschule Holtrop\, Mühlenweg 2\, Großefehn
ORGANIZER;CN=Lesetoll e.V.:mailto:heidrun@lesetoll.de
SEQUENCE:0
SUMMARY:Poetry-Slam-Show in Holtrop
UID:e_101200664_iv0
URL:http://pages.destination.one/de/ostfriesland/streaming/detail/Event/e_1
 01200664/poetry-slam-show-in-holtrop
END:VEVENT
BEGIN:VTIMEZONE
TZID:Europe/Berlin
X-LIC-LOCATION:Europe/Berlin
BEGIN:DAYLIGHT
DTSTART:19700329T020000
RRULE:FREQ=YEARLY;BYDAY=-1SU;BYMONTH=3
TZNAME:CEST
TZOFFSETFROM:+0100
TZOFFSETTO:+0200
END:DAYLIGHT
BEGIN:STANDARD
DTSTART:19701025T030000
RRULE:FREQ=YEARLY;BYDAY=-1SU;BYMONTH=10
TZNAME:CET
TZOFFSETFROM:+0200
TZOFFSETTO:+0100
END:STANDARD
END:VTIMEZONE
END:VCALENDAR
