BEGIN:VCALENDAR
VERSION:2.0
PRODID:-//destination.one//NONSGML destination.meta API//DE
X-WR-CALDESC:A calendar powered by destination.meta
X-WR-CALNAME:ostfriesland Kalender via destination.meta
BEGIN:VEVENT
CATEGORIES:Schützenfest
DESCRIPTION:Zum 75-jährigen Jubiläum feiert Leuchtenburg ein fröhliches Sch
 ützenfest mit Tradition\, Musik und bester Stimmung für die ganze Familie.
 \n\nmehr Informationen unter http://pages.destination.one/de/ostfriesland/
 streaming/detail/Event/e_101180013/sch-tzenfest-leuchtenburg
DTEND;TZID=Europe/Berlin:20260421T230000
DTSTAMP:20260422T004509Z
DTSTART;TZID=Europe/Berlin:20260421T183000
GEO:53.250777;8.195176
LOCATION:Schützenverein Leuchtenburg e. V.\, Sommerweg 10\, Rastede
ORGANIZER;CN=Schützenverein Leuchtenburg:mailto:info@schuetzenverein-leucht
 enburg.de
SEQUENCE:0
SUMMARY:Schützenfest Leuchtenburg
UID:e_101180013_iv0
URL:http://pages.destination.one/de/ostfriesland/streaming/detail/Event/e_1
 01180013/sch-tzenfest-leuchtenburg
END:VEVENT
BEGIN:VEVENT
CATEGORIES:Schützenfest
DESCRIPTION:Zum 75-jährigen Jubiläum feiert Leuchtenburg ein fröhliches Sch
 ützenfest mit Tradition\, Musik und bester Stimmung für die ganze Familie.
 \n\nmehr Informationen unter http://pages.destination.one/de/ostfriesland/
 streaming/detail/Event/e_101180013/sch-tzenfest-leuchtenburg
DTEND;TZID=Europe/Berlin:20260422T230000
DTSTAMP:20260422T004509Z
DTSTART;TZID=Europe/Berlin:20260422T183000
GEO:53.250777;8.195176
LOCATION:Schützenverein Leuchtenburg e. V.\, Sommerweg 10\, Rastede
ORGANIZER;CN=Schützenverein Leuchtenburg:mailto:info@schuetzenverein-leucht
 enburg.de
SEQUENCE:0
SUMMARY:Schützenfest Leuchtenburg
UID:e_101180013_iv1
URL:http://pages.destination.one/de/ostfriesland/streaming/detail/Event/e_1
 01180013/sch-tzenfest-leuchtenburg
END:VEVENT
BEGIN:VEVENT
CATEGORIES:Schützenfest
DESCRIPTION:Zum 75-jährigen Jubiläum feiert Leuchtenburg ein fröhliches Sch
 ützenfest mit Tradition\, Musik und bester Stimmung für die ganze Familie.
 \n\nmehr Informationen unter http://pages.destination.one/de/ostfriesland/
 streaming/detail/Event/e_101180013/sch-tzenfest-leuchtenburg
DTEND;TZID=Europe/Berlin:20260425T040000
DTSTAMP:20260422T004509Z
DTSTART;TZID=Europe/Berlin:20260424T210000
GEO:53.250777;8.195176
LOCATION:Schützenverein Leuchtenburg e. V.\, Sommerweg 10\, Rastede
ORGANIZER;CN=Schützenverein Leuchtenburg:mailto:info@schuetzenverein-leucht
 enburg.de
SEQUENCE:0
SUMMARY:Schützenfest Leuchtenburg
UID:e_101180013_iv2
URL:http://pages.destination.one/de/ostfriesland/streaming/detail/Event/e_1
 01180013/sch-tzenfest-leuchtenburg
END:VEVENT
BEGIN:VEVENT
CATEGORIES:Schützenfest
DESCRIPTION:Zum 75-jährigen Jubiläum feiert Leuchtenburg ein fröhliches Sch
 ützenfest mit Tradition\, Musik und bester Stimmung für die ganze Familie.
 \n\nmehr Informationen unter http://pages.destination.one/de/ostfriesland/
 streaming/detail/Event/e_101180013/sch-tzenfest-leuchtenburg
DTEND;TZID=Europe/Berlin:20260425T170000
DTSTAMP:20260422T004509Z
DTSTART;TZID=Europe/Berlin:20260425T143000
GEO:53.250777;8.195176
LOCATION:Schützenverein Leuchtenburg e. V.\, Sommerweg 10\, Rastede
ORGANIZER;CN=Schützenverein Leuchtenburg:mailto:info@schuetzenverein-leucht
 enburg.de
SEQUENCE:0
SUMMARY:Schützenfest Leuchtenburg
UID:e_101180013_iv3
URL:http://pages.destination.one/de/ostfriesland/streaming/detail/Event/e_1
 01180013/sch-tzenfest-leuchtenburg
END:VEVENT
BEGIN:VEVENT
CATEGORIES:Schützenfest
DESCRIPTION:Zum 75-jährigen Jubiläum feiert Leuchtenburg ein fröhliches Sch
 ützenfest mit Tradition\, Musik und bester Stimmung für die ganze Familie.
 \n\nmehr Informationen unter http://pages.destination.one/de/ostfriesland/
 streaming/detail/Event/e_101180013/sch-tzenfest-leuchtenburg
DTEND;TZID=Europe/Berlin:20260426T030000
DTSTAMP:20260422T004509Z
DTSTART;TZID=Europe/Berlin:20260425T190000
GEO:53.250777;8.195176
LOCATION:Schützenverein Leuchtenburg e. V.\, Sommerweg 10\, Rastede
ORGANIZER;CN=Schützenverein Leuchtenburg:mailto:info@schuetzenverein-leucht
 enburg.de
SEQUENCE:0
SUMMARY:Schützenfest Leuchtenburg
UID:e_101180013_iv4
URL:http://pages.destination.one/de/ostfriesland/streaming/detail/Event/e_1
 01180013/sch-tzenfest-leuchtenburg
END:VEVENT
BEGIN:VEVENT
CATEGORIES:Schützenfest
DESCRIPTION:Zum 75-jährigen Jubiläum feiert Leuchtenburg ein fröhliches Sch
 ützenfest mit Tradition\, Musik und bester Stimmung für die ganze Familie.
 \n\nmehr Informationen unter http://pages.destination.one/de/ostfriesland/
 streaming/detail/Event/e_101180013/sch-tzenfest-leuchtenburg
DTEND;TZID=Europe/Berlin:20260426T180000
DTSTAMP:20260422T004509Z
DTSTART;TZID=Europe/Berlin:20260426T140000
GEO:53.250777;8.195176
LOCATION:Schützenverein Leuchtenburg e. V.\, Sommerweg 10\, Rastede
ORGANIZER;CN=Schützenverein Leuchtenburg:mailto:info@schuetzenverein-leucht
 enburg.de
SEQUENCE:0
SUMMARY:Schützenfest Leuchtenburg
UID:e_101180013_iv5
URL:http://pages.destination.one/de/ostfriesland/streaming/detail/Event/e_1
 01180013/sch-tzenfest-leuchtenburg
END:VEVENT
BEGIN:VTIMEZONE
TZID:Europe/Berlin
X-LIC-LOCATION:Europe/Berlin
BEGIN:DAYLIGHT
DTSTART:19700329T020000
RRULE:FREQ=YEARLY;BYDAY=-1SU;BYMONTH=3
TZNAME:CEST
TZOFFSETFROM:+0100
TZOFFSETTO:+0200
END:DAYLIGHT
BEGIN:STANDARD
DTSTART:19701025T030000
RRULE:FREQ=YEARLY;BYDAY=-1SU;BYMONTH=10
TZNAME:CET
TZOFFSETFROM:+0200
TZOFFSETTO:+0100
END:STANDARD
END:VTIMEZONE
END:VCALENDAR
