BEGIN:VCALENDAR
VERSION:2.0
PRODID:-//destination.one//NONSGML destination.meta API//DE
X-WR-CALDESC:A calendar powered by destination.meta
X-WR-CALNAME:ostfriesland Kalender via destination.meta
BEGIN:VEVENT
CATEGORIES:Kino
DESCRIPTION:Jeden Montag und Mittwoch um 20 Uhr im CineStar Emden\n\nmehr I
 nformationen unter http://pages.destination.one/de/ostfriesland/streaming/
 detail/Event/e_101172896/vhs-filmclub-emden
DTEND;TZID=Europe/Berlin:20260420T220000
DTSTAMP:20260420T215447Z
DTSTART;TZID=Europe/Berlin:20260420T200000
GEO:53.368370;7.198260
LOCATION:Cinestar Emden\, Abdenastr. 15\, Emden
RRULE:FREQ=WEEKLY;BYDAY=MO
SEQUENCE:0
SUMMARY:vhs Filmclub Emden
UID:e_101172896_iv0
URL:http://pages.destination.one/de/ostfriesland/streaming/detail/Event/e_1
 01172896/vhs-filmclub-emden
END:VEVENT
BEGIN:VEVENT
CATEGORIES:Kino
DESCRIPTION:Jeden Montag und Mittwoch um 20 Uhr im CineStar Emden\n\nmehr I
 nformationen unter http://pages.destination.one/de/ostfriesland/streaming/
 detail/Event/e_101172896/vhs-filmclub-emden
DTEND;TZID=Europe/Berlin:20260422T220000
DTSTAMP:20260420T215447Z
DTSTART;TZID=Europe/Berlin:20260422T200000
GEO:53.368370;7.198260
LOCATION:Cinestar Emden\, Abdenastr. 15\, Emden
RRULE:FREQ=WEEKLY;BYDAY=WE
SEQUENCE:0
SUMMARY:vhs Filmclub Emden
UID:e_101172896_iv1
URL:http://pages.destination.one/de/ostfriesland/streaming/detail/Event/e_1
 01172896/vhs-filmclub-emden
END:VEVENT
BEGIN:VTIMEZONE
TZID:Europe/Berlin
X-LIC-LOCATION:Europe/Berlin
BEGIN:DAYLIGHT
DTSTART:19700329T020000
RRULE:FREQ=YEARLY;BYDAY=-1SU;BYMONTH=3
TZNAME:CEST
TZOFFSETFROM:+0100
TZOFFSETTO:+0200
END:DAYLIGHT
BEGIN:STANDARD
DTSTART:19701025T030000
RRULE:FREQ=YEARLY;BYDAY=-1SU;BYMONTH=10
TZNAME:CET
TZOFFSETFROM:+0200
TZOFFSETTO:+0100
END:STANDARD
END:VTIMEZONE
END:VCALENDAR
