BEGIN:VCALENDAR
VERSION:2.0
PRODID:-//destination.one//NONSGML destination.meta API//DE
X-WR-CALDESC:A calendar powered by destination.meta
X-WR-CALNAME:ostfriesland Kalender via destination.meta
BEGIN:VEVENT
CATEGORIES:Buchmesse
CATEGORIES:Lesung
CATEGORIES:Vortrag\, Diskussion\, Lesung sonstige
DESCRIPTION:„Eine Insel liest ein Buch“ - Literaturwoche auf Juist\n\nmehr 
 Informationen unter http://pages.destination.one/de/ostfriesland/streaming
 /detail/Event/e_101172363/eine-insel-liest-ein-buch-literaturwoche-auf-jui
 st
DTEND;TZID=Europe/Berlin;VALUE=DATE:20260421
DTSTAMP:20260420T220143Z
DTSTART;TZID=Europe/Berlin;VALUE=DATE:20260420
GEO:53.679629;6.999063
LOCATION:Haus des Kurgastes\, Haus des Kurgastes\, Strandpromenade 6\, Juis
 t
RRULE:FREQ=DAILY;UNTIL=20260423T220000
SEQUENCE:0
SUMMARY:"Eine Insel liest ein Buch" - Literaturwoche auf Juist
UID:e_101172363_iv0
URL:http://pages.destination.one/de/ostfriesland/streaming/detail/Event/e_1
 01172363/eine-insel-liest-ein-buch-literaturwoche-auf-juist
END:VEVENT
BEGIN:VTIMEZONE
TZID:Europe/Berlin
X-LIC-LOCATION:Europe/Berlin
BEGIN:DAYLIGHT
DTSTART:19700329T020000
RRULE:FREQ=YEARLY;BYDAY=-1SU;BYMONTH=3
TZNAME:CEST
TZOFFSETFROM:+0100
TZOFFSETTO:+0200
END:DAYLIGHT
BEGIN:STANDARD
DTSTART:19701025T030000
RRULE:FREQ=YEARLY;BYDAY=-1SU;BYMONTH=10
TZNAME:CET
TZOFFSETFROM:+0200
TZOFFSETTO:+0100
END:STANDARD
END:VTIMEZONE
END:VCALENDAR
