BEGIN:VCALENDAR
VERSION:2.0
PRODID:-//destination.one//NONSGML destination.meta API//DE
X-WR-CALDESC:A calendar powered by destination.meta
X-WR-CALNAME:ostfriesland Kalender via destination.meta
BEGIN:VEVENT
CATEGORIES:Gesundheit sonstige
CATEGORIES:Gesundheit und Prävention
CATEGORIES:Kurs
CATEGORIES:Seminar/Kurs/Workshop sonstige
CATEGORIES:Sport sonstige
CATEGORIES:Sportkurs
DESCRIPTION:Wudang Qigong - Gesundheitswoche auf Juist\n\nmehr Informatione
 n unter http://pages.destination.one/de/ostfriesland/streaming/detail/Even
 t/e_101131361/wudang-qigong-gesundheitswoche
DTEND;TZID=Europe/Berlin:20260413T120000
DTSTAMP:20260421T110001Z
DTSTART;TZID=Europe/Berlin:20260413T103000
GEO:53.679718;6.998677
LOCATION:Haus des Kurgastes\, Großer Saal\, Haus des Kurgastes\, Großer Saa
 l – Strandpromenade 6\, Juist
RRULE:FREQ=WEEKLY;UNTIL=20260417T083000;BYDAY=MO,TU,WE,TH,FR,SA,SU
SEQUENCE:0
SUMMARY:Wudang Qigong - Gesundheitswoche
UID:e_101131361_iv0
URL:http://pages.destination.one/de/ostfriesland/streaming/detail/Event/e_1
 01131361/wudang-qigong-gesundheitswoche
END:VEVENT
BEGIN:VTIMEZONE
TZID:Europe/Berlin
X-LIC-LOCATION:Europe/Berlin
BEGIN:DAYLIGHT
DTSTART:19700329T020000
RRULE:FREQ=YEARLY;BYDAY=-1SU;BYMONTH=3
TZNAME:CEST
TZOFFSETFROM:+0100
TZOFFSETTO:+0200
END:DAYLIGHT
BEGIN:STANDARD
DTSTART:19701025T030000
RRULE:FREQ=YEARLY;BYDAY=-1SU;BYMONTH=10
TZNAME:CET
TZOFFSETFROM:+0200
TZOFFSETTO:+0100
END:STANDARD
END:VTIMEZONE
END:VCALENDAR
