BEGIN:VCALENDAR
VERSION:2.0
PRODID:-//destination.one//NONSGML destination.meta API//DE
X-WR-CALDESC:A calendar powered by destination.meta
X-WR-CALNAME:ostfriesland Kalender via destination.meta
BEGIN:VEVENT
CATEGORIES:Wochenmarkt
DESCRIPTION:Regionaler Genuss in gemütlicher Dorfatmosphäre: der Wochenmark
 t in Apen.\n\nmehr Informationen unter http://pages.destination.one/de/ost
 friesland/streaming/detail/Event/e_101129706/wochenmarkt-in-apen
DTEND;TZID=Europe/Berlin:20200122T120000
DTSTAMP:20260422T004246Z
DTSTART;TZID=Europe/Berlin:20200122T070000
GEO:53.218317;7.806473
LOCATION:Gemeinde Apen\, Hauptstr. 200\, Apen
ORGANIZER;CN=Gemeinde Apen:mailto:gemeinde@apen.de
RRULE:FREQ=WEEKLY;UNTIL=20201202T110000;BYDAY=WE
SEQUENCE:0
SUMMARY:Wochenmarkt in Apen
UID:e_101129706_iv0
URL:http://pages.destination.one/de/ostfriesland/streaming/detail/Event/e_1
 01129706/wochenmarkt-in-apen
END:VEVENT
BEGIN:VEVENT
CATEGORIES:Wochenmarkt
DESCRIPTION:Regionaler Genuss in gemütlicher Dorfatmosphäre: der Wochenmark
 t in Apen.\n\nmehr Informationen unter http://pages.destination.one/de/ost
 friesland/streaming/detail/Event/e_101129706/wochenmarkt-in-apen
DTEND;TZID=Europe/Berlin:20211103T120000
DTSTAMP:20260422T004246Z
DTSTART;TZID=Europe/Berlin:20211103T070000
GEO:53.218317;7.806473
LOCATION:Gemeinde Apen\, Hauptstr. 200\, Apen
ORGANIZER;CN=Gemeinde Apen:mailto:gemeinde@apen.de
RRULE:FREQ=WEEKLY;UNTIL=20211228T110000;BYDAY=WE
SEQUENCE:0
SUMMARY:Wochenmarkt in Apen
UID:e_101129706_iv1
URL:http://pages.destination.one/de/ostfriesland/streaming/detail/Event/e_1
 01129706/wochenmarkt-in-apen
END:VEVENT
BEGIN:VEVENT
CATEGORIES:Wochenmarkt
DESCRIPTION:Regionaler Genuss in gemütlicher Dorfatmosphäre: der Wochenmark
 t in Apen.\n\nmehr Informationen unter http://pages.destination.one/de/ost
 friesland/streaming/detail/Event/e_101129706/wochenmarkt-in-apen
DTEND;TZID=Europe/Berlin:20211229T120000
DTSTAMP:20260422T004246Z
DTSTART;TZID=Europe/Berlin:20211229T070000
GEO:53.218317;7.806473
LOCATION:Gemeinde Apen\, Hauptstr. 200\, Apen
ORGANIZER;CN=Gemeinde Apen:mailto:gemeinde@apen.de
SEQUENCE:0
SUMMARY:Wochenmarkt in Apen
UID:e_101129706_iv2
URL:http://pages.destination.one/de/ostfriesland/streaming/detail/Event/e_1
 01129706/wochenmarkt-in-apen
END:VEVENT
BEGIN:VEVENT
CATEGORIES:Wochenmarkt
DESCRIPTION:Regionaler Genuss in gemütlicher Dorfatmosphäre: der Wochenmark
 t in Apen.\n\nmehr Informationen unter http://pages.destination.one/de/ost
 friesland/streaming/detail/Event/e_101129706/wochenmarkt-in-apen
DTEND;TZID=Europe/Berlin:20220119T120000
DTSTAMP:20260422T004246Z
DTSTART;TZID=Europe/Berlin:20220119T070000
GEO:53.218317;7.806473
LOCATION:Gemeinde Apen\, Hauptstr. 200\, Apen
ORGANIZER;CN=Gemeinde Apen:mailto:gemeinde@apen.de
RRULE:FREQ=WEEKLY;UNTIL=20241001T100000;BYDAY=WE
SEQUENCE:0
SUMMARY:Wochenmarkt in Apen
UID:e_101129706_iv3
URL:http://pages.destination.one/de/ostfriesland/streaming/detail/Event/e_1
 01129706/wochenmarkt-in-apen
END:VEVENT
BEGIN:VEVENT
CATEGORIES:Wochenmarkt
DESCRIPTION:Regionaler Genuss in gemütlicher Dorfatmosphäre: der Wochenmark
 t in Apen.\n\nmehr Informationen unter http://pages.destination.one/de/ost
 friesland/streaming/detail/Event/e_101129706/wochenmarkt-in-apen
DTEND;TZID=Europe/Berlin:20251008T120000
DTSTAMP:20260422T004246Z
DTSTART;TZID=Europe/Berlin:20251008T070000
GEO:53.218317;7.806473
LOCATION:Gemeinde Apen\, Hauptstr. 200\, Apen
ORGANIZER;CN=Gemeinde Apen:mailto:gemeinde@apen.de
RRULE:FREQ=WEEKLY;BYDAY=WE
SEQUENCE:0
SUMMARY:Wochenmarkt in Apen
UID:e_101129706_iv4
URL:http://pages.destination.one/de/ostfriesland/streaming/detail/Event/e_1
 01129706/wochenmarkt-in-apen
END:VEVENT
BEGIN:VTIMEZONE
TZID:Europe/Berlin
X-LIC-LOCATION:Europe/Berlin
BEGIN:DAYLIGHT
DTSTART:19700329T020000
RRULE:FREQ=YEARLY;BYDAY=-1SU;BYMONTH=3
TZNAME:CEST
TZOFFSETFROM:+0100
TZOFFSETTO:+0200
END:DAYLIGHT
BEGIN:STANDARD
DTSTART:19701025T030000
RRULE:FREQ=YEARLY;BYDAY=-1SU;BYMONTH=10
TZNAME:CET
TZOFFSETFROM:+0200
TZOFFSETTO:+0100
END:STANDARD
END:VTIMEZONE
END:VCALENDAR
