BEGIN:VCALENDAR
VERSION:2.0
PRODID:-//destination.one//NONSGML destination.meta API//DE
X-WR-CALDESC:A calendar powered by destination.meta
X-WR-CALNAME:ostfriesland Kalender via destination.meta
BEGIN:VEVENT
CATEGORIES:Show sonstige
CATEGORIES:Musical-Dinner
DESCRIPTION:\n\nmehr Informationen unter http://pages.destination.one/de/os
 tfriesland/streaming/detail/Event/e_101120060/die-eurovision-song-contest-
 dinnershow
DTEND;TZID=Europe/Berlin:20260425T230000
DTSTAMP:20260425T214145Z
DTSTART;TZID=Europe/Berlin:20260425T183000
GEO:53.256977;7.928567
LOCATION:Voss - Das Schokoladenhotel\, Bahnhofstraße 17\, Westerstede
ORGANIZER;CN=Julia Marquardt:mailto:j.marquardt@schokoladenhotel.de
SEQUENCE:0
SUMMARY:🌍Die Eurovision-Song-Contest Dinnershow 🎤
UID:e_101120060_iv0
URL:http://pages.destination.one/de/ostfriesland/streaming/detail/Event/e_1
 01120060/die-eurovision-song-contest-dinnershow
END:VEVENT
BEGIN:VTIMEZONE
TZID:Europe/Berlin
X-LIC-LOCATION:Europe/Berlin
BEGIN:DAYLIGHT
DTSTART:19700329T020000
RRULE:FREQ=YEARLY;BYDAY=-1SU;BYMONTH=3
TZNAME:CEST
TZOFFSETFROM:+0100
TZOFFSETTO:+0200
END:DAYLIGHT
BEGIN:STANDARD
DTSTART:19701025T030000
RRULE:FREQ=YEARLY;BYDAY=-1SU;BYMONTH=10
TZNAME:CET
TZOFFSETFROM:+0200
TZOFFSETTO:+0100
END:STANDARD
END:VTIMEZONE
END:VCALENDAR
