BEGIN:VCALENDAR
VERSION:2.0
PRODID:-//destination.one//NONSGML destination.meta API//DE
X-WR-CALDESC:A calendar powered by destination.meta
X-WR-CALNAME:ostfriesland Kalender via destination.meta
BEGIN:VEVENT
CATEGORIES:Yoga
DESCRIPTION:In diesem Kurs können Sie mit Yoga eine Auszeit nehmen.\n\nmehr
  Informationen unter http://pages.destination.one/de/ostfriesland/streamin
 g/detail/Event/e_101083192/spiegelhaus-woltzeten-yinyoga
DTEND;TZID=Europe/Berlin:20260127T103000
DTSTAMP:20260420T215701Z
DTSTART;TZID=Europe/Berlin:20260127T090000
GEO:53.398661;7.092007
LOCATION:Ferienhof Spiegelhaus\, Sabine Hendler\, Leege Weg 4 \, Krummhörn 
 Woltzeten
ORGANIZER;CN="Ferienhof Spiegelhaus, Sabine Hendler":mailto:sabinehendler@e
 wetel.net
SEQUENCE:0
SUMMARY:Spiegelhaus Woltzeten:  YinYoga
UID:e_101083192_iv0
URL:http://pages.destination.one/de/ostfriesland/streaming/detail/Event/e_1
 01083192/spiegelhaus-woltzeten-yinyoga
END:VEVENT
BEGIN:VEVENT
CATEGORIES:Yoga
DESCRIPTION:In diesem Kurs können Sie mit Yoga eine Auszeit nehmen.\n\nmehr
  Informationen unter http://pages.destination.one/de/ostfriesland/streamin
 g/detail/Event/e_101083192/spiegelhaus-woltzeten-yinyoga
DTEND;TZID=Europe/Berlin:20260203T103000
DTSTAMP:20260420T215701Z
DTSTART;TZID=Europe/Berlin:20260203T090000
GEO:53.398661;7.092007
LOCATION:Ferienhof Spiegelhaus\, Sabine Hendler\, Leege Weg 4 \, Krummhörn 
 Woltzeten
ORGANIZER;CN="Ferienhof Spiegelhaus, Sabine Hendler":mailto:sabinehendler@e
 wetel.net
RRULE:FREQ=WEEKLY;UNTIL=20260317T093000;BYDAY=TU
SEQUENCE:0
SUMMARY:Spiegelhaus Woltzeten:  YinYoga
UID:e_101083192_iv1
URL:http://pages.destination.one/de/ostfriesland/streaming/detail/Event/e_1
 01083192/spiegelhaus-woltzeten-yinyoga
END:VEVENT
BEGIN:VEVENT
CATEGORIES:Yoga
DESCRIPTION:In diesem Kurs können Sie mit Yoga eine Auszeit nehmen.\n\nmehr
  Informationen unter http://pages.destination.one/de/ostfriesland/streamin
 g/detail/Event/e_101083192/spiegelhaus-woltzeten-yinyoga
DTEND;TZID=Europe/Berlin:20260421T103000
DTSTAMP:20260420T215701Z
DTSTART;TZID=Europe/Berlin:20260421T090000
GEO:53.398661;7.092007
LOCATION:Ferienhof Spiegelhaus\, Sabine Hendler\, Leege Weg 4 \, Krummhörn 
 Woltzeten
ORGANIZER;CN="Ferienhof Spiegelhaus, Sabine Hendler":mailto:sabinehendler@e
 wetel.net
RRULE:FREQ=WEEKLY;UNTIL=20260505T083000;BYDAY=TU
SEQUENCE:0
SUMMARY:Spiegelhaus Woltzeten:  YinYoga
UID:e_101083192_iv2
URL:http://pages.destination.one/de/ostfriesland/streaming/detail/Event/e_1
 01083192/spiegelhaus-woltzeten-yinyoga
END:VEVENT
BEGIN:VEVENT
CATEGORIES:Yoga
DESCRIPTION:In diesem Kurs können Sie mit Yoga eine Auszeit nehmen.\n\nmehr
  Informationen unter http://pages.destination.one/de/ostfriesland/streamin
 g/detail/Event/e_101083192/spiegelhaus-woltzeten-yinyoga
DTEND;TZID=Europe/Berlin:20260519T103000
DTSTAMP:20260420T215701Z
DTSTART;TZID=Europe/Berlin:20260519T090000
GEO:53.398661;7.092007
LOCATION:Ferienhof Spiegelhaus\, Sabine Hendler\, Leege Weg 4 \, Krummhörn 
 Woltzeten
ORGANIZER;CN="Ferienhof Spiegelhaus, Sabine Hendler":mailto:sabinehendler@e
 wetel.net
SEQUENCE:0
SUMMARY:Spiegelhaus Woltzeten:  YinYoga
UID:e_101083192_iv3
URL:http://pages.destination.one/de/ostfriesland/streaming/detail/Event/e_1
 01083192/spiegelhaus-woltzeten-yinyoga
END:VEVENT
BEGIN:VEVENT
CATEGORIES:Yoga
DESCRIPTION:In diesem Kurs können Sie mit Yoga eine Auszeit nehmen.\n\nmehr
  Informationen unter http://pages.destination.one/de/ostfriesland/streamin
 g/detail/Event/e_101083192/spiegelhaus-woltzeten-yinyoga
DTEND;TZID=Europe/Berlin:20260602T103000
DTSTAMP:20260420T215701Z
DTSTART;TZID=Europe/Berlin:20260602T090000
GEO:53.398661;7.092007
LOCATION:Ferienhof Spiegelhaus\, Sabine Hendler\, Leege Weg 4 \, Krummhörn 
 Woltzeten
ORGANIZER;CN="Ferienhof Spiegelhaus, Sabine Hendler":mailto:sabinehendler@e
 wetel.net
RRULE:FREQ=WEEKLY;UNTIL=20260630T083000;BYDAY=TU
SEQUENCE:0
SUMMARY:Spiegelhaus Woltzeten:  YinYoga
UID:e_101083192_iv4
URL:http://pages.destination.one/de/ostfriesland/streaming/detail/Event/e_1
 01083192/spiegelhaus-woltzeten-yinyoga
END:VEVENT
BEGIN:VTIMEZONE
TZID:Europe/Berlin
X-LIC-LOCATION:Europe/Berlin
BEGIN:DAYLIGHT
DTSTART:19700329T020000
RRULE:FREQ=YEARLY;BYDAY=-1SU;BYMONTH=3
TZNAME:CEST
TZOFFSETFROM:+0100
TZOFFSETTO:+0200
END:DAYLIGHT
BEGIN:STANDARD
DTSTART:19701025T030000
RRULE:FREQ=YEARLY;BYDAY=-1SU;BYMONTH=10
TZNAME:CET
TZOFFSETFROM:+0200
TZOFFSETTO:+0100
END:STANDARD
END:VTIMEZONE
END:VCALENDAR
