BEGIN:VCALENDAR
VERSION:2.0
PRODID:-//destination.one//NONSGML destination.meta API//DE
X-WR-CALDESC:A calendar powered by destination.meta
X-WR-CALNAME:ostfriesland Kalender via destination.meta
BEGIN:VEVENT
CATEGORIES:Gesellschaft
DESCRIPTION:\n\nmehr Informationen unter http://pages.destination.one/de/os
 tfriesland/streaming/detail/Event/e_101079173/die-erhaltung-der-renaissanc
 eh-user-in-der-pelzerstra-e-in-emden-im-20-jahrhundert-vortrag-von-aiko-sc
 hmidt
DTEND;TZID=Europe/Berlin:20260420T210000
DTSTAMP:20260420T215427Z
DTSTART;TZID=Europe/Berlin:20260420T193000
GEO:53.467590;7.480460
LOCATION:Ständesaal / Ostfriesische Landschaft\, Georgswall 1-5\, Aurich
ORGANIZER;CN=Landschaftsbibliothek Aurich:mailto:bibliothek@ostfriesischela
 ndschaft.de
SEQUENCE:0
SUMMARY:Die Erhaltung der Renaissancehäuser in der Pelzerstraße in Emden im
  20. Jahrhundert - Vortrag von Aiko Schmidt
UID:e_101079173_iv0
URL:http://pages.destination.one/de/ostfriesland/streaming/detail/Event/e_1
 01079173/die-erhaltung-der-renaissanceh-user-in-der-pelzerstra-e-in-emden-
 im-20-jahrhundert-vortrag-von-aiko-schmidt
END:VEVENT
BEGIN:VTIMEZONE
TZID:Europe/Berlin
X-LIC-LOCATION:Europe/Berlin
BEGIN:DAYLIGHT
DTSTART:19700329T020000
RRULE:FREQ=YEARLY;BYDAY=-1SU;BYMONTH=3
TZNAME:CEST
TZOFFSETFROM:+0100
TZOFFSETTO:+0200
END:DAYLIGHT
BEGIN:STANDARD
DTSTART:19701025T030000
RRULE:FREQ=YEARLY;BYDAY=-1SU;BYMONTH=10
TZNAME:CET
TZOFFSETFROM:+0200
TZOFFSETTO:+0100
END:STANDARD
END:VTIMEZONE
END:VCALENDAR
