BEGIN:VCALENDAR
VERSION:2.0
PRODID:-//destination.one//NONSGML destination.meta API//DE
X-WR-CALDESC:A calendar powered by destination.meta
X-WR-CALNAME:ostfriesland Kalender via destination.meta
BEGIN:VEVENT
CATEGORIES:Yoga
DESCRIPTION:Retreat auf Juist - "Kreativ meets Yoga"\n\nmehr Informationen 
 unter http://pages.destination.one/de/ostfriesland/streaming/detail/Event/
 e_100683744/retreat-auf-juist-kreativ-meets-yoga
DTEND;TZID=Europe/Berlin;VALUE=DATE:20260422
DTSTAMP:20260422T005159Z
DTSTART;TZID=Europe/Berlin;VALUE=DATE:20260414
GEO:53.677561;6.989289
LOCATION:Bio-Hotel Haus AnNatur\, Dellertstraße 13-14\, Juist
SEQUENCE:0
SUMMARY:Retreat auf Juist - "Kreativ meets Yoga"
UID:e_100683744_iv0
URL:http://pages.destination.one/de/ostfriesland/streaming/detail/Event/e_1
 00683744/retreat-auf-juist-kreativ-meets-yoga
END:VEVENT
BEGIN:VTIMEZONE
TZID:Europe/Berlin
X-LIC-LOCATION:Europe/Berlin
BEGIN:DAYLIGHT
DTSTART:19700329T020000
RRULE:FREQ=YEARLY;BYDAY=-1SU;BYMONTH=3
TZNAME:CEST
TZOFFSETFROM:+0100
TZOFFSETTO:+0200
END:DAYLIGHT
BEGIN:STANDARD
DTSTART:19701025T030000
RRULE:FREQ=YEARLY;BYDAY=-1SU;BYMONTH=10
TZNAME:CET
TZOFFSETFROM:+0200
TZOFFSETTO:+0100
END:STANDARD
END:VTIMEZONE
END:VCALENDAR
