BEGIN:VCALENDAR
VERSION:2.0
PRODID:-//destination.one//NONSGML destination.meta API//DE
X-WR-CALDESC:A calendar powered by destination.meta
X-WR-CALNAME:ostfriesland Kalender via destination.meta
BEGIN:VEVENT
CATEGORIES:Tradition\, Brauchtum\, Volksfest sonstige
DESCRIPTION:Elementares erfahren: Wie kommt das Salz ins Meer? Wie entstand
  Wangerooge? Was ist Sand eigentlich?\n\nmehr Informationen unter http://p
 ages.destination.one/de/ostfriesland/streaming/detail/Event/e_100632291/ge
 ografische-wanderung
DTEND;TZID=Europe/Berlin:20260422T120000
DTSTAMP:20260424T100255Z
DTSTART;TZID=Europe/Berlin:20260422T100000
GEO:53.790670;7.901605
LOCATION:Nationalpark-Haus\, Friedrich-August-Straße 18\, Wangerooge
ORGANIZER;CN=Nationalpark-Haus:mailto:nationalparkhaus@wangerooge.de
RRULE:FREQ=WEEKLY;UNTIL=20260422T220000;BYDAY=WE
SEQUENCE:0
SUMMARY:Geografische Wanderung
UID:e_100632291_iv0
URL:http://pages.destination.one/de/ostfriesland/streaming/detail/Event/e_1
 00632291/geografische-wanderung
END:VEVENT
BEGIN:VEVENT
CATEGORIES:Tradition\, Brauchtum\, Volksfest sonstige
DESCRIPTION:Elementares erfahren: Wie kommt das Salz ins Meer? Wie entstand
  Wangerooge? Was ist Sand eigentlich?\n\nmehr Informationen unter http://p
 ages.destination.one/de/ostfriesland/streaming/detail/Event/e_100632291/ge
 ografische-wanderung
DTEND;TZID=Europe/Berlin:20260429T120000
DTSTAMP:20260424T100255Z
DTSTART;TZID=Europe/Berlin:20260429T100000
GEO:53.790670;7.901605
LOCATION:Nationalpark-Haus\, Friedrich-August-Straße 18\, Wangerooge
ORGANIZER;CN=Nationalpark-Haus:mailto:nationalparkhaus@wangerooge.de
RRULE:FREQ=WEEKLY;UNTIL=20260429T220000;BYDAY=WE
SEQUENCE:0
SUMMARY:Geografische Wanderung
UID:e_100632291_iv1
URL:http://pages.destination.one/de/ostfriesland/streaming/detail/Event/e_1
 00632291/geografische-wanderung
END:VEVENT
BEGIN:VEVENT
CATEGORIES:Tradition\, Brauchtum\, Volksfest sonstige
DESCRIPTION:Elementares erfahren: Wie kommt das Salz ins Meer? Wie entstand
  Wangerooge? Was ist Sand eigentlich?\n\nmehr Informationen unter http://p
 ages.destination.one/de/ostfriesland/streaming/detail/Event/e_100632291/ge
 ografische-wanderung
DTEND;TZID=Europe/Berlin:20260506T120000
DTSTAMP:20260424T100255Z
DTSTART;TZID=Europe/Berlin:20260506T100000
GEO:53.790670;7.901605
LOCATION:Nationalpark-Haus\, Friedrich-August-Straße 18\, Wangerooge
ORGANIZER;CN=Nationalpark-Haus:mailto:nationalparkhaus@wangerooge.de
RRULE:FREQ=WEEKLY;UNTIL=20260506T220000;BYDAY=WE
SEQUENCE:0
SUMMARY:Geografische Wanderung
UID:e_100632291_iv2
URL:http://pages.destination.one/de/ostfriesland/streaming/detail/Event/e_1
 00632291/geografische-wanderung
END:VEVENT
BEGIN:VEVENT
CATEGORIES:Tradition\, Brauchtum\, Volksfest sonstige
DESCRIPTION:Elementares erfahren: Wie kommt das Salz ins Meer? Wie entstand
  Wangerooge? Was ist Sand eigentlich?\n\nmehr Informationen unter http://p
 ages.destination.one/de/ostfriesland/streaming/detail/Event/e_100632291/ge
 ografische-wanderung
DTEND;TZID=Europe/Berlin:20260513T120000
DTSTAMP:20260424T100255Z
DTSTART;TZID=Europe/Berlin:20260513T100000
GEO:53.790670;7.901605
LOCATION:Nationalpark-Haus\, Friedrich-August-Straße 18\, Wangerooge
ORGANIZER;CN=Nationalpark-Haus:mailto:nationalparkhaus@wangerooge.de
RRULE:FREQ=WEEKLY;UNTIL=20260513T220000;BYDAY=WE
SEQUENCE:0
SUMMARY:Geografische Wanderung
UID:e_100632291_iv3
URL:http://pages.destination.one/de/ostfriesland/streaming/detail/Event/e_1
 00632291/geografische-wanderung
END:VEVENT
BEGIN:VEVENT
CATEGORIES:Tradition\, Brauchtum\, Volksfest sonstige
DESCRIPTION:Elementares erfahren: Wie kommt das Salz ins Meer? Wie entstand
  Wangerooge? Was ist Sand eigentlich?\n\nmehr Informationen unter http://p
 ages.destination.one/de/ostfriesland/streaming/detail/Event/e_100632291/ge
 ografische-wanderung
DTEND;TZID=Europe/Berlin:20260520T120000
DTSTAMP:20260424T100255Z
DTSTART;TZID=Europe/Berlin:20260520T100000
GEO:53.790670;7.901605
LOCATION:Nationalpark-Haus\, Friedrich-August-Straße 18\, Wangerooge
ORGANIZER;CN=Nationalpark-Haus:mailto:nationalparkhaus@wangerooge.de
RRULE:FREQ=WEEKLY;UNTIL=20260520T220000;BYDAY=WE
SEQUENCE:0
SUMMARY:Geografische Wanderung
UID:e_100632291_iv4
URL:http://pages.destination.one/de/ostfriesland/streaming/detail/Event/e_1
 00632291/geografische-wanderung
END:VEVENT
BEGIN:VEVENT
CATEGORIES:Tradition\, Brauchtum\, Volksfest sonstige
DESCRIPTION:Elementares erfahren: Wie kommt das Salz ins Meer? Wie entstand
  Wangerooge? Was ist Sand eigentlich?\n\nmehr Informationen unter http://p
 ages.destination.one/de/ostfriesland/streaming/detail/Event/e_100632291/ge
 ografische-wanderung
DTEND;TZID=Europe/Berlin:20260527T120000
DTSTAMP:20260424T100255Z
DTSTART;TZID=Europe/Berlin:20260527T100000
GEO:53.790670;7.901605
LOCATION:Nationalpark-Haus\, Friedrich-August-Straße 18\, Wangerooge
ORGANIZER;CN=Nationalpark-Haus:mailto:nationalparkhaus@wangerooge.de
RRULE:FREQ=WEEKLY;UNTIL=20260527T220000;BYDAY=WE
SEQUENCE:0
SUMMARY:Geografische Wanderung
UID:e_100632291_iv5
URL:http://pages.destination.one/de/ostfriesland/streaming/detail/Event/e_1
 00632291/geografische-wanderung
END:VEVENT
BEGIN:VEVENT
CATEGORIES:Tradition\, Brauchtum\, Volksfest sonstige
DESCRIPTION:Elementares erfahren: Wie kommt das Salz ins Meer? Wie entstand
  Wangerooge? Was ist Sand eigentlich?\n\nmehr Informationen unter http://p
 ages.destination.one/de/ostfriesland/streaming/detail/Event/e_100632291/ge
 ografische-wanderung
DTEND;TZID=Europe/Berlin:20260603T120000
DTSTAMP:20260424T100255Z
DTSTART;TZID=Europe/Berlin:20260603T100000
GEO:53.790670;7.901605
LOCATION:Nationalpark-Haus\, Friedrich-August-Straße 18\, Wangerooge
ORGANIZER;CN=Nationalpark-Haus:mailto:nationalparkhaus@wangerooge.de
RRULE:FREQ=WEEKLY;UNTIL=20260603T220000;BYDAY=WE
SEQUENCE:0
SUMMARY:Geografische Wanderung
UID:e_100632291_iv6
URL:http://pages.destination.one/de/ostfriesland/streaming/detail/Event/e_1
 00632291/geografische-wanderung
END:VEVENT
BEGIN:VEVENT
CATEGORIES:Tradition\, Brauchtum\, Volksfest sonstige
DESCRIPTION:Elementares erfahren: Wie kommt das Salz ins Meer? Wie entstand
  Wangerooge? Was ist Sand eigentlich?\n\nmehr Informationen unter http://p
 ages.destination.one/de/ostfriesland/streaming/detail/Event/e_100632291/ge
 ografische-wanderung
DTEND;TZID=Europe/Berlin:20260610T120000
DTSTAMP:20260424T100255Z
DTSTART;TZID=Europe/Berlin:20260610T100000
GEO:53.790670;7.901605
LOCATION:Nationalpark-Haus\, Friedrich-August-Straße 18\, Wangerooge
ORGANIZER;CN=Nationalpark-Haus:mailto:nationalparkhaus@wangerooge.de
RRULE:FREQ=WEEKLY;UNTIL=20260610T220000;BYDAY=WE
SEQUENCE:0
SUMMARY:Geografische Wanderung
UID:e_100632291_iv7
URL:http://pages.destination.one/de/ostfriesland/streaming/detail/Event/e_1
 00632291/geografische-wanderung
END:VEVENT
BEGIN:VEVENT
CATEGORIES:Tradition\, Brauchtum\, Volksfest sonstige
DESCRIPTION:Elementares erfahren: Wie kommt das Salz ins Meer? Wie entstand
  Wangerooge? Was ist Sand eigentlich?\n\nmehr Informationen unter http://p
 ages.destination.one/de/ostfriesland/streaming/detail/Event/e_100632291/ge
 ografische-wanderung
DTEND;TZID=Europe/Berlin:20260617T120000
DTSTAMP:20260424T100255Z
DTSTART;TZID=Europe/Berlin:20260617T100000
GEO:53.790670;7.901605
LOCATION:Nationalpark-Haus\, Friedrich-August-Straße 18\, Wangerooge
ORGANIZER;CN=Nationalpark-Haus:mailto:nationalparkhaus@wangerooge.de
RRULE:FREQ=WEEKLY;UNTIL=20260617T220000;BYDAY=WE
SEQUENCE:0
SUMMARY:Geografische Wanderung
UID:e_100632291_iv8
URL:http://pages.destination.one/de/ostfriesland/streaming/detail/Event/e_1
 00632291/geografische-wanderung
END:VEVENT
BEGIN:VEVENT
CATEGORIES:Tradition\, Brauchtum\, Volksfest sonstige
DESCRIPTION:Elementares erfahren: Wie kommt das Salz ins Meer? Wie entstand
  Wangerooge? Was ist Sand eigentlich?\n\nmehr Informationen unter http://p
 ages.destination.one/de/ostfriesland/streaming/detail/Event/e_100632291/ge
 ografische-wanderung
DTEND;TZID=Europe/Berlin:20260624T120000
DTSTAMP:20260424T100255Z
DTSTART;TZID=Europe/Berlin:20260624T100000
GEO:53.790670;7.901605
LOCATION:Nationalpark-Haus\, Friedrich-August-Straße 18\, Wangerooge
ORGANIZER;CN=Nationalpark-Haus:mailto:nationalparkhaus@wangerooge.de
RRULE:FREQ=WEEKLY;UNTIL=20260624T220000;BYDAY=WE
SEQUENCE:0
SUMMARY:Geografische Wanderung
UID:e_100632291_iv9
URL:http://pages.destination.one/de/ostfriesland/streaming/detail/Event/e_1
 00632291/geografische-wanderung
END:VEVENT
BEGIN:VEVENT
CATEGORIES:Tradition\, Brauchtum\, Volksfest sonstige
DESCRIPTION:Elementares erfahren: Wie kommt das Salz ins Meer? Wie entstand
  Wangerooge? Was ist Sand eigentlich?\n\nmehr Informationen unter http://p
 ages.destination.one/de/ostfriesland/streaming/detail/Event/e_100632291/ge
 ografische-wanderung
DTEND;TZID=Europe/Berlin:20260701T120000
DTSTAMP:20260424T100255Z
DTSTART;TZID=Europe/Berlin:20260701T100000
GEO:53.790670;7.901605
LOCATION:Nationalpark-Haus\, Friedrich-August-Straße 18\, Wangerooge
ORGANIZER;CN=Nationalpark-Haus:mailto:nationalparkhaus@wangerooge.de
RRULE:FREQ=WEEKLY;UNTIL=20260701T220000;BYDAY=WE
SEQUENCE:0
SUMMARY:Geografische Wanderung
UID:e_100632291_iv10
URL:http://pages.destination.one/de/ostfriesland/streaming/detail/Event/e_1
 00632291/geografische-wanderung
END:VEVENT
BEGIN:VEVENT
CATEGORIES:Tradition\, Brauchtum\, Volksfest sonstige
DESCRIPTION:Elementares erfahren: Wie kommt das Salz ins Meer? Wie entstand
  Wangerooge? Was ist Sand eigentlich?\n\nmehr Informationen unter http://p
 ages.destination.one/de/ostfriesland/streaming/detail/Event/e_100632291/ge
 ografische-wanderung
DTEND;TZID=Europe/Berlin:20260708T120000
DTSTAMP:20260424T100255Z
DTSTART;TZID=Europe/Berlin:20260708T100000
GEO:53.790670;7.901605
LOCATION:Nationalpark-Haus\, Friedrich-August-Straße 18\, Wangerooge
ORGANIZER;CN=Nationalpark-Haus:mailto:nationalparkhaus@wangerooge.de
RRULE:FREQ=WEEKLY;UNTIL=20260708T220000;BYDAY=WE
SEQUENCE:0
SUMMARY:Geografische Wanderung
UID:e_100632291_iv11
URL:http://pages.destination.one/de/ostfriesland/streaming/detail/Event/e_1
 00632291/geografische-wanderung
END:VEVENT
BEGIN:VEVENT
CATEGORIES:Tradition\, Brauchtum\, Volksfest sonstige
DESCRIPTION:Elementares erfahren: Wie kommt das Salz ins Meer? Wie entstand
  Wangerooge? Was ist Sand eigentlich?\n\nmehr Informationen unter http://p
 ages.destination.one/de/ostfriesland/streaming/detail/Event/e_100632291/ge
 ografische-wanderung
DTEND;TZID=Europe/Berlin:20260715T120000
DTSTAMP:20260424T100255Z
DTSTART;TZID=Europe/Berlin:20260715T100000
GEO:53.790670;7.901605
LOCATION:Nationalpark-Haus\, Friedrich-August-Straße 18\, Wangerooge
ORGANIZER;CN=Nationalpark-Haus:mailto:nationalparkhaus@wangerooge.de
RRULE:FREQ=WEEKLY;UNTIL=20260715T220000;BYDAY=WE
SEQUENCE:0
SUMMARY:Geografische Wanderung
UID:e_100632291_iv12
URL:http://pages.destination.one/de/ostfriesland/streaming/detail/Event/e_1
 00632291/geografische-wanderung
END:VEVENT
BEGIN:VEVENT
CATEGORIES:Tradition\, Brauchtum\, Volksfest sonstige
DESCRIPTION:Elementares erfahren: Wie kommt das Salz ins Meer? Wie entstand
  Wangerooge? Was ist Sand eigentlich?\n\nmehr Informationen unter http://p
 ages.destination.one/de/ostfriesland/streaming/detail/Event/e_100632291/ge
 ografische-wanderung
DTEND;TZID=Europe/Berlin:20260729T120000
DTSTAMP:20260424T100255Z
DTSTART;TZID=Europe/Berlin:20260729T100000
GEO:53.790670;7.901605
LOCATION:Nationalpark-Haus\, Friedrich-August-Straße 18\, Wangerooge
ORGANIZER;CN=Nationalpark-Haus:mailto:nationalparkhaus@wangerooge.de
RRULE:FREQ=WEEKLY;UNTIL=20260729T220000;BYDAY=WE
SEQUENCE:0
SUMMARY:Geografische Wanderung
UID:e_100632291_iv13
URL:http://pages.destination.one/de/ostfriesland/streaming/detail/Event/e_1
 00632291/geografische-wanderung
END:VEVENT
BEGIN:VEVENT
CATEGORIES:Tradition\, Brauchtum\, Volksfest sonstige
DESCRIPTION:Elementares erfahren: Wie kommt das Salz ins Meer? Wie entstand
  Wangerooge? Was ist Sand eigentlich?\n\nmehr Informationen unter http://p
 ages.destination.one/de/ostfriesland/streaming/detail/Event/e_100632291/ge
 ografische-wanderung
DTEND;TZID=Europe/Berlin:20260805T120000
DTSTAMP:20260424T100255Z
DTSTART;TZID=Europe/Berlin:20260805T100000
GEO:53.790670;7.901605
LOCATION:Nationalpark-Haus\, Friedrich-August-Straße 18\, Wangerooge
ORGANIZER;CN=Nationalpark-Haus:mailto:nationalparkhaus@wangerooge.de
RRULE:FREQ=WEEKLY;UNTIL=20260805T220000;BYDAY=WE
SEQUENCE:0
SUMMARY:Geografische Wanderung
UID:e_100632291_iv14
URL:http://pages.destination.one/de/ostfriesland/streaming/detail/Event/e_1
 00632291/geografische-wanderung
END:VEVENT
BEGIN:VEVENT
CATEGORIES:Tradition\, Brauchtum\, Volksfest sonstige
DESCRIPTION:Elementares erfahren: Wie kommt das Salz ins Meer? Wie entstand
  Wangerooge? Was ist Sand eigentlich?\n\nmehr Informationen unter http://p
 ages.destination.one/de/ostfriesland/streaming/detail/Event/e_100632291/ge
 ografische-wanderung
DTEND;TZID=Europe/Berlin:20260812T120000
DTSTAMP:20260424T100255Z
DTSTART;TZID=Europe/Berlin:20260812T100000
GEO:53.790670;7.901605
LOCATION:Nationalpark-Haus\, Friedrich-August-Straße 18\, Wangerooge
ORGANIZER;CN=Nationalpark-Haus:mailto:nationalparkhaus@wangerooge.de
RRULE:FREQ=WEEKLY;UNTIL=20260812T220000;BYDAY=WE
SEQUENCE:0
SUMMARY:Geografische Wanderung
UID:e_100632291_iv15
URL:http://pages.destination.one/de/ostfriesland/streaming/detail/Event/e_1
 00632291/geografische-wanderung
END:VEVENT
BEGIN:VEVENT
CATEGORIES:Tradition\, Brauchtum\, Volksfest sonstige
DESCRIPTION:Elementares erfahren: Wie kommt das Salz ins Meer? Wie entstand
  Wangerooge? Was ist Sand eigentlich?\n\nmehr Informationen unter http://p
 ages.destination.one/de/ostfriesland/streaming/detail/Event/e_100632291/ge
 ografische-wanderung
DTEND;TZID=Europe/Berlin:20260819T120000
DTSTAMP:20260424T100255Z
DTSTART;TZID=Europe/Berlin:20260819T100000
GEO:53.790670;7.901605
LOCATION:Nationalpark-Haus\, Friedrich-August-Straße 18\, Wangerooge
ORGANIZER;CN=Nationalpark-Haus:mailto:nationalparkhaus@wangerooge.de
RRULE:FREQ=WEEKLY;UNTIL=20260819T220000;BYDAY=WE
SEQUENCE:0
SUMMARY:Geografische Wanderung
UID:e_100632291_iv16
URL:http://pages.destination.one/de/ostfriesland/streaming/detail/Event/e_1
 00632291/geografische-wanderung
END:VEVENT
BEGIN:VEVENT
CATEGORIES:Tradition\, Brauchtum\, Volksfest sonstige
DESCRIPTION:Elementares erfahren: Wie kommt das Salz ins Meer? Wie entstand
  Wangerooge? Was ist Sand eigentlich?\n\nmehr Informationen unter http://p
 ages.destination.one/de/ostfriesland/streaming/detail/Event/e_100632291/ge
 ografische-wanderung
DTEND;TZID=Europe/Berlin:20260826T120000
DTSTAMP:20260424T100255Z
DTSTART;TZID=Europe/Berlin:20260826T100000
GEO:53.790670;7.901605
LOCATION:Nationalpark-Haus\, Friedrich-August-Straße 18\, Wangerooge
ORGANIZER;CN=Nationalpark-Haus:mailto:nationalparkhaus@wangerooge.de
RRULE:FREQ=WEEKLY;UNTIL=20260826T220000;BYDAY=WE
SEQUENCE:0
SUMMARY:Geografische Wanderung
UID:e_100632291_iv17
URL:http://pages.destination.one/de/ostfriesland/streaming/detail/Event/e_1
 00632291/geografische-wanderung
END:VEVENT
BEGIN:VEVENT
CATEGORIES:Tradition\, Brauchtum\, Volksfest sonstige
DESCRIPTION:Elementares erfahren: Wie kommt das Salz ins Meer? Wie entstand
  Wangerooge? Was ist Sand eigentlich?\n\nmehr Informationen unter http://p
 ages.destination.one/de/ostfriesland/streaming/detail/Event/e_100632291/ge
 ografische-wanderung
DTEND;TZID=Europe/Berlin:20260902T120000
DTSTAMP:20260424T100255Z
DTSTART;TZID=Europe/Berlin:20260902T100000
GEO:53.790670;7.901605
LOCATION:Nationalpark-Haus\, Friedrich-August-Straße 18\, Wangerooge
ORGANIZER;CN=Nationalpark-Haus:mailto:nationalparkhaus@wangerooge.de
RRULE:FREQ=WEEKLY;UNTIL=20260902T220000;BYDAY=WE
SEQUENCE:0
SUMMARY:Geografische Wanderung
UID:e_100632291_iv18
URL:http://pages.destination.one/de/ostfriesland/streaming/detail/Event/e_1
 00632291/geografische-wanderung
END:VEVENT
BEGIN:VEVENT
CATEGORIES:Tradition\, Brauchtum\, Volksfest sonstige
DESCRIPTION:Elementares erfahren: Wie kommt das Salz ins Meer? Wie entstand
  Wangerooge? Was ist Sand eigentlich?\n\nmehr Informationen unter http://p
 ages.destination.one/de/ostfriesland/streaming/detail/Event/e_100632291/ge
 ografische-wanderung
DTEND;TZID=Europe/Berlin:20260909T120000
DTSTAMP:20260424T100255Z
DTSTART;TZID=Europe/Berlin:20260909T100000
GEO:53.790670;7.901605
LOCATION:Nationalpark-Haus\, Friedrich-August-Straße 18\, Wangerooge
ORGANIZER;CN=Nationalpark-Haus:mailto:nationalparkhaus@wangerooge.de
RRULE:FREQ=WEEKLY;UNTIL=20260909T220000;BYDAY=WE
SEQUENCE:0
SUMMARY:Geografische Wanderung
UID:e_100632291_iv19
URL:http://pages.destination.one/de/ostfriesland/streaming/detail/Event/e_1
 00632291/geografische-wanderung
END:VEVENT
BEGIN:VEVENT
CATEGORIES:Tradition\, Brauchtum\, Volksfest sonstige
DESCRIPTION:Elementares erfahren: Wie kommt das Salz ins Meer? Wie entstand
  Wangerooge? Was ist Sand eigentlich?\n\nmehr Informationen unter http://p
 ages.destination.one/de/ostfriesland/streaming/detail/Event/e_100632291/ge
 ografische-wanderung
DTEND;TZID=Europe/Berlin:20260916T120000
DTSTAMP:20260424T100255Z
DTSTART;TZID=Europe/Berlin:20260916T100000
GEO:53.790670;7.901605
LOCATION:Nationalpark-Haus\, Friedrich-August-Straße 18\, Wangerooge
ORGANIZER;CN=Nationalpark-Haus:mailto:nationalparkhaus@wangerooge.de
RRULE:FREQ=WEEKLY;UNTIL=20260916T220000;BYDAY=WE
SEQUENCE:0
SUMMARY:Geografische Wanderung
UID:e_100632291_iv20
URL:http://pages.destination.one/de/ostfriesland/streaming/detail/Event/e_1
 00632291/geografische-wanderung
END:VEVENT
BEGIN:VEVENT
CATEGORIES:Tradition\, Brauchtum\, Volksfest sonstige
DESCRIPTION:Elementares erfahren: Wie kommt das Salz ins Meer? Wie entstand
  Wangerooge? Was ist Sand eigentlich?\n\nmehr Informationen unter http://p
 ages.destination.one/de/ostfriesland/streaming/detail/Event/e_100632291/ge
 ografische-wanderung
DTEND;TZID=Europe/Berlin:20260923T120000
DTSTAMP:20260424T100255Z
DTSTART;TZID=Europe/Berlin:20260923T100000
GEO:53.790670;7.901605
LOCATION:Nationalpark-Haus\, Friedrich-August-Straße 18\, Wangerooge
ORGANIZER;CN=Nationalpark-Haus:mailto:nationalparkhaus@wangerooge.de
RRULE:FREQ=WEEKLY;UNTIL=20260923T220000;BYDAY=WE
SEQUENCE:0
SUMMARY:Geografische Wanderung
UID:e_100632291_iv21
URL:http://pages.destination.one/de/ostfriesland/streaming/detail/Event/e_1
 00632291/geografische-wanderung
END:VEVENT
BEGIN:VEVENT
CATEGORIES:Tradition\, Brauchtum\, Volksfest sonstige
DESCRIPTION:Elementares erfahren: Wie kommt das Salz ins Meer? Wie entstand
  Wangerooge? Was ist Sand eigentlich?\n\nmehr Informationen unter http://p
 ages.destination.one/de/ostfriesland/streaming/detail/Event/e_100632291/ge
 ografische-wanderung
DTEND;TZID=Europe/Berlin:20260930T120000
DTSTAMP:20260424T100255Z
DTSTART;TZID=Europe/Berlin:20260930T100000
GEO:53.790670;7.901605
LOCATION:Nationalpark-Haus\, Friedrich-August-Straße 18\, Wangerooge
ORGANIZER;CN=Nationalpark-Haus:mailto:nationalparkhaus@wangerooge.de
RRULE:FREQ=WEEKLY;UNTIL=20260930T220000;BYDAY=WE
SEQUENCE:0
SUMMARY:Geografische Wanderung
UID:e_100632291_iv22
URL:http://pages.destination.one/de/ostfriesland/streaming/detail/Event/e_1
 00632291/geografische-wanderung
END:VEVENT
BEGIN:VEVENT
CATEGORIES:Tradition\, Brauchtum\, Volksfest sonstige
DESCRIPTION:Elementares erfahren: Wie kommt das Salz ins Meer? Wie entstand
  Wangerooge? Was ist Sand eigentlich?\n\nmehr Informationen unter http://p
 ages.destination.one/de/ostfriesland/streaming/detail/Event/e_100632291/ge
 ografische-wanderung
DTEND;TZID=Europe/Berlin:20261007T120000
DTSTAMP:20260424T100255Z
DTSTART;TZID=Europe/Berlin:20261007T100000
GEO:53.790670;7.901605
LOCATION:Nationalpark-Haus\, Friedrich-August-Straße 18\, Wangerooge
ORGANIZER;CN=Nationalpark-Haus:mailto:nationalparkhaus@wangerooge.de
RRULE:FREQ=WEEKLY;UNTIL=20261007T220000;BYDAY=WE
SEQUENCE:0
SUMMARY:Geografische Wanderung
UID:e_100632291_iv23
URL:http://pages.destination.one/de/ostfriesland/streaming/detail/Event/e_1
 00632291/geografische-wanderung
END:VEVENT
BEGIN:VEVENT
CATEGORIES:Tradition\, Brauchtum\, Volksfest sonstige
DESCRIPTION:Elementares erfahren: Wie kommt das Salz ins Meer? Wie entstand
  Wangerooge? Was ist Sand eigentlich?\n\nmehr Informationen unter http://p
 ages.destination.one/de/ostfriesland/streaming/detail/Event/e_100632291/ge
 ografische-wanderung
DTEND;TZID=Europe/Berlin:20261021T120000
DTSTAMP:20260424T100255Z
DTSTART;TZID=Europe/Berlin:20261021T100000
GEO:53.790670;7.901605
LOCATION:Nationalpark-Haus\, Friedrich-August-Straße 18\, Wangerooge
ORGANIZER;CN=Nationalpark-Haus:mailto:nationalparkhaus@wangerooge.de
RRULE:FREQ=WEEKLY;UNTIL=20261021T220000;BYDAY=WE
SEQUENCE:0
SUMMARY:Geografische Wanderung
UID:e_100632291_iv24
URL:http://pages.destination.one/de/ostfriesland/streaming/detail/Event/e_1
 00632291/geografische-wanderung
END:VEVENT
BEGIN:VEVENT
CATEGORIES:Tradition\, Brauchtum\, Volksfest sonstige
DESCRIPTION:Elementares erfahren: Wie kommt das Salz ins Meer? Wie entstand
  Wangerooge? Was ist Sand eigentlich?\n\nmehr Informationen unter http://p
 ages.destination.one/de/ostfriesland/streaming/detail/Event/e_100632291/ge
 ografische-wanderung
DTEND;TZID=Europe/Berlin:20261028T120000
DTSTAMP:20260424T100255Z
DTSTART;TZID=Europe/Berlin:20261028T100000
GEO:53.790670;7.901605
LOCATION:Nationalpark-Haus\, Friedrich-August-Straße 18\, Wangerooge
ORGANIZER;CN=Nationalpark-Haus:mailto:nationalparkhaus@wangerooge.de
RRULE:FREQ=WEEKLY;UNTIL=20261028T230000;BYDAY=WE
SEQUENCE:0
SUMMARY:Geografische Wanderung
UID:e_100632291_iv25
URL:http://pages.destination.one/de/ostfriesland/streaming/detail/Event/e_1
 00632291/geografische-wanderung
END:VEVENT
BEGIN:VEVENT
CATEGORIES:Tradition\, Brauchtum\, Volksfest sonstige
DESCRIPTION:Elementares erfahren: Wie kommt das Salz ins Meer? Wie entstand
  Wangerooge? Was ist Sand eigentlich?\n\nmehr Informationen unter http://p
 ages.destination.one/de/ostfriesland/streaming/detail/Event/e_100632291/ge
 ografische-wanderung
DTEND;TZID=Europe/Berlin:20261104T120000
DTSTAMP:20260424T100255Z
DTSTART;TZID=Europe/Berlin:20261104T100000
GEO:53.790670;7.901605
LOCATION:Nationalpark-Haus\, Friedrich-August-Straße 18\, Wangerooge
ORGANIZER;CN=Nationalpark-Haus:mailto:nationalparkhaus@wangerooge.de
RRULE:FREQ=WEEKLY;UNTIL=20261104T230000;BYDAY=WE
SEQUENCE:0
SUMMARY:Geografische Wanderung
UID:e_100632291_iv26
URL:http://pages.destination.one/de/ostfriesland/streaming/detail/Event/e_1
 00632291/geografische-wanderung
END:VEVENT
BEGIN:VEVENT
CATEGORIES:Tradition\, Brauchtum\, Volksfest sonstige
DESCRIPTION:Elementares erfahren: Wie kommt das Salz ins Meer? Wie entstand
  Wangerooge? Was ist Sand eigentlich?\n\nmehr Informationen unter http://p
 ages.destination.one/de/ostfriesland/streaming/detail/Event/e_100632291/ge
 ografische-wanderung
DTEND;TZID=Europe/Berlin:20261111T120000
DTSTAMP:20260424T100255Z
DTSTART;TZID=Europe/Berlin:20261111T100000
GEO:53.790670;7.901605
LOCATION:Nationalpark-Haus\, Friedrich-August-Straße 18\, Wangerooge
ORGANIZER;CN=Nationalpark-Haus:mailto:nationalparkhaus@wangerooge.de
RRULE:FREQ=WEEKLY;UNTIL=20261111T230000;BYDAY=WE
SEQUENCE:0
SUMMARY:Geografische Wanderung
UID:e_100632291_iv27
URL:http://pages.destination.one/de/ostfriesland/streaming/detail/Event/e_1
 00632291/geografische-wanderung
END:VEVENT
BEGIN:VEVENT
CATEGORIES:Tradition\, Brauchtum\, Volksfest sonstige
DESCRIPTION:Elementares erfahren: Wie kommt das Salz ins Meer? Wie entstand
  Wangerooge? Was ist Sand eigentlich?\n\nmehr Informationen unter http://p
 ages.destination.one/de/ostfriesland/streaming/detail/Event/e_100632291/ge
 ografische-wanderung
DTEND;TZID=Europe/Berlin:20261118T120000
DTSTAMP:20260424T100255Z
DTSTART;TZID=Europe/Berlin:20261118T100000
GEO:53.790670;7.901605
LOCATION:Nationalpark-Haus\, Friedrich-August-Straße 18\, Wangerooge
ORGANIZER;CN=Nationalpark-Haus:mailto:nationalparkhaus@wangerooge.de
RRULE:FREQ=WEEKLY;UNTIL=20261118T230000;BYDAY=WE
SEQUENCE:0
SUMMARY:Geografische Wanderung
UID:e_100632291_iv28
URL:http://pages.destination.one/de/ostfriesland/streaming/detail/Event/e_1
 00632291/geografische-wanderung
END:VEVENT
BEGIN:VEVENT
CATEGORIES:Tradition\, Brauchtum\, Volksfest sonstige
DESCRIPTION:Elementares erfahren: Wie kommt das Salz ins Meer? Wie entstand
  Wangerooge? Was ist Sand eigentlich?\n\nmehr Informationen unter http://p
 ages.destination.one/de/ostfriesland/streaming/detail/Event/e_100632291/ge
 ografische-wanderung
DTEND;TZID=Europe/Berlin:20261125T120000
DTSTAMP:20260424T100255Z
DTSTART;TZID=Europe/Berlin:20261125T100000
GEO:53.790670;7.901605
LOCATION:Nationalpark-Haus\, Friedrich-August-Straße 18\, Wangerooge
ORGANIZER;CN=Nationalpark-Haus:mailto:nationalparkhaus@wangerooge.de
RRULE:FREQ=WEEKLY;UNTIL=20261125T230000;BYDAY=WE
SEQUENCE:0
SUMMARY:Geografische Wanderung
UID:e_100632291_iv29
URL:http://pages.destination.one/de/ostfriesland/streaming/detail/Event/e_1
 00632291/geografische-wanderung
END:VEVENT
BEGIN:VEVENT
CATEGORIES:Tradition\, Brauchtum\, Volksfest sonstige
DESCRIPTION:Elementares erfahren: Wie kommt das Salz ins Meer? Wie entstand
  Wangerooge? Was ist Sand eigentlich?\n\nmehr Informationen unter http://p
 ages.destination.one/de/ostfriesland/streaming/detail/Event/e_100632291/ge
 ografische-wanderung
DTEND;TZID=Europe/Berlin:20261202T120000
DTSTAMP:20260424T100255Z
DTSTART;TZID=Europe/Berlin:20261202T100000
GEO:53.790670;7.901605
LOCATION:Nationalpark-Haus\, Friedrich-August-Straße 18\, Wangerooge
ORGANIZER;CN=Nationalpark-Haus:mailto:nationalparkhaus@wangerooge.de
RRULE:FREQ=WEEKLY;UNTIL=20261202T230000;BYDAY=WE
SEQUENCE:0
SUMMARY:Geografische Wanderung
UID:e_100632291_iv30
URL:http://pages.destination.one/de/ostfriesland/streaming/detail/Event/e_1
 00632291/geografische-wanderung
END:VEVENT
BEGIN:VEVENT
CATEGORIES:Tradition\, Brauchtum\, Volksfest sonstige
DESCRIPTION:Elementares erfahren: Wie kommt das Salz ins Meer? Wie entstand
  Wangerooge? Was ist Sand eigentlich?\n\nmehr Informationen unter http://p
 ages.destination.one/de/ostfriesland/streaming/detail/Event/e_100632291/ge
 ografische-wanderung
DTEND;TZID=Europe/Berlin:20261209T120000
DTSTAMP:20260424T100255Z
DTSTART;TZID=Europe/Berlin:20261209T100000
GEO:53.790670;7.901605
LOCATION:Nationalpark-Haus\, Friedrich-August-Straße 18\, Wangerooge
ORGANIZER;CN=Nationalpark-Haus:mailto:nationalparkhaus@wangerooge.de
RRULE:FREQ=WEEKLY;UNTIL=20261209T230000;BYDAY=WE
SEQUENCE:0
SUMMARY:Geografische Wanderung
UID:e_100632291_iv31
URL:http://pages.destination.one/de/ostfriesland/streaming/detail/Event/e_1
 00632291/geografische-wanderung
END:VEVENT
BEGIN:VEVENT
CATEGORIES:Tradition\, Brauchtum\, Volksfest sonstige
DESCRIPTION:Elementares erfahren: Wie kommt das Salz ins Meer? Wie entstand
  Wangerooge? Was ist Sand eigentlich?\n\nmehr Informationen unter http://p
 ages.destination.one/de/ostfriesland/streaming/detail/Event/e_100632291/ge
 ografische-wanderung
DTEND;TZID=Europe/Berlin:20261216T120000
DTSTAMP:20260424T100255Z
DTSTART;TZID=Europe/Berlin:20261216T100000
GEO:53.790670;7.901605
LOCATION:Nationalpark-Haus\, Friedrich-August-Straße 18\, Wangerooge
ORGANIZER;CN=Nationalpark-Haus:mailto:nationalparkhaus@wangerooge.de
RRULE:FREQ=WEEKLY;UNTIL=20261216T230000;BYDAY=WE
SEQUENCE:0
SUMMARY:Geografische Wanderung
UID:e_100632291_iv32
URL:http://pages.destination.one/de/ostfriesland/streaming/detail/Event/e_1
 00632291/geografische-wanderung
END:VEVENT
BEGIN:VEVENT
CATEGORIES:Tradition\, Brauchtum\, Volksfest sonstige
DESCRIPTION:Elementares erfahren: Wie kommt das Salz ins Meer? Wie entstand
  Wangerooge? Was ist Sand eigentlich?\n\nmehr Informationen unter http://p
 ages.destination.one/de/ostfriesland/streaming/detail/Event/e_100632291/ge
 ografische-wanderung
DTEND;TZID=Europe/Berlin:20261230T120000
DTSTAMP:20260424T100255Z
DTSTART;TZID=Europe/Berlin:20261230T100000
GEO:53.790670;7.901605
LOCATION:Nationalpark-Haus\, Friedrich-August-Straße 18\, Wangerooge
ORGANIZER;CN=Nationalpark-Haus:mailto:nationalparkhaus@wangerooge.de
RRULE:FREQ=WEEKLY;UNTIL=20261230T230000;BYDAY=WE
SEQUENCE:0
SUMMARY:Geografische Wanderung
UID:e_100632291_iv33
URL:http://pages.destination.one/de/ostfriesland/streaming/detail/Event/e_1
 00632291/geografische-wanderung
END:VEVENT
BEGIN:VTIMEZONE
TZID:Europe/Berlin
X-LIC-LOCATION:Europe/Berlin
BEGIN:DAYLIGHT
DTSTART:19700329T020000
RRULE:FREQ=YEARLY;BYDAY=-1SU;BYMONTH=3
TZNAME:CEST
TZOFFSETFROM:+0100
TZOFFSETTO:+0200
END:DAYLIGHT
BEGIN:STANDARD
DTSTART:19701025T030000
RRULE:FREQ=YEARLY;BYDAY=-1SU;BYMONTH=10
TZNAME:CET
TZOFFSETFROM:+0200
TZOFFSETTO:+0100
END:STANDARD
END:VTIMEZONE
END:VCALENDAR
