BEGIN:VCALENDAR
VERSION:2.0
PRODID:-//destination.one//NONSGML destination.meta API//DE
X-WR-CALDESC:A calendar powered by destination.meta
X-WR-CALNAME:ostfriesland Kalender via destination.meta
BEGIN:VEVENT
CATEGORIES:Vortrag\, Diskussion\, Lesung sonstige
DESCRIPTION:Klangwoche auf Juist\n\nmehr Informationen unter http://pages.d
 estination.one/de/ostfriesland/streaming/detail/Event/e_100503249/klangwoc
 he
DTEND;TZID=Europe/Berlin:20260420T093000
DTSTAMP:20260420T011624Z
DTSTART;TZID=Europe/Berlin:20260420T090000
GEO:53.677506;6.997433
LOCATION:ev. Kirche\, ev. Kirche\, Wilhelmstraße 42\, Juist
RRULE:FREQ=WEEKLY;UNTIL=20260429T073000;BYDAY=MO,TU,WE,TH,FR
SEQUENCE:0
SUMMARY:Klangwoche
UID:e_100503249_iv0
URL:http://pages.destination.one/de/ostfriesland/streaming/detail/Event/e_1
 00503249/klangwoche
END:VEVENT
BEGIN:VEVENT
CATEGORIES:Vortrag\, Diskussion\, Lesung sonstige
DESCRIPTION:Klangwoche auf Juist\n\nmehr Informationen unter http://pages.d
 estination.one/de/ostfriesland/streaming/detail/Event/e_100503249/klangwoc
 he
DTEND;TZID=Europe/Berlin:20260420T200000
DTSTAMP:20260420T011624Z
DTSTART;TZID=Europe/Berlin:20260420T193000
GEO:53.677506;6.997433
LOCATION:ev. Kirche\, ev. Kirche\, Wilhelmstraße 42\, Juist
RRULE:FREQ=WEEKLY;UNTIL=20260429T180000;BYDAY=MO,TU,WE,TH,FR
SEQUENCE:0
SUMMARY:Klangwoche
UID:e_100503249_iv1
URL:http://pages.destination.one/de/ostfriesland/streaming/detail/Event/e_1
 00503249/klangwoche
END:VEVENT
BEGIN:VTIMEZONE
TZID:Europe/Berlin
X-LIC-LOCATION:Europe/Berlin
BEGIN:DAYLIGHT
DTSTART:19700329T020000
RRULE:FREQ=YEARLY;BYDAY=-1SU;BYMONTH=3
TZNAME:CEST
TZOFFSETFROM:+0100
TZOFFSETTO:+0200
END:DAYLIGHT
BEGIN:STANDARD
DTSTART:19701025T030000
RRULE:FREQ=YEARLY;BYDAY=-1SU;BYMONTH=10
TZNAME:CET
TZOFFSETFROM:+0200
TZOFFSETTO:+0100
END:STANDARD
END:VTIMEZONE
END:VCALENDAR
