BEGIN:VCALENDAR
VERSION:2.0
PRODID:-//destination.one//NONSGML destination.meta API//DE
X-WR-CALDESC:A calendar powered by destination.meta
X-WR-CALNAME:ostfriesland Kalender via destination.meta
BEGIN:VEVENT
CATEGORIES:Kino
DESCRIPTION:\n\nmehr Informationen unter http://pages.destination.one/de/os
 tfriesland/streaming/detail/Event/e_100283377/filmabend-mit-den-filmen-her
 bst-auf-baltrum-und-die-zigarrenkiste
DTEND;TZID=Europe/Berlin:20210503T223000
DTSTAMP:20260420T215701Z
DTSTART;TZID=Europe/Berlin:20210503T203000
GEO:53.726602;7.370110
LOCATION:Museum Altes Zollhaus\, Westdorf 18\, Baltrum
ORGANIZER;CN=Museum Altes Zollhaus:mailto:museum.zollhaus@t-online.de
SEQUENCE:0
SUMMARY:Filmabend mit den Filmen "Herbst auf Baltrum" und "Die Zigarrenkist
 e"
UID:e_100283377_iv0
URL:http://pages.destination.one/de/ostfriesland/streaming/detail/Event/e_1
 00283377/filmabend-mit-den-filmen-herbst-auf-baltrum-und-die-zigarrenkiste
END:VEVENT
BEGIN:VEVENT
CATEGORIES:Kino
DESCRIPTION:\n\nmehr Informationen unter http://pages.destination.one/de/os
 tfriesland/streaming/detail/Event/e_100283377/filmabend-mit-den-filmen-her
 bst-auf-baltrum-und-die-zigarrenkiste
DTEND;TZID=Europe/Berlin:20210621T223000
DTSTAMP:20260420T215701Z
DTSTART;TZID=Europe/Berlin:20210621T203000
GEO:53.726602;7.370110
LOCATION:Museum Altes Zollhaus\, Westdorf 18\, Baltrum
ORGANIZER;CN=Museum Altes Zollhaus:mailto:museum.zollhaus@t-online.de
SEQUENCE:0
SUMMARY:Filmabend mit den Filmen "Herbst auf Baltrum" und "Die Zigarrenkist
 e"
UID:e_100283377_iv1
URL:http://pages.destination.one/de/ostfriesland/streaming/detail/Event/e_1
 00283377/filmabend-mit-den-filmen-herbst-auf-baltrum-und-die-zigarrenkiste
END:VEVENT
BEGIN:VEVENT
CATEGORIES:Kino
DESCRIPTION:\n\nmehr Informationen unter http://pages.destination.one/de/os
 tfriesland/streaming/detail/Event/e_100283377/filmabend-mit-den-filmen-her
 bst-auf-baltrum-und-die-zigarrenkiste
DTEND;TZID=Europe/Berlin:20210816T223000
DTSTAMP:20260420T215701Z
DTSTART;TZID=Europe/Berlin:20210816T203000
GEO:53.726602;7.370110
LOCATION:Museum Altes Zollhaus\, Westdorf 18\, Baltrum
ORGANIZER;CN=Museum Altes Zollhaus:mailto:museum.zollhaus@t-online.de
SEQUENCE:0
SUMMARY:Filmabend mit den Filmen "Herbst auf Baltrum" und "Die Zigarrenkist
 e"
UID:e_100283377_iv2
URL:http://pages.destination.one/de/ostfriesland/streaming/detail/Event/e_1
 00283377/filmabend-mit-den-filmen-herbst-auf-baltrum-und-die-zigarrenkiste
END:VEVENT
BEGIN:VEVENT
CATEGORIES:Kino
DESCRIPTION:\n\nmehr Informationen unter http://pages.destination.one/de/os
 tfriesland/streaming/detail/Event/e_100283377/filmabend-mit-den-filmen-her
 bst-auf-baltrum-und-die-zigarrenkiste
DTEND;TZID=Europe/Berlin:20211004T223000
DTSTAMP:20260420T215701Z
DTSTART;TZID=Europe/Berlin:20211004T203000
GEO:53.726602;7.370110
LOCATION:Museum Altes Zollhaus\, Westdorf 18\, Baltrum
ORGANIZER;CN=Museum Altes Zollhaus:mailto:museum.zollhaus@t-online.de
SEQUENCE:0
SUMMARY:Filmabend mit den Filmen "Herbst auf Baltrum" und "Die Zigarrenkist
 e"
UID:e_100283377_iv3
URL:http://pages.destination.one/de/ostfriesland/streaming/detail/Event/e_1
 00283377/filmabend-mit-den-filmen-herbst-auf-baltrum-und-die-zigarrenkiste
END:VEVENT
BEGIN:VEVENT
CATEGORIES:Kino
DESCRIPTION:\n\nmehr Informationen unter http://pages.destination.one/de/os
 tfriesland/streaming/detail/Event/e_100283377/filmabend-mit-den-filmen-her
 bst-auf-baltrum-und-die-zigarrenkiste
DTEND;TZID=Europe/Berlin:20230522T235900
DTSTAMP:20260420T215701Z
DTSTART;TZID=Europe/Berlin:20230522T203000
GEO:53.726602;7.370110
LOCATION:Museum Altes Zollhaus\, Westdorf 18\, Baltrum
ORGANIZER;CN=Museum Altes Zollhaus:mailto:museum.zollhaus@t-online.de
SEQUENCE:0
SUMMARY:Filmabend mit den Filmen "Herbst auf Baltrum" und "Die Zigarrenkist
 e"
UID:e_100283377_iv4
URL:http://pages.destination.one/de/ostfriesland/streaming/detail/Event/e_1
 00283377/filmabend-mit-den-filmen-herbst-auf-baltrum-und-die-zigarrenkiste
END:VEVENT
BEGIN:VEVENT
CATEGORIES:Kino
DESCRIPTION:\n\nmehr Informationen unter http://pages.destination.one/de/os
 tfriesland/streaming/detail/Event/e_100283377/filmabend-mit-den-filmen-her
 bst-auf-baltrum-und-die-zigarrenkiste
DTEND;TZID=Europe/Berlin:20230710T235900
DTSTAMP:20260420T215701Z
DTSTART;TZID=Europe/Berlin:20230710T203000
GEO:53.726602;7.370110
LOCATION:Museum Altes Zollhaus\, Westdorf 18\, Baltrum
ORGANIZER;CN=Museum Altes Zollhaus:mailto:museum.zollhaus@t-online.de
SEQUENCE:0
SUMMARY:Filmabend mit den Filmen "Herbst auf Baltrum" und "Die Zigarrenkist
 e"
UID:e_100283377_iv5
URL:http://pages.destination.one/de/ostfriesland/streaming/detail/Event/e_1
 00283377/filmabend-mit-den-filmen-herbst-auf-baltrum-und-die-zigarrenkiste
END:VEVENT
BEGIN:VEVENT
CATEGORIES:Kino
DESCRIPTION:\n\nmehr Informationen unter http://pages.destination.one/de/os
 tfriesland/streaming/detail/Event/e_100283377/filmabend-mit-den-filmen-her
 bst-auf-baltrum-und-die-zigarrenkiste
DTEND;TZID=Europe/Berlin:20230911T235900
DTSTAMP:20260420T215701Z
DTSTART;TZID=Europe/Berlin:20230911T203000
GEO:53.726602;7.370110
LOCATION:Museum Altes Zollhaus\, Westdorf 18\, Baltrum
ORGANIZER;CN=Museum Altes Zollhaus:mailto:museum.zollhaus@t-online.de
SEQUENCE:0
SUMMARY:Filmabend mit den Filmen "Herbst auf Baltrum" und "Die Zigarrenkist
 e"
UID:e_100283377_iv6
URL:http://pages.destination.one/de/ostfriesland/streaming/detail/Event/e_1
 00283377/filmabend-mit-den-filmen-herbst-auf-baltrum-und-die-zigarrenkiste
END:VEVENT
BEGIN:VEVENT
CATEGORIES:Kino
DESCRIPTION:\n\nmehr Informationen unter http://pages.destination.one/de/os
 tfriesland/streaming/detail/Event/e_100283377/filmabend-mit-den-filmen-her
 bst-auf-baltrum-und-die-zigarrenkiste
DTEND;TZID=Europe/Berlin:20240422T220000
DTSTAMP:20260420T215701Z
DTSTART;TZID=Europe/Berlin:20240422T203000
GEO:53.726602;7.370110
LOCATION:Museum Altes Zollhaus\, Westdorf 18\, Baltrum
ORGANIZER;CN=Museum Altes Zollhaus:mailto:museum.zollhaus@t-online.de
SEQUENCE:0
SUMMARY:Filmabend mit den Filmen "Herbst auf Baltrum" und "Die Zigarrenkist
 e"
UID:e_100283377_iv7
URL:http://pages.destination.one/de/ostfriesland/streaming/detail/Event/e_1
 00283377/filmabend-mit-den-filmen-herbst-auf-baltrum-und-die-zigarrenkiste
END:VEVENT
BEGIN:VEVENT
CATEGORIES:Kino
DESCRIPTION:\n\nmehr Informationen unter http://pages.destination.one/de/os
 tfriesland/streaming/detail/Event/e_100283377/filmabend-mit-den-filmen-her
 bst-auf-baltrum-und-die-zigarrenkiste
DTEND;TZID=Europe/Berlin:20240527T220000
DTSTAMP:20260420T215701Z
DTSTART;TZID=Europe/Berlin:20240527T203000
GEO:53.726602;7.370110
LOCATION:Museum Altes Zollhaus\, Westdorf 18\, Baltrum
ORGANIZER;CN=Museum Altes Zollhaus:mailto:museum.zollhaus@t-online.de
SEQUENCE:0
SUMMARY:Filmabend mit den Filmen "Herbst auf Baltrum" und "Die Zigarrenkist
 e"
UID:e_100283377_iv8
URL:http://pages.destination.one/de/ostfriesland/streaming/detail/Event/e_1
 00283377/filmabend-mit-den-filmen-herbst-auf-baltrum-und-die-zigarrenkiste
END:VEVENT
BEGIN:VEVENT
CATEGORIES:Kino
DESCRIPTION:\n\nmehr Informationen unter http://pages.destination.one/de/os
 tfriesland/streaming/detail/Event/e_100283377/filmabend-mit-den-filmen-her
 bst-auf-baltrum-und-die-zigarrenkiste
DTEND;TZID=Europe/Berlin:20240715T220000
DTSTAMP:20260420T215701Z
DTSTART;TZID=Europe/Berlin:20240715T203000
GEO:53.726602;7.370110
LOCATION:Museum Altes Zollhaus\, Westdorf 18\, Baltrum
ORGANIZER;CN=Museum Altes Zollhaus:mailto:museum.zollhaus@t-online.de
SEQUENCE:0
SUMMARY:Filmabend mit den Filmen "Herbst auf Baltrum" und "Die Zigarrenkist
 e"
UID:e_100283377_iv9
URL:http://pages.destination.one/de/ostfriesland/streaming/detail/Event/e_1
 00283377/filmabend-mit-den-filmen-herbst-auf-baltrum-und-die-zigarrenkiste
END:VEVENT
BEGIN:VEVENT
CATEGORIES:Kino
DESCRIPTION:\n\nmehr Informationen unter http://pages.destination.one/de/os
 tfriesland/streaming/detail/Event/e_100283377/filmabend-mit-den-filmen-her
 bst-auf-baltrum-und-die-zigarrenkiste
DTEND;TZID=Europe/Berlin:20240909T220000
DTSTAMP:20260420T215701Z
DTSTART;TZID=Europe/Berlin:20240909T203000
GEO:53.726602;7.370110
LOCATION:Museum Altes Zollhaus\, Westdorf 18\, Baltrum
ORGANIZER;CN=Museum Altes Zollhaus:mailto:museum.zollhaus@t-online.de
SEQUENCE:0
SUMMARY:Filmabend mit den Filmen "Herbst auf Baltrum" und "Die Zigarrenkist
 e"
UID:e_100283377_iv10
URL:http://pages.destination.one/de/ostfriesland/streaming/detail/Event/e_1
 00283377/filmabend-mit-den-filmen-herbst-auf-baltrum-und-die-zigarrenkiste
END:VEVENT
BEGIN:VEVENT
CATEGORIES:Kino
DESCRIPTION:\n\nmehr Informationen unter http://pages.destination.one/de/os
 tfriesland/streaming/detail/Event/e_100283377/filmabend-mit-den-filmen-her
 bst-auf-baltrum-und-die-zigarrenkiste
DTEND;TZID=Europe/Berlin:20241014T220000
DTSTAMP:20260420T215701Z
DTSTART;TZID=Europe/Berlin:20241014T203000
GEO:53.726602;7.370110
LOCATION:Museum Altes Zollhaus\, Westdorf 18\, Baltrum
ORGANIZER;CN=Museum Altes Zollhaus:mailto:museum.zollhaus@t-online.de
SEQUENCE:0
SUMMARY:Filmabend mit den Filmen "Herbst auf Baltrum" und "Die Zigarrenkist
 e"
UID:e_100283377_iv11
URL:http://pages.destination.one/de/ostfriesland/streaming/detail/Event/e_1
 00283377/filmabend-mit-den-filmen-herbst-auf-baltrum-und-die-zigarrenkiste
END:VEVENT
BEGIN:VEVENT
CATEGORIES:Kino
DESCRIPTION:\n\nmehr Informationen unter http://pages.destination.one/de/os
 tfriesland/streaming/detail/Event/e_100283377/filmabend-mit-den-filmen-her
 bst-auf-baltrum-und-die-zigarrenkiste
DTEND;TZID=Europe/Berlin:20250519T223000
DTSTAMP:20260420T215701Z
DTSTART;TZID=Europe/Berlin:20250519T203000
GEO:53.726602;7.370110
LOCATION:Museum Altes Zollhaus\, Westdorf 18\, Baltrum
ORGANIZER;CN=Museum Altes Zollhaus:mailto:museum.zollhaus@t-online.de
SEQUENCE:0
SUMMARY:Filmabend mit den Filmen "Herbst auf Baltrum" und "Die Zigarrenkist
 e"
UID:e_100283377_iv12
URL:http://pages.destination.one/de/ostfriesland/streaming/detail/Event/e_1
 00283377/filmabend-mit-den-filmen-herbst-auf-baltrum-und-die-zigarrenkiste
END:VEVENT
BEGIN:VEVENT
CATEGORIES:Kino
DESCRIPTION:\n\nmehr Informationen unter http://pages.destination.one/de/os
 tfriesland/streaming/detail/Event/e_100283377/filmabend-mit-den-filmen-her
 bst-auf-baltrum-und-die-zigarrenkiste
DTEND;TZID=Europe/Berlin:20250707T223000
DTSTAMP:20260420T215701Z
DTSTART;TZID=Europe/Berlin:20250707T203000
GEO:53.726602;7.370110
LOCATION:Museum Altes Zollhaus\, Westdorf 18\, Baltrum
ORGANIZER;CN=Museum Altes Zollhaus:mailto:museum.zollhaus@t-online.de
SEQUENCE:0
SUMMARY:Filmabend mit den Filmen "Herbst auf Baltrum" und "Die Zigarrenkist
 e"
UID:e_100283377_iv13
URL:http://pages.destination.one/de/ostfriesland/streaming/detail/Event/e_1
 00283377/filmabend-mit-den-filmen-herbst-auf-baltrum-und-die-zigarrenkiste
END:VEVENT
BEGIN:VEVENT
CATEGORIES:Kino
DESCRIPTION:\n\nmehr Informationen unter http://pages.destination.one/de/os
 tfriesland/streaming/detail/Event/e_100283377/filmabend-mit-den-filmen-her
 bst-auf-baltrum-und-die-zigarrenkiste
DTEND;TZID=Europe/Berlin:20250825T223000
DTSTAMP:20260420T215701Z
DTSTART;TZID=Europe/Berlin:20250825T203000
GEO:53.726602;7.370110
LOCATION:Museum Altes Zollhaus\, Westdorf 18\, Baltrum
ORGANIZER;CN=Museum Altes Zollhaus:mailto:museum.zollhaus@t-online.de
SEQUENCE:0
SUMMARY:Filmabend mit den Filmen "Herbst auf Baltrum" und "Die Zigarrenkist
 e"
UID:e_100283377_iv14
URL:http://pages.destination.one/de/ostfriesland/streaming/detail/Event/e_1
 00283377/filmabend-mit-den-filmen-herbst-auf-baltrum-und-die-zigarrenkiste
END:VEVENT
BEGIN:VEVENT
CATEGORIES:Kino
DESCRIPTION:\n\nmehr Informationen unter http://pages.destination.one/de/os
 tfriesland/streaming/detail/Event/e_100283377/filmabend-mit-den-filmen-her
 bst-auf-baltrum-und-die-zigarrenkiste
DTEND;TZID=Europe/Berlin:20251013T223000
DTSTAMP:20260420T215701Z
DTSTART;TZID=Europe/Berlin:20251013T203000
GEO:53.726602;7.370110
LOCATION:Museum Altes Zollhaus\, Westdorf 18\, Baltrum
ORGANIZER;CN=Museum Altes Zollhaus:mailto:museum.zollhaus@t-online.de
SEQUENCE:0
SUMMARY:Filmabend mit den Filmen "Herbst auf Baltrum" und "Die Zigarrenkist
 e"
UID:e_100283377_iv15
URL:http://pages.destination.one/de/ostfriesland/streaming/detail/Event/e_1
 00283377/filmabend-mit-den-filmen-herbst-auf-baltrum-und-die-zigarrenkiste
END:VEVENT
BEGIN:VEVENT
CATEGORIES:Kino
DESCRIPTION:\n\nmehr Informationen unter http://pages.destination.one/de/os
 tfriesland/streaming/detail/Event/e_100283377/filmabend-mit-den-filmen-her
 bst-auf-baltrum-und-die-zigarrenkiste
DTEND;TZID=Europe/Berlin:20260420T220000
DTSTAMP:20260420T215701Z
DTSTART;TZID=Europe/Berlin:20260420T203000
GEO:53.726602;7.370110
LOCATION:Museum Altes Zollhaus\, Westdorf 18\, Baltrum
ORGANIZER;CN=Museum Altes Zollhaus:mailto:museum.zollhaus@t-online.de
SEQUENCE:0
SUMMARY:Filmabend mit den Filmen "Herbst auf Baltrum" und "Die Zigarrenkist
 e"
UID:e_100283377_iv16
URL:http://pages.destination.one/de/ostfriesland/streaming/detail/Event/e_1
 00283377/filmabend-mit-den-filmen-herbst-auf-baltrum-und-die-zigarrenkiste
END:VEVENT
BEGIN:VEVENT
CATEGORIES:Kino
DESCRIPTION:\n\nmehr Informationen unter http://pages.destination.one/de/os
 tfriesland/streaming/detail/Event/e_100283377/filmabend-mit-den-filmen-her
 bst-auf-baltrum-und-die-zigarrenkiste
DTEND;TZID=Europe/Berlin:20260706T220000
DTSTAMP:20260420T215701Z
DTSTART;TZID=Europe/Berlin:20260706T203000
GEO:53.726602;7.370110
LOCATION:Museum Altes Zollhaus\, Westdorf 18\, Baltrum
ORGANIZER;CN=Museum Altes Zollhaus:mailto:museum.zollhaus@t-online.de
SEQUENCE:0
SUMMARY:Filmabend mit den Filmen "Herbst auf Baltrum" und "Die Zigarrenkist
 e"
UID:e_100283377_iv17
URL:http://pages.destination.one/de/ostfriesland/streaming/detail/Event/e_1
 00283377/filmabend-mit-den-filmen-herbst-auf-baltrum-und-die-zigarrenkiste
END:VEVENT
BEGIN:VEVENT
CATEGORIES:Kino
DESCRIPTION:\n\nmehr Informationen unter http://pages.destination.one/de/os
 tfriesland/streaming/detail/Event/e_100283377/filmabend-mit-den-filmen-her
 bst-auf-baltrum-und-die-zigarrenkiste
DTEND;TZID=Europe/Berlin:20260810T220000
DTSTAMP:20260420T215701Z
DTSTART;TZID=Europe/Berlin:20260810T203000
GEO:53.726602;7.370110
LOCATION:Museum Altes Zollhaus\, Westdorf 18\, Baltrum
ORGANIZER;CN=Museum Altes Zollhaus:mailto:museum.zollhaus@t-online.de
SEQUENCE:0
SUMMARY:Filmabend mit den Filmen "Herbst auf Baltrum" und "Die Zigarrenkist
 e"
UID:e_100283377_iv18
URL:http://pages.destination.one/de/ostfriesland/streaming/detail/Event/e_1
 00283377/filmabend-mit-den-filmen-herbst-auf-baltrum-und-die-zigarrenkiste
END:VEVENT
BEGIN:VEVENT
CATEGORIES:Kino
DESCRIPTION:\n\nmehr Informationen unter http://pages.destination.one/de/os
 tfriesland/streaming/detail/Event/e_100283377/filmabend-mit-den-filmen-her
 bst-auf-baltrum-und-die-zigarrenkiste
DTEND;TZID=Europe/Berlin:20260921T220000
DTSTAMP:20260420T215701Z
DTSTART;TZID=Europe/Berlin:20260921T203000
GEO:53.726602;7.370110
LOCATION:Museum Altes Zollhaus\, Westdorf 18\, Baltrum
ORGANIZER;CN=Museum Altes Zollhaus:mailto:museum.zollhaus@t-online.de
SEQUENCE:0
SUMMARY:Filmabend mit den Filmen "Herbst auf Baltrum" und "Die Zigarrenkist
 e"
UID:e_100283377_iv19
URL:http://pages.destination.one/de/ostfriesland/streaming/detail/Event/e_1
 00283377/filmabend-mit-den-filmen-herbst-auf-baltrum-und-die-zigarrenkiste
END:VEVENT
BEGIN:VTIMEZONE
TZID:Europe/Berlin
X-LIC-LOCATION:Europe/Berlin
BEGIN:DAYLIGHT
DTSTART:19700329T020000
RRULE:FREQ=YEARLY;BYDAY=-1SU;BYMONTH=3
TZNAME:CEST
TZOFFSETFROM:+0100
TZOFFSETTO:+0200
END:DAYLIGHT
BEGIN:STANDARD
DTSTART:19701025T030000
RRULE:FREQ=YEARLY;BYDAY=-1SU;BYMONTH=10
TZNAME:CET
TZOFFSETFROM:+0200
TZOFFSETTO:+0100
END:STANDARD
END:VTIMEZONE
END:VCALENDAR
