BEGIN:VCALENDAR
VERSION:2.0
PRODID:-//destination.one//NONSGML destination.meta API//DE
X-WR-CALDESC:A calendar powered by destination.meta
X-WR-CALNAME:open-data-nrw-tourismus Kalender via destination.meta
BEGIN:VEVENT
CATEGORIES:Weihnachtsmarkt
DESCRIPTION:\n\nmehr Informationen unter http://pages.destination.one/de/op
 en-data-nrw-tourismus/streaming/detail/Event/e_100894057/weihnachtsmarkt-b
 ad-sassendorf
DTEND;TZID=Europe/Berlin:20261112T190000
DTSTAMP:20260422T092021Z
DTSTART;TZID=Europe/Berlin:20261112T140000
GEO:51.586774;8.169071
LOCATION:Ortszentrum & Kurpark Bad Sassendorf\, Kaiserstraße 14\, Bad Sasse
 ndorf
ORGANIZER;CN=Heimat- und Kulturverein Bad Sassendorf e. V.:http://www.heima
 tundkulturvereinbadsassendorf.de/
RRULE:FREQ=WEEKLY;UNTIL=20261220T180000;BYDAY=TH,FR
SEQUENCE:0
SUMMARY:Weihnachtsmarkt Bad Sassendorf
UID:e_100894057_iv0
URL:http://pages.destination.one/de/open-data-nrw-tourismus/streaming/detai
 l/Event/e_100894057/weihnachtsmarkt-bad-sassendorf
END:VEVENT
BEGIN:VEVENT
CATEGORIES:Weihnachtsmarkt
DESCRIPTION:\n\nmehr Informationen unter http://pages.destination.one/de/op
 en-data-nrw-tourismus/streaming/detail/Event/e_100894057/weihnachtsmarkt-b
 ad-sassendorf
DTEND;TZID=Europe/Berlin:20261114T190000
DTSTAMP:20260422T092021Z
DTSTART;TZID=Europe/Berlin:20261114T110000
GEO:51.586774;8.169071
LOCATION:Ortszentrum & Kurpark Bad Sassendorf\, Kaiserstraße 14\, Bad Sasse
 ndorf
ORGANIZER;CN=Heimat- und Kulturverein Bad Sassendorf e. V.:http://www.heima
 tundkulturvereinbadsassendorf.de/
RRULE:FREQ=WEEKLY;UNTIL=20261114T180000;BYDAY=SA,SU
SEQUENCE:0
SUMMARY:Weihnachtsmarkt Bad Sassendorf
UID:e_100894057_iv1
URL:http://pages.destination.one/de/open-data-nrw-tourismus/streaming/detai
 l/Event/e_100894057/weihnachtsmarkt-bad-sassendorf
END:VEVENT
BEGIN:VEVENT
CATEGORIES:Weihnachtsmarkt
DESCRIPTION:\n\nmehr Informationen unter http://pages.destination.one/de/op
 en-data-nrw-tourismus/streaming/detail/Event/e_100894057/weihnachtsmarkt-b
 ad-sassendorf
DTEND;TZID=Europe/Berlin:20261115T190000
DTSTAMP:20260422T092021Z
DTSTART;TZID=Europe/Berlin:20261115T130000
GEO:51.586774;8.169071
LOCATION:Ortszentrum & Kurpark Bad Sassendorf\, Kaiserstraße 14\, Bad Sasse
 ndorf
ORGANIZER;CN=Heimat- und Kulturverein Bad Sassendorf e. V.:http://www.heima
 tundkulturvereinbadsassendorf.de/
SEQUENCE:0
SUMMARY:Weihnachtsmarkt Bad Sassendorf
UID:e_100894057_iv2
URL:http://pages.destination.one/de/open-data-nrw-tourismus/streaming/detai
 l/Event/e_100894057/weihnachtsmarkt-bad-sassendorf
END:VEVENT
BEGIN:VEVENT
CATEGORIES:Weihnachtsmarkt
DESCRIPTION:\n\nmehr Informationen unter http://pages.destination.one/de/op
 en-data-nrw-tourismus/streaming/detail/Event/e_100894057/weihnachtsmarkt-b
 ad-sassendorf
DTEND;TZID=Europe/Berlin:20261121T190000
DTSTAMP:20260422T092021Z
DTSTART;TZID=Europe/Berlin:20261121T110000
GEO:51.586774;8.169071
LOCATION:Ortszentrum & Kurpark Bad Sassendorf\, Kaiserstraße 14\, Bad Sasse
 ndorf
ORGANIZER;CN=Heimat- und Kulturverein Bad Sassendorf e. V.:http://www.heima
 tundkulturvereinbadsassendorf.de/
RRULE:FREQ=WEEKLY;UNTIL=20261121T180000;BYDAY=SA,SU
SEQUENCE:0
SUMMARY:Weihnachtsmarkt Bad Sassendorf
UID:e_100894057_iv3
URL:http://pages.destination.one/de/open-data-nrw-tourismus/streaming/detai
 l/Event/e_100894057/weihnachtsmarkt-bad-sassendorf
END:VEVENT
BEGIN:VEVENT
CATEGORIES:Weihnachtsmarkt
DESCRIPTION:\n\nmehr Informationen unter http://pages.destination.one/de/op
 en-data-nrw-tourismus/streaming/detail/Event/e_100894057/weihnachtsmarkt-b
 ad-sassendorf
DTEND;TZID=Europe/Berlin:20261128T190000
DTSTAMP:20260422T092021Z
DTSTART;TZID=Europe/Berlin:20261128T110000
GEO:51.586774;8.169071
LOCATION:Ortszentrum & Kurpark Bad Sassendorf\, Kaiserstraße 14\, Bad Sasse
 ndorf
ORGANIZER;CN=Heimat- und Kulturverein Bad Sassendorf e. V.:http://www.heima
 tundkulturvereinbadsassendorf.de/
RRULE:FREQ=WEEKLY;UNTIL=20261220T180000;BYDAY=SA,SU
SEQUENCE:0
SUMMARY:Weihnachtsmarkt Bad Sassendorf
UID:e_100894057_iv4
URL:http://pages.destination.one/de/open-data-nrw-tourismus/streaming/detai
 l/Event/e_100894057/weihnachtsmarkt-bad-sassendorf
END:VEVENT
BEGIN:VTIMEZONE
TZID:Europe/Berlin
X-LIC-LOCATION:Europe/Berlin
BEGIN:DAYLIGHT
DTSTART:19700329T020000
RRULE:FREQ=YEARLY;BYDAY=-1SU;BYMONTH=3
TZNAME:CEST
TZOFFSETFROM:+0100
TZOFFSETTO:+0200
END:DAYLIGHT
BEGIN:STANDARD
DTSTART:19701025T030000
RRULE:FREQ=YEARLY;BYDAY=-1SU;BYMONTH=10
TZNAME:CET
TZOFFSETFROM:+0200
TZOFFSETTO:+0100
END:STANDARD
END:VTIMEZONE
END:VCALENDAR
