BEGIN:VCALENDAR
VERSION:2.0
PRODID:-//destination.one//NONSGML destination.meta API//DE
X-WR-CALDESC:A calendar powered by destination.meta
X-WR-CALNAME:muehlhausen Kalender via destination.meta
BEGIN:VEVENT
CATEGORIES:Ausstellungen
CATEGORIES:Regional
CATEGORIES:Sonderausstellung
CATEGORIES:Wissenschaft & Bildung
DESCRIPTION:Die Ausstellung nimmt Sie mit auf eine Reise in die Geschichte 
 der Familie Lutteroth: Eine bedeutende Dynastie\, die Mühlhausen nachhalti
 g prägte und deren Wirken weit über die Grenzen Thüringens hinausreichte.\
 n\nmehr Informationen unter http://pages.destination.one/de/muehlhausen/st
 reaming/detail/Event/e_101242340/die-lutteroths-eine-dynastie
DTEND;TZID=Europe/Berlin:20260403T170000
DTSTAMP:20260421T122511Z
DTSTART;TZID=Europe/Berlin:20260403T100000
GEO:51.209939;10.451491
LOCATION:Historische Wehranlage\, Am Frauentor 13\, Mühlhausen/Thüringen
ORGANIZER;CN=Mühlhäuser Museen:mailto:info@mhl-museen.de
RRULE:FREQ=DAILY;UNTIL=20261031T090000
SEQUENCE:0
SUMMARY:Die Lutteroths. Eine Dynastie
UID:e_101242340_iv0
URL:http://pages.destination.one/de/muehlhausen/streaming/detail/Event/e_10
 1242340/die-lutteroths-eine-dynastie
END:VEVENT
BEGIN:VTIMEZONE
TZID:Europe/Berlin
X-LIC-LOCATION:Europe/Berlin
BEGIN:DAYLIGHT
DTSTART:19700329T020000
RRULE:FREQ=YEARLY;BYDAY=-1SU;BYMONTH=3
TZNAME:CEST
TZOFFSETFROM:+0100
TZOFFSETTO:+0200
END:DAYLIGHT
BEGIN:STANDARD
DTSTART:19701025T030000
RRULE:FREQ=YEARLY;BYDAY=-1SU;BYMONTH=10
TZNAME:CET
TZOFFSETFROM:+0200
TZOFFSETTO:+0100
END:STANDARD
END:VTIMEZONE
END:VCALENDAR
