BEGIN:VCALENDAR
VERSION:2.0
PRODID:-//destination.one//NONSGML destination.meta API//DE
X-WR-CALDESC:A calendar powered by destination.meta
X-WR-CALNAME:lra-cham Kalender via destination.meta
BEGIN:VEVENT
CATEGORIES:politische Veranstaltung
DESCRIPTION:\n\nmehr Informationen unter http://pages.destination.one/de/lr
 a-cham/streaming/detail/Event/e_100780033/jahreshauptversammlung-der-csu-o
 rtsverband-walderbach
DTEND;TZID=Europe/Berlin:20240417T235900
DTSTAMP:20260422T045947Z
DTSTART;TZID=Europe/Berlin:20240417T193000
GEO:49.184182;12.377928
LOCATION:Hotel-Gasthof Rückerl\, Am Prälatengarten 2 - 4\, Walderbach
ORGANIZER;CN=CSU - Ortsverband Walderbach:mailto:luck.strahl@t-online.de
SEQUENCE:0
SUMMARY:Jahreshauptversammlung der CSU - Ortsverband Walderbach
UID:e_100780033_iv0
URL:http://pages.destination.one/de/lra-cham/streaming/detail/Event/e_10078
 0033/jahreshauptversammlung-der-csu-ortsverband-walderbach
END:VEVENT
BEGIN:VEVENT
CATEGORIES:politische Veranstaltung
DESCRIPTION:\n\nmehr Informationen unter http://pages.destination.one/de/lr
 a-cham/streaming/detail/Event/e_100780033/jahreshauptversammlung-der-csu-o
 rtsverband-walderbach
DTEND;TZID=Europe/Berlin:20250409T235900
DTSTAMP:20260422T045947Z
DTSTART;TZID=Europe/Berlin:20250409T193000
GEO:49.184182;12.377928
LOCATION:Hotel-Gasthof Rückerl\, Am Prälatengarten 2 - 4\, Walderbach
ORGANIZER;CN=CSU - Ortsverband Walderbach:mailto:luck.strahl@t-online.de
SEQUENCE:0
SUMMARY:Jahreshauptversammlung der CSU - Ortsverband Walderbach
UID:e_100780033_iv1
URL:http://pages.destination.one/de/lra-cham/streaming/detail/Event/e_10078
 0033/jahreshauptversammlung-der-csu-ortsverband-walderbach
END:VEVENT
BEGIN:VEVENT
CATEGORIES:politische Veranstaltung
DESCRIPTION:\n\nmehr Informationen unter http://pages.destination.one/de/lr
 a-cham/streaming/detail/Event/e_100780033/jahreshauptversammlung-der-csu-o
 rtsverband-walderbach
DTEND;TZID=Europe/Berlin:20260422T235900
DTSTAMP:20260422T045947Z
DTSTART;TZID=Europe/Berlin:20260422T193000
GEO:49.184182;12.377928
LOCATION:Hotel-Gasthof Rückerl\, Am Prälatengarten 2 - 4\, Walderbach
ORGANIZER;CN=CSU - Ortsverband Walderbach:mailto:luck.strahl@t-online.de
SEQUENCE:0
SUMMARY:Jahreshauptversammlung der CSU - Ortsverband Walderbach
UID:e_100780033_iv2
URL:http://pages.destination.one/de/lra-cham/streaming/detail/Event/e_10078
 0033/jahreshauptversammlung-der-csu-ortsverband-walderbach
END:VEVENT
BEGIN:VTIMEZONE
TZID:Europe/Berlin
X-LIC-LOCATION:Europe/Berlin
BEGIN:DAYLIGHT
DTSTART:19700329T020000
RRULE:FREQ=YEARLY;BYDAY=-1SU;BYMONTH=3
TZNAME:CEST
TZOFFSETFROM:+0100
TZOFFSETTO:+0200
END:DAYLIGHT
BEGIN:STANDARD
DTSTART:19701025T030000
RRULE:FREQ=YEARLY;BYDAY=-1SU;BYMONTH=10
TZNAME:CET
TZOFFSETFROM:+0200
TZOFFSETTO:+0100
END:STANDARD
END:VTIMEZONE
END:VCALENDAR
