BEGIN:VCALENDAR
VERSION:2.0
PRODID:-//destination.one//NONSGML destination.meta API//DE
X-WR-CALDESC:A calendar powered by destination.meta
X-WR-CALNAME:lra-cham Kalender via destination.meta
BEGIN:VEVENT
CATEGORIES:Geselligkeit/Spiele/Treffen
CATEGORIES:Turnier/Wettbewerb
DESCRIPTION:Preisschafkopfen des FC Treffelstein in der Mehrzweckhalle\n\nm
 ehr Informationen unter http://pages.destination.one/de/lra-cham/streaming
 /detail/Event/e_100018333/preisschafkopfen
DTEND;TZID=Europe/Berlin:20261121T235900
DTSTAMP:20260420T071114Z
DTSTART;TZID=Europe/Berlin:20261121T200000
GEO:49.426467;12.617283
LOCATION:Mehrzweckhalle Treffelstein\, Spielanger 12\, Treffelstein
SEQUENCE:0
SUMMARY:Preisschafkopfen
UID:e_100018333_iv0
URL:http://pages.destination.one/de/lra-cham/streaming/detail/Event/e_10001
 8333/preisschafkopfen
END:VEVENT
BEGIN:VEVENT
CATEGORIES:Geselligkeit/Spiele/Treffen
CATEGORIES:Turnier/Wettbewerb
DESCRIPTION:Preisschafkopfen des FC Treffelstein in der Mehrzweckhalle\n\nm
 ehr Informationen unter http://pages.destination.one/de/lra-cham/streaming
 /detail/Event/e_100018333/preisschafkopfen
DTEND;TZID=Europe/Berlin:20271120T235900
DTSTAMP:20260420T071114Z
DTSTART;TZID=Europe/Berlin:20271120T200000
GEO:49.426467;12.617283
LOCATION:Mehrzweckhalle Treffelstein\, Spielanger 12\, Treffelstein
SEQUENCE:0
SUMMARY:Preisschafkopfen
UID:e_100018333_iv1
URL:http://pages.destination.one/de/lra-cham/streaming/detail/Event/e_10001
 8333/preisschafkopfen
END:VEVENT
BEGIN:VTIMEZONE
TZID:Europe/Berlin
X-LIC-LOCATION:Europe/Berlin
BEGIN:DAYLIGHT
DTSTART:19700329T020000
RRULE:FREQ=YEARLY;BYDAY=-1SU;BYMONTH=3
TZNAME:CEST
TZOFFSETFROM:+0100
TZOFFSETTO:+0200
END:DAYLIGHT
BEGIN:STANDARD
DTSTART:19701025T030000
RRULE:FREQ=YEARLY;BYDAY=-1SU;BYMONTH=10
TZNAME:CET
TZOFFSETFROM:+0200
TZOFFSETTO:+0100
END:STANDARD
END:VTIMEZONE
END:VCALENDAR
