BEGIN:VCALENDAR
VERSION:2.0
PRODID:-//destination.one//NONSGML destination.meta API//DE
X-WR-CALDESC:A calendar powered by destination.meta
X-WR-CALNAME:lra-cham Kalender via destination.meta
BEGIN:VEVENT
CATEGORIES:Sport/Freizeit
DESCRIPTION:\n\nmehr Informationen unter http://pages.destination.one/de/lr
 a-cham/streaming/detail/Event/e_101161261/pilates-kurs
DTEND;TZID=Europe/Berlin:20251208T191500
DTSTAMP:20260420T055732Z
DTSTART;TZID=Europe/Berlin:20251208T181500
GEO:49.163638;12.810761
LOCATION:Haus des Gastes\, Badstr. 5\, Blaibach
ORGANIZER;CN=Achatz Jessica:mailto:jessica.achatz.ja@gmail.com
RRULE:FREQ=WEEKLY;COUNT=52;BYDAY=MO
SEQUENCE:0
SUMMARY:Pilates Kurs 
UID:e_101161261_iv0
URL:http://pages.destination.one/de/lra-cham/streaming/detail/Event/e_10116
 1261/pilates-kurs
END:VEVENT
BEGIN:VTIMEZONE
TZID:Europe/Berlin
X-LIC-LOCATION:Europe/Berlin
BEGIN:DAYLIGHT
DTSTART:19700329T020000
RRULE:FREQ=YEARLY;BYDAY=-1SU;BYMONTH=3
TZNAME:CEST
TZOFFSETFROM:+0100
TZOFFSETTO:+0200
END:DAYLIGHT
BEGIN:STANDARD
DTSTART:19701025T030000
RRULE:FREQ=YEARLY;BYDAY=-1SU;BYMONTH=10
TZNAME:CET
TZOFFSETFROM:+0200
TZOFFSETTO:+0100
END:STANDARD
END:VTIMEZONE
END:VCALENDAR
