BEGIN:VCALENDAR
VERSION:2.0
PRODID:-//destination.one//NONSGML destination.meta API//DE
X-WR-CALDESC:A calendar powered by destination.meta
X-WR-CALNAME:landkreis-regensburg-neutral Kalender via destination.meta
BEGIN:VEVENT
CATEGORIES:für Kinder
DESCRIPTION:\n\nmehr Informationen unter http://pages.destination.one/de/la
 ndkreis-regensburg-neutral/streaming/detail/Event/e_101250164/kleinkinderg
 ottesdienst
DTEND;TZID=Europe/Berlin:20260524T104500
DTSTAMP:20260423T103832Z
DTSTART;TZID=Europe/Berlin:20260524T100000
GEO:48.998905;12.402153
LOCATION:Pfarrheim St. Petrus Wörth an der Donau\, Sandmüllerwiese 11\, Wör
 th a. d. Donau
ORGANIZER;CN=Pfarreiengemeinschaft Wörth-Wiesent:mailto:woerth-donau@bistum
 -regensburg.de
SEQUENCE:0
SUMMARY:Kleinkindergottesdienst
UID:e_101250164_iv0
URL:http://pages.destination.one/de/landkreis-regensburg-neutral/streaming/
 detail/Event/e_101250164/kleinkindergottesdienst
END:VEVENT
BEGIN:VTIMEZONE
TZID:Europe/Berlin
X-LIC-LOCATION:Europe/Berlin
BEGIN:DAYLIGHT
DTSTART:19700329T020000
RRULE:FREQ=YEARLY;BYDAY=-1SU;BYMONTH=3
TZNAME:CEST
TZOFFSETFROM:+0100
TZOFFSETTO:+0200
END:DAYLIGHT
BEGIN:STANDARD
DTSTART:19701025T030000
RRULE:FREQ=YEARLY;BYDAY=-1SU;BYMONTH=10
TZNAME:CET
TZOFFSETFROM:+0200
TZOFFSETTO:+0100
END:STANDARD
END:VTIMEZONE
END:VCALENDAR
