BEGIN:VCALENDAR
VERSION:2.0
PRODID:-//destination.one//NONSGML destination.meta API//DE
X-WR-CALDESC:A calendar powered by destination.meta
X-WR-CALNAME:landkreis-regensburg-neutral Kalender via destination.meta
BEGIN:VEVENT
CATEGORIES:für Kinder
DESCRIPTION:\n\nmehr Informationen unter http://pages.destination.one/de/la
 ndkreis-regensburg-neutral/streaming/detail/Event/e_101250163/kleinkinderg
 ottesdienst
DTEND;TZID=Europe/Berlin:20260426T104500
DTSTAMP:20260421T124955Z
DTSTART;TZID=Europe/Berlin:20260426T100000
GEO:49.003794;12.408704
LOCATION:Mittelschule Wörth a.d.Donau - Aula\, Schulstraße 1\, Wörth a. d. 
 Donau
ORGANIZER;CN=Pfarreiengemeinschaft Wörth-Wiesent:mailto:woerth-donau@bistum
 -regensburg.de
SEQUENCE:0
SUMMARY:Kleinkindergottesdienst
UID:e_101250163_iv0
URL:http://pages.destination.one/de/landkreis-regensburg-neutral/streaming/
 detail/Event/e_101250163/kleinkindergottesdienst
END:VEVENT
BEGIN:VTIMEZONE
TZID:Europe/Berlin
X-LIC-LOCATION:Europe/Berlin
BEGIN:DAYLIGHT
DTSTART:19700329T020000
RRULE:FREQ=YEARLY;BYDAY=-1SU;BYMONTH=3
TZNAME:CEST
TZOFFSETFROM:+0100
TZOFFSETTO:+0200
END:DAYLIGHT
BEGIN:STANDARD
DTSTART:19701025T030000
RRULE:FREQ=YEARLY;BYDAY=-1SU;BYMONTH=10
TZNAME:CET
TZOFFSETFROM:+0200
TZOFFSETTO:+0100
END:STANDARD
END:VTIMEZONE
END:VCALENDAR
