BEGIN:VCALENDAR
VERSION:2.0
PRODID:-//destination.one//NONSGML destination.meta API//DE
X-WR-CALDESC:A calendar powered by destination.meta
X-WR-CALNAME:landkreis-regensburg-neutral Kalender via destination.meta
BEGIN:VEVENT
CATEGORIES:Führung/Besichtigung
CATEGORIES:für Kinder
CATEGORIES:Kultur
DESCRIPTION:Führung um 15.00 Uhr AUSGEBUCHT\n2. Führung um 17.30 Uhr \nSchl
 ossführung für Kinder - in Zusammenarbeit mit der Kolping-Theaterbühne Wör
 th a.d.Donau\n\nmehr Informationen unter http://pages.destination.one/de/l
 andkreis-regensburg-neutral/streaming/detail/Event/e_101234722/schlossf-hr
 ung-f-r-kinder-2026
DTEND;TZID=Europe/Berlin:20260509T235900
DTSTAMP:20260423T092058Z
DTSTART;TZID=Europe/Berlin:20260509T150000
GEO:49.000183;12.402170
LOCATION:Schloss Wörth an der Donau\, Schlossberg 1\, Wörth a. d. Donau
ORGANIZER;CN=Kultur in Wörth - K.i.W.:http://www.k-i-w.de/
PRIORITY:4
SEQUENCE:0
SUMMARY:Schlossführung für Kinder 2026
UID:e_101234722_iv0
URL:http://pages.destination.one/de/landkreis-regensburg-neutral/streaming/
 detail/Event/e_101234722/schlossf-hrung-f-r-kinder-2026
END:VEVENT
BEGIN:VEVENT
CATEGORIES:Führung/Besichtigung
CATEGORIES:für Kinder
CATEGORIES:Kultur
DESCRIPTION:Führung um 15.00 Uhr AUSGEBUCHT\n2. Führung um 17.30 Uhr \nSchl
 ossführung für Kinder - in Zusammenarbeit mit der Kolping-Theaterbühne Wör
 th a.d.Donau\n\nmehr Informationen unter http://pages.destination.one/de/l
 andkreis-regensburg-neutral/streaming/detail/Event/e_101234722/schlossf-hr
 ung-f-r-kinder-2026
DTEND;TZID=Europe/Berlin:20260509T235900
DTSTAMP:20260423T092058Z
DTSTART;TZID=Europe/Berlin:20260509T173000
GEO:49.000183;12.402170
LOCATION:Schloss Wörth an der Donau\, Schlossberg 1\, Wörth a. d. Donau
ORGANIZER;CN=Kultur in Wörth - K.i.W.:http://www.k-i-w.de/
PRIORITY:4
SEQUENCE:0
SUMMARY:Schlossführung für Kinder 2026
UID:e_101234722_iv1
URL:http://pages.destination.one/de/landkreis-regensburg-neutral/streaming/
 detail/Event/e_101234722/schlossf-hrung-f-r-kinder-2026
END:VEVENT
BEGIN:VTIMEZONE
TZID:Europe/Berlin
X-LIC-LOCATION:Europe/Berlin
BEGIN:DAYLIGHT
DTSTART:19700329T020000
RRULE:FREQ=YEARLY;BYDAY=-1SU;BYMONTH=3
TZNAME:CEST
TZOFFSETFROM:+0100
TZOFFSETTO:+0200
END:DAYLIGHT
BEGIN:STANDARD
DTSTART:19701025T030000
RRULE:FREQ=YEARLY;BYDAY=-1SU;BYMONTH=10
TZNAME:CET
TZOFFSETFROM:+0200
TZOFFSETTO:+0100
END:STANDARD
END:VTIMEZONE
END:VCALENDAR
