BEGIN:VCALENDAR
VERSION:2.0
PRODID:-//destination.one//NONSGML destination.meta API//DE
X-WR-CALDESC:A calendar powered by destination.meta
X-WR-CALNAME:gemeinde-bunde Kalender via destination.meta
BEGIN:VEVENT
CATEGORIES:Jahrmarkt
DESCRIPTION:Johannimarkt in Weener\n\nmehr Informationen unter http://pages
 .destination.one/de/gemeinde-bunde/streaming/detail/Event/e_100125318/joha
 nnimarkt
DTEND;TZID=Europe/Berlin:20220429T220000
DTSTAMP:20260422T142338Z
DTSTART;TZID=Europe/Berlin:20220429T170000
GEO:53.166012;7.353794
LOCATION:Marktstraße\, Marktstraße\, Weener
ORGANIZER;CN=Stadt Weener (Ems):mailto:leemhuis@weener.de
SEQUENCE:0
SUMMARY:Johannimarkt
UID:e_100125318_iv0
URL:http://pages.destination.one/de/gemeinde-bunde/streaming/detail/Event/e
 _100125318/johannimarkt
END:VEVENT
BEGIN:VEVENT
CATEGORIES:Jahrmarkt
DESCRIPTION:Johannimarkt in Weener\n\nmehr Informationen unter http://pages
 .destination.one/de/gemeinde-bunde/streaming/detail/Event/e_100125318/joha
 nnimarkt
DTEND;TZID=Europe/Berlin:20220430T220000
DTSTAMP:20260422T142338Z
DTSTART;TZID=Europe/Berlin:20220430T140000
GEO:53.166012;7.353794
LOCATION:Marktstraße\, Marktstraße\, Weener
ORGANIZER;CN=Stadt Weener (Ems):mailto:leemhuis@weener.de
SEQUENCE:0
SUMMARY:Johannimarkt
UID:e_100125318_iv1
URL:http://pages.destination.one/de/gemeinde-bunde/streaming/detail/Event/e
 _100125318/johannimarkt
END:VEVENT
BEGIN:VEVENT
CATEGORIES:Jahrmarkt
DESCRIPTION:Johannimarkt in Weener\n\nmehr Informationen unter http://pages
 .destination.one/de/gemeinde-bunde/streaming/detail/Event/e_100125318/joha
 nnimarkt
DTEND;TZID=Europe/Berlin:20220501T220000
DTSTAMP:20260422T142338Z
DTSTART;TZID=Europe/Berlin:20220501T140000
GEO:53.166012;7.353794
LOCATION:Marktstraße\, Marktstraße\, Weener
ORGANIZER;CN=Stadt Weener (Ems):mailto:leemhuis@weener.de
SEQUENCE:0
SUMMARY:Johannimarkt
UID:e_100125318_iv2
URL:http://pages.destination.one/de/gemeinde-bunde/streaming/detail/Event/e
 _100125318/johannimarkt
END:VEVENT
BEGIN:VEVENT
CATEGORIES:Jahrmarkt
DESCRIPTION:Johannimarkt in Weener\n\nmehr Informationen unter http://pages
 .destination.one/de/gemeinde-bunde/streaming/detail/Event/e_100125318/joha
 nnimarkt
DTEND;TZID=Europe/Berlin:20220502T220000
DTSTAMP:20260422T142338Z
DTSTART;TZID=Europe/Berlin:20220502T140000
GEO:53.166012;7.353794
LOCATION:Marktstraße\, Marktstraße\, Weener
ORGANIZER;CN=Stadt Weener (Ems):mailto:leemhuis@weener.de
SEQUENCE:0
SUMMARY:Johannimarkt
UID:e_100125318_iv3
URL:http://pages.destination.one/de/gemeinde-bunde/streaming/detail/Event/e
 _100125318/johannimarkt
END:VEVENT
BEGIN:VEVENT
CATEGORIES:Jahrmarkt
DESCRIPTION:Johannimarkt in Weener\n\nmehr Informationen unter http://pages
 .destination.one/de/gemeinde-bunde/streaming/detail/Event/e_100125318/joha
 nnimarkt
DTEND;TZID=Europe/Berlin:20250501T200000
DTSTAMP:20260422T142338Z
DTSTART;TZID=Europe/Berlin:20250501T130000
GEO:53.166012;7.353794
LOCATION:Marktstraße\, Marktstraße\, Weener
ORGANIZER;CN=Stadt Weener (Ems):mailto:leemhuis@weener.de
RRULE:FREQ=DAILY;UNTIL=20250504T110000
SEQUENCE:0
SUMMARY:Johannimarkt
UID:e_100125318_iv4
URL:http://pages.destination.one/de/gemeinde-bunde/streaming/detail/Event/e
 _100125318/johannimarkt
END:VEVENT
BEGIN:VEVENT
CATEGORIES:Jahrmarkt
DESCRIPTION:Johannimarkt in Weener\n\nmehr Informationen unter http://pages
 .destination.one/de/gemeinde-bunde/streaming/detail/Event/e_100125318/joha
 nnimarkt
DTEND;TZID=Europe/Berlin:20260501T230000
DTSTAMP:20260422T142338Z
DTSTART;TZID=Europe/Berlin:20260501T180000
GEO:53.166012;7.353794
LOCATION:Marktstraße\, Marktstraße\, Weener
ORGANIZER;CN=Stadt Weener (Ems):mailto:leemhuis@weener.de
SEQUENCE:0
SUMMARY:Johannimarkt
UID:e_100125318_iv5
URL:http://pages.destination.one/de/gemeinde-bunde/streaming/detail/Event/e
 _100125318/johannimarkt
END:VEVENT
BEGIN:VEVENT
CATEGORIES:Jahrmarkt
DESCRIPTION:Johannimarkt in Weener\n\nmehr Informationen unter http://pages
 .destination.one/de/gemeinde-bunde/streaming/detail/Event/e_100125318/joha
 nnimarkt
DTEND;TZID=Europe/Berlin:20260502T220000
DTSTAMP:20260422T142338Z
DTSTART;TZID=Europe/Berlin:20260502T130000
GEO:53.166012;7.353794
LOCATION:Marktstraße\, Marktstraße\, Weener
ORGANIZER;CN=Stadt Weener (Ems):mailto:leemhuis@weener.de
SEQUENCE:0
SUMMARY:Johannimarkt
UID:e_100125318_iv6
URL:http://pages.destination.one/de/gemeinde-bunde/streaming/detail/Event/e
 _100125318/johannimarkt
END:VEVENT
BEGIN:VEVENT
CATEGORIES:Jahrmarkt
DESCRIPTION:Johannimarkt in Weener\n\nmehr Informationen unter http://pages
 .destination.one/de/gemeinde-bunde/streaming/detail/Event/e_100125318/joha
 nnimarkt
DTEND;TZID=Europe/Berlin:20260503T220000
DTSTAMP:20260422T142338Z
DTSTART;TZID=Europe/Berlin:20260503T130000
GEO:53.166012;7.353794
LOCATION:Marktstraße\, Marktstraße\, Weener
ORGANIZER;CN=Stadt Weener (Ems):mailto:leemhuis@weener.de
SEQUENCE:0
SUMMARY:Johannimarkt
UID:e_100125318_iv7
URL:http://pages.destination.one/de/gemeinde-bunde/streaming/detail/Event/e
 _100125318/johannimarkt
END:VEVENT
BEGIN:VEVENT
CATEGORIES:Jahrmarkt
DESCRIPTION:Johannimarkt in Weener\n\nmehr Informationen unter http://pages
 .destination.one/de/gemeinde-bunde/streaming/detail/Event/e_100125318/joha
 nnimarkt
DTEND;TZID=Europe/Berlin:20260504T200000
DTSTAMP:20260422T142338Z
DTSTART;TZID=Europe/Berlin:20260504T140000
GEO:53.166012;7.353794
LOCATION:Marktstraße\, Marktstraße\, Weener
ORGANIZER;CN=Stadt Weener (Ems):mailto:leemhuis@weener.de
SEQUENCE:0
SUMMARY:Johannimarkt
UID:e_100125318_iv8
URL:http://pages.destination.one/de/gemeinde-bunde/streaming/detail/Event/e
 _100125318/johannimarkt
END:VEVENT
BEGIN:VTIMEZONE
TZID:Europe/Berlin
X-LIC-LOCATION:Europe/Berlin
BEGIN:DAYLIGHT
DTSTART:19700329T020000
RRULE:FREQ=YEARLY;BYDAY=-1SU;BYMONTH=3
TZNAME:CEST
TZOFFSETFROM:+0100
TZOFFSETTO:+0200
END:DAYLIGHT
BEGIN:STANDARD
DTSTART:19701025T030000
RRULE:FREQ=YEARLY;BYDAY=-1SU;BYMONTH=10
TZNAME:CET
TZOFFSETFROM:+0200
TZOFFSETTO:+0100
END:STANDARD
END:VTIMEZONE
END:VCALENDAR
