BEGIN:VCALENDAR
VERSION:2.0
PRODID:-//destination.one//NONSGML destination.meta API//DE
X-WR-CALDESC:A calendar powered by destination.meta
X-WR-CALNAME:gemeinde-bunde Kalender via destination.meta
BEGIN:VEVENT
CATEGORIES:Radsport
DESCRIPTION:Klima\, Natur\, Gesundheit und Umweltschutz verdienen einen höh
 eren Radverkehrsanteil!!\n\nmehr Informationen unter http://pages.destinat
 ion.one/de/gemeinde-bunde/streaming/detail/Event/e_100140791/feierabendtou
 ren-achtung-nderung-der-abfahrtszeit
DTEND;TZID=Europe/Berlin:20180425T213000
DTSTAMP:20260422T125345Z
DTSTART;TZID=Europe/Berlin:20180425T190000
GEO:53.176232;7.302539
LOCATION:Treffpunkt am Tichelmarkt\, Boenster Straße 25\, Weener
ORGANIZER;CN=ADFC Rheiderland:mailto:harm.meinders@adfc-leer.de
RRULE:FREQ=WEEKLY;UNTIL=20180905T170000;BYDAY=WE
SEQUENCE:0
SUMMARY:Feierabendtouren | ACHTUNG ÄNDERUNG DER ABFAHRTSZEIT!
UID:e_100140791_iv0
URL:http://pages.destination.one/de/gemeinde-bunde/streaming/detail/Event/e
 _100140791/feierabendtouren-achtung-nderung-der-abfahrtszeit
END:VEVENT
BEGIN:VEVENT
CATEGORIES:Radsport
DESCRIPTION:Klima\, Natur\, Gesundheit und Umweltschutz verdienen einen höh
 eren Radverkehrsanteil!!\n\nmehr Informationen unter http://pages.destinat
 ion.one/de/gemeinde-bunde/streaming/detail/Event/e_100140791/feierabendtou
 ren-achtung-nderung-der-abfahrtszeit
DTEND;TZID=Europe/Berlin:20260422T170000
DTSTAMP:20260422T125345Z
DTSTART;TZID=Europe/Berlin:20260422T130000
GEO:53.176232;7.302539
LOCATION:Treffpunkt am Tichelmarkt\, Boenster Straße 25\, Weener
ORGANIZER;CN=ADFC Rheiderland:mailto:harm.meinders@adfc-leer.de
SEQUENCE:0
SUMMARY:Feierabendtouren | ACHTUNG ÄNDERUNG DER ABFAHRTSZEIT!
UID:e_100140791_iv1
URL:http://pages.destination.one/de/gemeinde-bunde/streaming/detail/Event/e
 _100140791/feierabendtouren-achtung-nderung-der-abfahrtszeit
END:VEVENT
BEGIN:VEVENT
CATEGORIES:Radsport
DESCRIPTION:Klima\, Natur\, Gesundheit und Umweltschutz verdienen einen höh
 eren Radverkehrsanteil!!\n\nmehr Informationen unter http://pages.destinat
 ion.one/de/gemeinde-bunde/streaming/detail/Event/e_100140791/feierabendtou
 ren-achtung-nderung-der-abfahrtszeit
DTEND;TZID=Europe/Berlin:20260429T213000
DTSTAMP:20260422T125345Z
DTSTART;TZID=Europe/Berlin:20260429T190000
GEO:53.176232;7.302539
LOCATION:Treffpunkt am Tichelmarkt\, Boenster Straße 25\, Weener
ORGANIZER;CN=ADFC Rheiderland:mailto:harm.meinders@adfc-leer.de
RRULE:FREQ=WEEKLY;UNTIL=20260527T193000;BYDAY=WE
SEQUENCE:0
SUMMARY:Feierabendtouren | ACHTUNG ÄNDERUNG DER ABFAHRTSZEIT!
UID:e_100140791_iv2
URL:http://pages.destination.one/de/gemeinde-bunde/streaming/detail/Event/e
 _100140791/feierabendtouren-achtung-nderung-der-abfahrtszeit
END:VEVENT
BEGIN:VEVENT
CATEGORIES:Radsport
DESCRIPTION:Klima\, Natur\, Gesundheit und Umweltschutz verdienen einen höh
 eren Radverkehrsanteil!!\n\nmehr Informationen unter http://pages.destinat
 ion.one/de/gemeinde-bunde/streaming/detail/Event/e_100140791/feierabendtou
 ren-achtung-nderung-der-abfahrtszeit
DTEND;TZID=Europe/Berlin:20260610T213000
DTSTAMP:20260422T125345Z
DTSTART;TZID=Europe/Berlin:20260610T190000
GEO:53.176232;7.302539
LOCATION:Treffpunkt am Tichelmarkt\, Boenster Straße 25\, Weener
ORGANIZER;CN=ADFC Rheiderland:mailto:harm.meinders@adfc-leer.de
RRULE:FREQ=WEEKLY;UNTIL=20260626T193000;BYDAY=WE
SEQUENCE:0
SUMMARY:Feierabendtouren | ACHTUNG ÄNDERUNG DER ABFAHRTSZEIT!
UID:e_100140791_iv3
URL:http://pages.destination.one/de/gemeinde-bunde/streaming/detail/Event/e
 _100140791/feierabendtouren-achtung-nderung-der-abfahrtszeit
END:VEVENT
BEGIN:VEVENT
CATEGORIES:Radsport
DESCRIPTION:Klima\, Natur\, Gesundheit und Umweltschutz verdienen einen höh
 eren Radverkehrsanteil!!\n\nmehr Informationen unter http://pages.destinat
 ion.one/de/gemeinde-bunde/streaming/detail/Event/e_100140791/feierabendtou
 ren-achtung-nderung-der-abfahrtszeit
DTEND;TZID=Europe/Berlin:20260708T213000
DTSTAMP:20260422T125345Z
DTSTART;TZID=Europe/Berlin:20260708T190000
GEO:53.176232;7.302539
LOCATION:Treffpunkt am Tichelmarkt\, Boenster Straße 25\, Weener
ORGANIZER;CN=ADFC Rheiderland:mailto:harm.meinders@adfc-leer.de
RRULE:FREQ=WEEKLY;UNTIL=20260729T193000;BYDAY=WE
SEQUENCE:0
SUMMARY:Feierabendtouren | ACHTUNG ÄNDERUNG DER ABFAHRTSZEIT!
UID:e_100140791_iv4
URL:http://pages.destination.one/de/gemeinde-bunde/streaming/detail/Event/e
 _100140791/feierabendtouren-achtung-nderung-der-abfahrtszeit
END:VEVENT
BEGIN:VEVENT
CATEGORIES:Radsport
DESCRIPTION:Klima\, Natur\, Gesundheit und Umweltschutz verdienen einen höh
 eren Radverkehrsanteil!!\n\nmehr Informationen unter http://pages.destinat
 ion.one/de/gemeinde-bunde/streaming/detail/Event/e_100140791/feierabendtou
 ren-achtung-nderung-der-abfahrtszeit
DTEND;TZID=Europe/Berlin:20260812T213000
DTSTAMP:20260422T125345Z
DTSTART;TZID=Europe/Berlin:20260812T190000
GEO:53.176232;7.302539
LOCATION:Treffpunkt am Tichelmarkt\, Boenster Straße 25\, Weener
ORGANIZER;CN=ADFC Rheiderland:mailto:harm.meinders@adfc-leer.de
RRULE:FREQ=WEEKLY;UNTIL=20260902T193000;BYDAY=WE
SEQUENCE:0
SUMMARY:Feierabendtouren | ACHTUNG ÄNDERUNG DER ABFAHRTSZEIT!
UID:e_100140791_iv5
URL:http://pages.destination.one/de/gemeinde-bunde/streaming/detail/Event/e
 _100140791/feierabendtouren-achtung-nderung-der-abfahrtszeit
END:VEVENT
BEGIN:VTIMEZONE
TZID:Europe/Berlin
X-LIC-LOCATION:Europe/Berlin
BEGIN:DAYLIGHT
DTSTART:19700329T020000
RRULE:FREQ=YEARLY;BYDAY=-1SU;BYMONTH=3
TZNAME:CEST
TZOFFSETFROM:+0100
TZOFFSETTO:+0200
END:DAYLIGHT
BEGIN:STANDARD
DTSTART:19701025T030000
RRULE:FREQ=YEARLY;BYDAY=-1SU;BYMONTH=10
TZNAME:CET
TZOFFSETFROM:+0200
TZOFFSETTO:+0100
END:STANDARD
END:VTIMEZONE
END:VCALENDAR
