BEGIN:VCALENDAR
VERSION:2.0
PRODID:-//destination.one//NONSGML destination.meta API//DE
X-WR-CALDESC:A calendar powered by destination.meta
X-WR-CALNAME:bad-zwischenahn-touristik Kalender via destination.meta
BEGIN:VEVENT
CATEGORIES:Gesundheit sonstige
DESCRIPTION:QiGong im Kurpark\n\nmehr Informationen unter http://pages.dest
 ination.one/de/bad-zwischenahn-touristik/streaming/detail/Event/e_10012058
 1/qigong-im-kurpark
DTEND;TZID=Europe/Berlin:20220420T110000
DTSTAMP:20260423T105005Z
DTSTART;TZID=Europe/Berlin:20220420T100000
GEO:53.185341;8.009166
LOCATION:Kurpark\, Auf dem Hohen Ufer\, Bad Zwischenahn
ORGANIZER;CN=Bad Zwischenahner Touristik GmbH:mailto:info@bad-zwischenahn-t
 ouristik.de
RRULE:FREQ=WEEKLY;UNTIL=20220511T090000;BYDAY=WE
SEQUENCE:0
SUMMARY:QiGong im Kurpark
UID:e_100120581_iv0
URL:http://pages.destination.one/de/bad-zwischenahn-touristik/streaming/det
 ail/Event/e_100120581/qigong-im-kurpark
END:VEVENT
BEGIN:VEVENT
CATEGORIES:Gesundheit sonstige
DESCRIPTION:QiGong im Kurpark\n\nmehr Informationen unter http://pages.dest
 ination.one/de/bad-zwischenahn-touristik/streaming/detail/Event/e_10012058
 1/qigong-im-kurpark
DTEND;TZID=Europe/Berlin:20220420T180000
DTSTAMP:20260423T105005Z
DTSTART;TZID=Europe/Berlin:20220420T170000
GEO:53.185341;8.009166
LOCATION:Kurpark\, Auf dem Hohen Ufer\, Bad Zwischenahn
ORGANIZER;CN=Bad Zwischenahner Touristik GmbH:mailto:info@bad-zwischenahn-t
 ouristik.de
RRULE:FREQ=WEEKLY;UNTIL=20220511T160000;BYDAY=WE
SEQUENCE:0
SUMMARY:QiGong im Kurpark
UID:e_100120581_iv1
URL:http://pages.destination.one/de/bad-zwischenahn-touristik/streaming/det
 ail/Event/e_100120581/qigong-im-kurpark
END:VEVENT
BEGIN:VEVENT
CATEGORIES:Gesundheit sonstige
DESCRIPTION:QiGong im Kurpark\n\nmehr Informationen unter http://pages.dest
 ination.one/de/bad-zwischenahn-touristik/streaming/detail/Event/e_10012058
 1/qigong-im-kurpark
DTEND;TZID=Europe/Berlin:20220518T100000
DTSTAMP:20260423T105005Z
DTSTART;TZID=Europe/Berlin:20220518T090000
GEO:53.185341;8.009166
LOCATION:Kurpark\, Auf dem Hohen Ufer\, Bad Zwischenahn
ORGANIZER;CN=Bad Zwischenahner Touristik GmbH:mailto:info@bad-zwischenahn-t
 ouristik.de
SEQUENCE:0
SUMMARY:QiGong im Kurpark
UID:e_100120581_iv2
URL:http://pages.destination.one/de/bad-zwischenahn-touristik/streaming/det
 ail/Event/e_100120581/qigong-im-kurpark
END:VEVENT
BEGIN:VEVENT
CATEGORIES:Gesundheit sonstige
DESCRIPTION:QiGong im Kurpark\n\nmehr Informationen unter http://pages.dest
 ination.one/de/bad-zwischenahn-touristik/streaming/detail/Event/e_10012058
 1/qigong-im-kurpark
DTEND;TZID=Europe/Berlin:20220525T183000
DTSTAMP:20260423T105005Z
DTSTART;TZID=Europe/Berlin:20220525T173000
GEO:53.185341;8.009166
LOCATION:Kurpark\, Auf dem Hohen Ufer\, Bad Zwischenahn
ORGANIZER;CN=Bad Zwischenahner Touristik GmbH:mailto:info@bad-zwischenahn-t
 ouristik.de
RRULE:FREQ=WEEKLY;UNTIL=20220816T163000;BYDAY=WE
SEQUENCE:0
SUMMARY:QiGong im Kurpark
UID:e_100120581_iv3
URL:http://pages.destination.one/de/bad-zwischenahn-touristik/streaming/det
 ail/Event/e_100120581/qigong-im-kurpark
END:VEVENT
BEGIN:VEVENT
CATEGORIES:Gesundheit sonstige
DESCRIPTION:QiGong im Kurpark\n\nmehr Informationen unter http://pages.dest
 ination.one/de/bad-zwischenahn-touristik/streaming/detail/Event/e_10012058
 1/qigong-im-kurpark
DTEND;TZID=Europe/Berlin:20220527T103000
DTSTAMP:20260423T105005Z
DTSTART;TZID=Europe/Berlin:20220527T093000
GEO:53.185341;8.009166
LOCATION:Kurpark\, Auf dem Hohen Ufer\, Bad Zwischenahn
ORGANIZER;CN=Bad Zwischenahner Touristik GmbH:mailto:info@bad-zwischenahn-t
 ouristik.de
RRULE:FREQ=WEEKLY;UNTIL=20220818T083000;BYDAY=FR
SEQUENCE:0
SUMMARY:QiGong im Kurpark
UID:e_100120581_iv4
URL:http://pages.destination.one/de/bad-zwischenahn-touristik/streaming/det
 ail/Event/e_100120581/qigong-im-kurpark
END:VEVENT
BEGIN:VEVENT
CATEGORIES:Gesundheit sonstige
DESCRIPTION:QiGong im Kurpark\n\nmehr Informationen unter http://pages.dest
 ination.one/de/bad-zwischenahn-touristik/streaming/detail/Event/e_10012058
 1/qigong-im-kurpark
DTEND;TZID=Europe/Berlin:20220824T183000
DTSTAMP:20260423T105005Z
DTSTART;TZID=Europe/Berlin:20220824T173000
GEO:53.185341;8.009166
LOCATION:Kurpark\, Auf dem Hohen Ufer\, Bad Zwischenahn
ORGANIZER;CN=Bad Zwischenahner Touristik GmbH:mailto:info@bad-zwischenahn-t
 ouristik.de
RRULE:FREQ=WEEKLY;UNTIL=20220914T163000;BYDAY=WE
SEQUENCE:0
SUMMARY:QiGong im Kurpark
UID:e_100120581_iv5
URL:http://pages.destination.one/de/bad-zwischenahn-touristik/streaming/det
 ail/Event/e_100120581/qigong-im-kurpark
END:VEVENT
BEGIN:VEVENT
CATEGORIES:Gesundheit sonstige
DESCRIPTION:QiGong im Kurpark\n\nmehr Informationen unter http://pages.dest
 ination.one/de/bad-zwischenahn-touristik/streaming/detail/Event/e_10012058
 1/qigong-im-kurpark
DTEND;TZID=Europe/Berlin:20220826T103000
DTSTAMP:20260423T105005Z
DTSTART;TZID=Europe/Berlin:20220826T093000
GEO:53.185341;8.009166
LOCATION:Kurpark\, Auf dem Hohen Ufer\, Bad Zwischenahn
ORGANIZER;CN=Bad Zwischenahner Touristik GmbH:mailto:info@bad-zwischenahn-t
 ouristik.de
RRULE:FREQ=WEEKLY;UNTIL=20220908T073000;BYDAY=FR
SEQUENCE:0
SUMMARY:QiGong im Kurpark
UID:e_100120581_iv6
URL:http://pages.destination.one/de/bad-zwischenahn-touristik/streaming/det
 ail/Event/e_100120581/qigong-im-kurpark
END:VEVENT
BEGIN:VEVENT
CATEGORIES:Gesundheit sonstige
DESCRIPTION:QiGong im Kurpark\n\nmehr Informationen unter http://pages.dest
 ination.one/de/bad-zwischenahn-touristik/streaming/detail/Event/e_10012058
 1/qigong-im-kurpark
DTEND;TZID=Europe/Berlin:20220909T103000
DTSTAMP:20260423T105005Z
DTSTART;TZID=Europe/Berlin:20220909T093000
GEO:53.185341;8.009166
LOCATION:Kurpark\, Auf dem Hohen Ufer\, Bad Zwischenahn
ORGANIZER;CN=Bad Zwischenahner Touristik GmbH:mailto:info@bad-zwischenahn-t
 ouristik.de
SEQUENCE:0
SUMMARY:QiGong im Kurpark
UID:e_100120581_iv7
URL:http://pages.destination.one/de/bad-zwischenahn-touristik/streaming/det
 ail/Event/e_100120581/qigong-im-kurpark
END:VEVENT
BEGIN:VEVENT
CATEGORIES:Gesundheit sonstige
DESCRIPTION:QiGong im Kurpark\n\nmehr Informationen unter http://pages.dest
 ination.one/de/bad-zwischenahn-touristik/streaming/detail/Event/e_10012058
 1/qigong-im-kurpark
DTEND;TZID=Europe/Berlin:20220916T103000
DTSTAMP:20260423T105005Z
DTSTART;TZID=Europe/Berlin:20220916T093000
GEO:53.185341;8.009166
LOCATION:Kurpark\, Auf dem Hohen Ufer\, Bad Zwischenahn
ORGANIZER;CN=Bad Zwischenahner Touristik GmbH:mailto:info@bad-zwischenahn-t
 ouristik.de
RRULE:FREQ=WEEKLY;UNTIL=20220916T083000;BYDAY=FR
SEQUENCE:0
SUMMARY:QiGong im Kurpark
UID:e_100120581_iv8
URL:http://pages.destination.one/de/bad-zwischenahn-touristik/streaming/det
 ail/Event/e_100120581/qigong-im-kurpark
END:VEVENT
BEGIN:VEVENT
CATEGORIES:Gesundheit sonstige
DESCRIPTION:QiGong im Kurpark\n\nmehr Informationen unter http://pages.dest
 ination.one/de/bad-zwischenahn-touristik/streaming/detail/Event/e_10012058
 1/qigong-im-kurpark
DTEND;TZID=Europe/Berlin:20220917T103000
DTSTAMP:20260423T105005Z
DTSTART;TZID=Europe/Berlin:20220917T093000
GEO:53.185341;8.009166
LOCATION:Kurpark\, Auf dem Hohen Ufer\, Bad Zwischenahn
ORGANIZER;CN=Bad Zwischenahner Touristik GmbH:mailto:info@bad-zwischenahn-t
 ouristik.de
SEQUENCE:0
SUMMARY:QiGong im Kurpark
UID:e_100120581_iv9
URL:http://pages.destination.one/de/bad-zwischenahn-touristik/streaming/det
 ail/Event/e_100120581/qigong-im-kurpark
END:VEVENT
BEGIN:VEVENT
CATEGORIES:Gesundheit sonstige
DESCRIPTION:QiGong im Kurpark\n\nmehr Informationen unter http://pages.dest
 ination.one/de/bad-zwischenahn-touristik/streaming/detail/Event/e_10012058
 1/qigong-im-kurpark
DTEND;TZID=Europe/Berlin:20220921T183000
DTSTAMP:20260423T105005Z
DTSTART;TZID=Europe/Berlin:20220921T173000
GEO:53.185341;8.009166
LOCATION:Kurpark\, Auf dem Hohen Ufer\, Bad Zwischenahn
ORGANIZER;CN=Bad Zwischenahner Touristik GmbH:mailto:info@bad-zwischenahn-t
 ouristik.de
SEQUENCE:0
SUMMARY:QiGong im Kurpark
UID:e_100120581_iv10
URL:http://pages.destination.one/de/bad-zwischenahn-touristik/streaming/det
 ail/Event/e_100120581/qigong-im-kurpark
END:VEVENT
BEGIN:VEVENT
CATEGORIES:Gesundheit sonstige
DESCRIPTION:QiGong im Kurpark\n\nmehr Informationen unter http://pages.dest
 ination.one/de/bad-zwischenahn-touristik/streaming/detail/Event/e_10012058
 1/qigong-im-kurpark
DTEND;TZID=Europe/Berlin:20220928T183000
DTSTAMP:20260423T105005Z
DTSTART;TZID=Europe/Berlin:20220928T173000
GEO:53.185341;8.009166
LOCATION:Kurpark\, Auf dem Hohen Ufer\, Bad Zwischenahn
ORGANIZER;CN=Bad Zwischenahner Touristik GmbH:mailto:info@bad-zwischenahn-t
 ouristik.de
SEQUENCE:0
SUMMARY:QiGong im Kurpark
UID:e_100120581_iv11
URL:http://pages.destination.one/de/bad-zwischenahn-touristik/streaming/det
 ail/Event/e_100120581/qigong-im-kurpark
END:VEVENT
BEGIN:VEVENT
CATEGORIES:Gesundheit sonstige
DESCRIPTION:QiGong im Kurpark\n\nmehr Informationen unter http://pages.dest
 ination.one/de/bad-zwischenahn-touristik/streaming/detail/Event/e_10012058
 1/qigong-im-kurpark
DTEND;TZID=Europe/Berlin:20220930T103000
DTSTAMP:20260423T105005Z
DTSTART;TZID=Europe/Berlin:20220930T093000
GEO:53.185341;8.009166
LOCATION:Kurpark\, Auf dem Hohen Ufer\, Bad Zwischenahn
ORGANIZER;CN=Bad Zwischenahner Touristik GmbH:mailto:info@bad-zwischenahn-t
 ouristik.de
SEQUENCE:0
SUMMARY:QiGong im Kurpark
UID:e_100120581_iv12
URL:http://pages.destination.one/de/bad-zwischenahn-touristik/streaming/det
 ail/Event/e_100120581/qigong-im-kurpark
END:VEVENT
BEGIN:VEVENT
CATEGORIES:Gesundheit sonstige
DESCRIPTION:QiGong im Kurpark\n\nmehr Informationen unter http://pages.dest
 ination.one/de/bad-zwischenahn-touristik/streaming/detail/Event/e_10012058
 1/qigong-im-kurpark
DTEND;TZID=Europe/Berlin:20221005T183000
DTSTAMP:20260423T105005Z
DTSTART;TZID=Europe/Berlin:20221005T173000
GEO:53.185341;8.009166
LOCATION:Kurpark\, Auf dem Hohen Ufer\, Bad Zwischenahn
ORGANIZER;CN=Bad Zwischenahner Touristik GmbH:mailto:info@bad-zwischenahn-t
 ouristik.de
RRULE:FREQ=WEEKLY;UNTIL=20221026T163000;BYDAY=WE
SEQUENCE:0
SUMMARY:QiGong im Kurpark
UID:e_100120581_iv13
URL:http://pages.destination.one/de/bad-zwischenahn-touristik/streaming/det
 ail/Event/e_100120581/qigong-im-kurpark
END:VEVENT
BEGIN:VEVENT
CATEGORIES:Gesundheit sonstige
DESCRIPTION:QiGong im Kurpark\n\nmehr Informationen unter http://pages.dest
 ination.one/de/bad-zwischenahn-touristik/streaming/detail/Event/e_10012058
 1/qigong-im-kurpark
DTEND;TZID=Europe/Berlin:20221007T103000
DTSTAMP:20260423T105005Z
DTSTART;TZID=Europe/Berlin:20221007T093000
GEO:53.185341;8.009166
LOCATION:Kurpark\, Auf dem Hohen Ufer\, Bad Zwischenahn
ORGANIZER;CN=Bad Zwischenahner Touristik GmbH:mailto:info@bad-zwischenahn-t
 ouristik.de
RRULE:FREQ=WEEKLY;UNTIL=20221028T083000;BYDAY=FR
SEQUENCE:0
SUMMARY:QiGong im Kurpark
UID:e_100120581_iv14
URL:http://pages.destination.one/de/bad-zwischenahn-touristik/streaming/det
 ail/Event/e_100120581/qigong-im-kurpark
END:VEVENT
BEGIN:VEVENT
CATEGORIES:Gesundheit sonstige
DESCRIPTION:QiGong im Kurpark\n\nmehr Informationen unter http://pages.dest
 ination.one/de/bad-zwischenahn-touristik/streaming/detail/Event/e_10012058
 1/qigong-im-kurpark
DTEND;TZID=Europe/Berlin:20230426T183000
DTSTAMP:20260423T105005Z
DTSTART;TZID=Europe/Berlin:20230426T173000
GEO:53.185341;8.009166
LOCATION:Kurpark\, Auf dem Hohen Ufer\, Bad Zwischenahn
ORGANIZER;CN=Bad Zwischenahner Touristik GmbH:mailto:info@bad-zwischenahn-t
 ouristik.de
RRULE:FREQ=WEEKLY;UNTIL=20230509T153000;BYDAY=WE
SEQUENCE:0
SUMMARY:QiGong im Kurpark
UID:e_100120581_iv15
URL:http://pages.destination.one/de/bad-zwischenahn-touristik/streaming/det
 ail/Event/e_100120581/qigong-im-kurpark
END:VEVENT
BEGIN:VEVENT
CATEGORIES:Gesundheit sonstige
DESCRIPTION:QiGong im Kurpark\n\nmehr Informationen unter http://pages.dest
 ination.one/de/bad-zwischenahn-touristik/streaming/detail/Event/e_10012058
 1/qigong-im-kurpark
DTEND;TZID=Europe/Berlin:20230517T183000
DTSTAMP:20260423T105005Z
DTSTART;TZID=Europe/Berlin:20230517T173000
GEO:53.185341;8.009166
LOCATION:Kurpark\, Auf dem Hohen Ufer\, Bad Zwischenahn
ORGANIZER;CN=Bad Zwischenahner Touristik GmbH:mailto:info@bad-zwischenahn-t
 ouristik.de
RRULE:FREQ=WEEKLY;UNTIL=20230704T173000;BYDAY=WE
SEQUENCE:0
SUMMARY:QiGong im Kurpark
UID:e_100120581_iv16
URL:http://pages.destination.one/de/bad-zwischenahn-touristik/streaming/det
 ail/Event/e_100120581/qigong-im-kurpark
END:VEVENT
BEGIN:VEVENT
CATEGORIES:Gesundheit sonstige
DESCRIPTION:QiGong im Kurpark\n\nmehr Informationen unter http://pages.dest
 ination.one/de/bad-zwischenahn-touristik/streaming/detail/Event/e_10012058
 1/qigong-im-kurpark
DTEND;TZID=Europe/Berlin:20230526T103000
DTSTAMP:20260423T105005Z
DTSTART;TZID=Europe/Berlin:20230526T093000
GEO:53.185341;8.009166
LOCATION:Kurpark\, Auf dem Hohen Ufer\, Bad Zwischenahn
ORGANIZER;CN=Bad Zwischenahner Touristik GmbH:mailto:info@bad-zwischenahn-t
 ouristik.de
RRULE:FREQ=WEEKLY;UNTIL=20230608T083000;BYDAY=FR
SEQUENCE:0
SUMMARY:QiGong im Kurpark
UID:e_100120581_iv17
URL:http://pages.destination.one/de/bad-zwischenahn-touristik/streaming/det
 ail/Event/e_100120581/qigong-im-kurpark
END:VEVENT
BEGIN:VEVENT
CATEGORIES:Gesundheit sonstige
DESCRIPTION:QiGong im Kurpark\n\nmehr Informationen unter http://pages.dest
 ination.one/de/bad-zwischenahn-touristik/streaming/detail/Event/e_10012058
 1/qigong-im-kurpark
DTEND;TZID=Europe/Berlin:20230701T103000
DTSTAMP:20260423T105005Z
DTSTART;TZID=Europe/Berlin:20230701T093000
GEO:53.185341;8.009166
LOCATION:Kurpark\, Auf dem Hohen Ufer\, Bad Zwischenahn
ORGANIZER;CN=Bad Zwischenahner Touristik GmbH:mailto:info@bad-zwischenahn-t
 ouristik.de
RRULE:FREQ=WEEKLY;UNTIL=20230929T083000;BYDAY=FR
SEQUENCE:0
SUMMARY:QiGong im Kurpark
UID:e_100120581_iv18
URL:http://pages.destination.one/de/bad-zwischenahn-touristik/streaming/det
 ail/Event/e_100120581/qigong-im-kurpark
END:VEVENT
BEGIN:VEVENT
CATEGORIES:Gesundheit sonstige
DESCRIPTION:QiGong im Kurpark\n\nmehr Informationen unter http://pages.dest
 ination.one/de/bad-zwischenahn-touristik/streaming/detail/Event/e_10012058
 1/qigong-im-kurpark
DTEND;TZID=Europe/Berlin:20230705T190000
DTSTAMP:20260423T105005Z
DTSTART;TZID=Europe/Berlin:20230705T180000
GEO:53.185341;8.009166
LOCATION:Kurpark\, Auf dem Hohen Ufer\, Bad Zwischenahn
ORGANIZER;CN=Bad Zwischenahner Touristik GmbH:mailto:info@bad-zwischenahn-t
 ouristik.de
RRULE:FREQ=WEEKLY;UNTIL=20230927T170000;BYDAY=WE
SEQUENCE:0
SUMMARY:QiGong im Kurpark
UID:e_100120581_iv19
URL:http://pages.destination.one/de/bad-zwischenahn-touristik/streaming/det
 ail/Event/e_100120581/qigong-im-kurpark
END:VEVENT
BEGIN:VEVENT
CATEGORIES:Gesundheit sonstige
DESCRIPTION:QiGong im Kurpark\n\nmehr Informationen unter http://pages.dest
 ination.one/de/bad-zwischenahn-touristik/streaming/detail/Event/e_10012058
 1/qigong-im-kurpark
DTEND;TZID=Europe/Berlin:20240405T110000
DTSTAMP:20260423T105005Z
DTSTART;TZID=Europe/Berlin:20240405T100000
GEO:53.185341;8.009166
LOCATION:Kurpark\, Auf dem Hohen Ufer\, Bad Zwischenahn
ORGANIZER;CN=Bad Zwischenahner Touristik GmbH:mailto:info@bad-zwischenahn-t
 ouristik.de
RRULE:FREQ=WEEKLY;UNTIL=20240630T090000;BYDAY=FR
SEQUENCE:0
SUMMARY:QiGong im Kurpark
UID:e_100120581_iv20
URL:http://pages.destination.one/de/bad-zwischenahn-touristik/streaming/det
 ail/Event/e_100120581/qigong-im-kurpark
END:VEVENT
BEGIN:VEVENT
CATEGORIES:Gesundheit sonstige
DESCRIPTION:QiGong im Kurpark\n\nmehr Informationen unter http://pages.dest
 ination.one/de/bad-zwischenahn-touristik/streaming/detail/Event/e_10012058
 1/qigong-im-kurpark
DTEND;TZID=Europe/Berlin:20240410T183000
DTSTAMP:20260423T105005Z
DTSTART;TZID=Europe/Berlin:20240410T173000
GEO:53.185341;8.009166
LOCATION:Kurpark\, Auf dem Hohen Ufer\, Bad Zwischenahn
ORGANIZER;CN=Bad Zwischenahner Touristik GmbH:mailto:info@bad-zwischenahn-t
 ouristik.de
RRULE:FREQ=WEEKLY;UNTIL=20240430T163000;BYDAY=WE
SEQUENCE:0
SUMMARY:QiGong im Kurpark
UID:e_100120581_iv21
URL:http://pages.destination.one/de/bad-zwischenahn-touristik/streaming/det
 ail/Event/e_100120581/qigong-im-kurpark
END:VEVENT
BEGIN:VEVENT
CATEGORIES:Gesundheit sonstige
DESCRIPTION:QiGong im Kurpark\n\nmehr Informationen unter http://pages.dest
 ination.one/de/bad-zwischenahn-touristik/streaming/detail/Event/e_10012058
 1/qigong-im-kurpark
DTEND;TZID=Europe/Berlin:20240508T183000
DTSTAMP:20260423T105005Z
DTSTART;TZID=Europe/Berlin:20240508T173000
GEO:53.185341;8.009166
LOCATION:Kurpark\, Auf dem Hohen Ufer\, Bad Zwischenahn
ORGANIZER;CN=Bad Zwischenahner Touristik GmbH:mailto:info@bad-zwischenahn-t
 ouristik.de
RRULE:FREQ=WEEKLY;UNTIL=20240630T163000;BYDAY=WE
SEQUENCE:0
SUMMARY:QiGong im Kurpark
UID:e_100120581_iv22
URL:http://pages.destination.one/de/bad-zwischenahn-touristik/streaming/det
 ail/Event/e_100120581/qigong-im-kurpark
END:VEVENT
BEGIN:VEVENT
CATEGORIES:Gesundheit sonstige
DESCRIPTION:QiGong im Kurpark\n\nmehr Informationen unter http://pages.dest
 ination.one/de/bad-zwischenahn-touristik/streaming/detail/Event/e_10012058
 1/qigong-im-kurpark
DTEND;TZID=Europe/Berlin:20240701T103000
DTSTAMP:20260423T105005Z
DTSTART;TZID=Europe/Berlin:20240701T093000
GEO:53.185341;8.009166
LOCATION:Kurpark\, Auf dem Hohen Ufer\, Bad Zwischenahn
ORGANIZER;CN=Bad Zwischenahner Touristik GmbH:mailto:info@bad-zwischenahn-t
 ouristik.de
RRULE:FREQ=WEEKLY;UNTIL=20240927T083000;BYDAY=FR
SEQUENCE:0
SUMMARY:QiGong im Kurpark
UID:e_100120581_iv23
URL:http://pages.destination.one/de/bad-zwischenahn-touristik/streaming/det
 ail/Event/e_100120581/qigong-im-kurpark
END:VEVENT
BEGIN:VEVENT
CATEGORIES:Gesundheit sonstige
DESCRIPTION:QiGong im Kurpark\n\nmehr Informationen unter http://pages.dest
 ination.one/de/bad-zwischenahn-touristik/streaming/detail/Event/e_10012058
 1/qigong-im-kurpark
DTEND;TZID=Europe/Berlin:20240701T190000
DTSTAMP:20260423T105005Z
DTSTART;TZID=Europe/Berlin:20240701T180000
GEO:53.185341;8.009166
LOCATION:Kurpark\, Auf dem Hohen Ufer\, Bad Zwischenahn
ORGANIZER;CN=Bad Zwischenahner Touristik GmbH:mailto:info@bad-zwischenahn-t
 ouristik.de
RRULE:FREQ=WEEKLY;UNTIL=20240925T170000;BYDAY=WE
SEQUENCE:0
SUMMARY:QiGong im Kurpark
UID:e_100120581_iv24
URL:http://pages.destination.one/de/bad-zwischenahn-touristik/streaming/det
 ail/Event/e_100120581/qigong-im-kurpark
END:VEVENT
BEGIN:VEVENT
CATEGORIES:Gesundheit sonstige
DESCRIPTION:QiGong im Kurpark\n\nmehr Informationen unter http://pages.dest
 ination.one/de/bad-zwischenahn-touristik/streaming/detail/Event/e_10012058
 1/qigong-im-kurpark
DTEND;TZID=Europe/Berlin:20250423T190000
DTSTAMP:20260423T105005Z
DTSTART;TZID=Europe/Berlin:20250423T180000
GEO:53.185341;8.009166
LOCATION:Kurpark\, Auf dem Hohen Ufer\, Bad Zwischenahn
ORGANIZER;CN=Bad Zwischenahner Touristik GmbH:mailto:info@bad-zwischenahn-t
 ouristik.de
RRULE:FREQ=WEEKLY;UNTIL=20250610T170000;BYDAY=WE
SEQUENCE:0
SUMMARY:QiGong im Kurpark
UID:e_100120581_iv25
URL:http://pages.destination.one/de/bad-zwischenahn-touristik/streaming/det
 ail/Event/e_100120581/qigong-im-kurpark
END:VEVENT
BEGIN:VEVENT
CATEGORIES:Gesundheit sonstige
DESCRIPTION:QiGong im Kurpark\n\nmehr Informationen unter http://pages.dest
 ination.one/de/bad-zwischenahn-touristik/streaming/detail/Event/e_10012058
 1/qigong-im-kurpark
DTEND;TZID=Europe/Berlin:20250425T110000
DTSTAMP:20260423T105005Z
DTSTART;TZID=Europe/Berlin:20250425T100000
GEO:53.185341;8.009166
LOCATION:Kurpark\, Auf dem Hohen Ufer\, Bad Zwischenahn
ORGANIZER;CN=Bad Zwischenahner Touristik GmbH:mailto:info@bad-zwischenahn-t
 ouristik.de
RRULE:FREQ=WEEKLY;UNTIL=20250612T090000;BYDAY=FR
SEQUENCE:0
SUMMARY:QiGong im Kurpark
UID:e_100120581_iv26
URL:http://pages.destination.one/de/bad-zwischenahn-touristik/streaming/det
 ail/Event/e_100120581/qigong-im-kurpark
END:VEVENT
BEGIN:VEVENT
CATEGORIES:Gesundheit sonstige
DESCRIPTION:QiGong im Kurpark\n\nmehr Informationen unter http://pages.dest
 ination.one/de/bad-zwischenahn-touristik/streaming/detail/Event/e_10012058
 1/qigong-im-kurpark
DTEND;TZID=Europe/Berlin:20250618T190000
DTSTAMP:20260423T105005Z
DTSTART;TZID=Europe/Berlin:20250618T180000
GEO:53.185341;8.009166
LOCATION:Kurpark\, Auf dem Hohen Ufer\, Bad Zwischenahn
ORGANIZER;CN=Bad Zwischenahner Touristik GmbH:mailto:info@bad-zwischenahn-t
 ouristik.de
RRULE:FREQ=WEEKLY;UNTIL=20250924T170000;BYDAY=WE
SEQUENCE:0
SUMMARY:QiGong im Kurpark
UID:e_100120581_iv27
URL:http://pages.destination.one/de/bad-zwischenahn-touristik/streaming/det
 ail/Event/e_100120581/qigong-im-kurpark
END:VEVENT
BEGIN:VEVENT
CATEGORIES:Gesundheit sonstige
DESCRIPTION:QiGong im Kurpark\n\nmehr Informationen unter http://pages.dest
 ination.one/de/bad-zwischenahn-touristik/streaming/detail/Event/e_10012058
 1/qigong-im-kurpark
DTEND;TZID=Europe/Berlin:20250620T110000
DTSTAMP:20260423T105005Z
DTSTART;TZID=Europe/Berlin:20250620T100000
GEO:53.185341;8.009166
LOCATION:Kurpark\, Auf dem Hohen Ufer\, Bad Zwischenahn
ORGANIZER;CN=Bad Zwischenahner Touristik GmbH:mailto:info@bad-zwischenahn-t
 ouristik.de
RRULE:FREQ=WEEKLY;UNTIL=20250926T090000;BYDAY=FR
SEQUENCE:0
SUMMARY:QiGong im Kurpark
UID:e_100120581_iv28
URL:http://pages.destination.one/de/bad-zwischenahn-touristik/streaming/det
 ail/Event/e_100120581/qigong-im-kurpark
END:VEVENT
BEGIN:VEVENT
CATEGORIES:Gesundheit sonstige
DESCRIPTION:QiGong im Kurpark\n\nmehr Informationen unter http://pages.dest
 ination.one/de/bad-zwischenahn-touristik/streaming/detail/Event/e_10012058
 1/qigong-im-kurpark
DTEND;TZID=Europe/Berlin:20260422T190000
DTSTAMP:20260423T105005Z
DTSTART;TZID=Europe/Berlin:20260422T180000
GEO:53.185341;8.009166
LOCATION:Kurpark\, Auf dem Hohen Ufer\, Bad Zwischenahn
ORGANIZER;CN=Bad Zwischenahner Touristik GmbH:mailto:info@bad-zwischenahn-t
 ouristik.de
RRULE:FREQ=WEEKLY;UNTIL=20260930T170000;BYDAY=WE
SEQUENCE:0
SUMMARY:QiGong im Kurpark
UID:e_100120581_iv29
URL:http://pages.destination.one/de/bad-zwischenahn-touristik/streaming/det
 ail/Event/e_100120581/qigong-im-kurpark
END:VEVENT
BEGIN:VEVENT
CATEGORIES:Gesundheit sonstige
DESCRIPTION:QiGong im Kurpark\n\nmehr Informationen unter http://pages.dest
 ination.one/de/bad-zwischenahn-touristik/streaming/detail/Event/e_10012058
 1/qigong-im-kurpark
DTEND;TZID=Europe/Berlin:20260424T110000
DTSTAMP:20260423T105005Z
DTSTART;TZID=Europe/Berlin:20260424T100000
GEO:53.185341;8.009166
LOCATION:Kurpark\, Auf dem Hohen Ufer\, Bad Zwischenahn
ORGANIZER;CN=Bad Zwischenahner Touristik GmbH:mailto:info@bad-zwischenahn-t
 ouristik.de
RRULE:FREQ=WEEKLY;UNTIL=20260924T080000;BYDAY=FR
SEQUENCE:0
SUMMARY:QiGong im Kurpark
UID:e_100120581_iv30
URL:http://pages.destination.one/de/bad-zwischenahn-touristik/streaming/det
 ail/Event/e_100120581/qigong-im-kurpark
END:VEVENT
BEGIN:VEVENT
CATEGORIES:Gesundheit sonstige
DESCRIPTION:QiGong im Kurpark\n\nmehr Informationen unter http://pages.dest
 ination.one/de/bad-zwischenahn-touristik/streaming/detail/Event/e_10012058
 1/qigong-im-kurpark
DTEND;TZID=Europe/Berlin:20260925T110000
DTSTAMP:20260423T105005Z
DTSTART;TZID=Europe/Berlin:20260925T100000
GEO:53.185341;8.009166
LOCATION:Kurpark\, Auf dem Hohen Ufer\, Bad Zwischenahn
ORGANIZER;CN=Bad Zwischenahner Touristik GmbH:mailto:info@bad-zwischenahn-t
 ouristik.de
RRULE:FREQ=WEEKLY;UNTIL=20261002T090000;BYDAY=FR
SEQUENCE:0
SUMMARY:QiGong im Kurpark
UID:e_100120581_iv31
URL:http://pages.destination.one/de/bad-zwischenahn-touristik/streaming/det
 ail/Event/e_100120581/qigong-im-kurpark
END:VEVENT
BEGIN:VTIMEZONE
TZID:Europe/Berlin
X-LIC-LOCATION:Europe/Berlin
BEGIN:DAYLIGHT
DTSTART:19700329T020000
RRULE:FREQ=YEARLY;BYDAY=-1SU;BYMONTH=3
TZNAME:CEST
TZOFFSETFROM:+0100
TZOFFSETTO:+0200
END:DAYLIGHT
BEGIN:STANDARD
DTSTART:19701025T030000
RRULE:FREQ=YEARLY;BYDAY=-1SU;BYMONTH=10
TZNAME:CET
TZOFFSETFROM:+0200
TZOFFSETTO:+0100
END:STANDARD
END:VTIMEZONE
END:VCALENDAR
