BEGIN:VCALENDAR
VERSION:2.0
PRODID:-//destination.one//NONSGML destination.meta API//DE
X-WR-CALDESC:A calendar powered by destination.meta
X-WR-CALNAME:Gemeinde-bunde Kalender via destination.meta
BEGIN:VEVENT
CATEGORIES:Konzert
DESCRIPTION:Dilian Kushev – Die Goldene Stimme\nAlbum-Tour 2026 – „Die Lieb
 e ebnet die Welt“\n\nmehr Informationen unter http://pages.destination.one
 /de/Gemeinde-bunde/streaming/detail/Event/e_101063268/dilian-kushev-konzer
 t-in-der-kirche-ditzum
DTEND;TZID=Europe/Berlin:20250805T235900
DTSTAMP:20260422T125329Z
DTSTART;TZID=Europe/Berlin:20250805T193000
GEO:53.315140;7.279708
LOCATION:Kirche in Ditzum\, Ditzumer Hofstraße 11a\, Jemgum
ORGANIZER;CN=Dilian Kushev:mailto:kushevmusic@gmail.com
SEQUENCE:0
SUMMARY:Dilian Kushev - Konzert in der Kirche Ditzum
UID:e_101063268_iv0
URL:http://pages.destination.one/de/Gemeinde-bunde/streaming/detail/Event/e
 _101063268/dilian-kushev-konzert-in-der-kirche-ditzum
END:VEVENT
BEGIN:VEVENT
CATEGORIES:Konzert
DESCRIPTION:Dilian Kushev – Die Goldene Stimme\nAlbum-Tour 2026 – „Die Lieb
 e ebnet die Welt“\n\nmehr Informationen unter http://pages.destination.one
 /de/Gemeinde-bunde/streaming/detail/Event/e_101063268/dilian-kushev-konzer
 t-in-der-kirche-ditzum
DTEND;TZID=Europe/Berlin:20260509T220000
DTSTAMP:20260422T125329Z
DTSTART;TZID=Europe/Berlin:20260509T193000
GEO:53.315140;7.279708
LOCATION:Kirche in Ditzum\, Ditzumer Hofstraße 11a\, Jemgum
ORGANIZER;CN=Dilian Kushev:mailto:kushevmusic@gmail.com
SEQUENCE:0
SUMMARY:Dilian Kushev - Konzert in der Kirche Ditzum
UID:e_101063268_iv1
URL:http://pages.destination.one/de/Gemeinde-bunde/streaming/detail/Event/e
 _101063268/dilian-kushev-konzert-in-der-kirche-ditzum
END:VEVENT
BEGIN:VTIMEZONE
TZID:Europe/Berlin
X-LIC-LOCATION:Europe/Berlin
BEGIN:DAYLIGHT
DTSTART:19700329T020000
RRULE:FREQ=YEARLY;BYDAY=-1SU;BYMONTH=3
TZNAME:CEST
TZOFFSETFROM:+0100
TZOFFSETTO:+0200
END:DAYLIGHT
BEGIN:STANDARD
DTSTART:19701025T030000
RRULE:FREQ=YEARLY;BYDAY=-1SU;BYMONTH=10
TZNAME:CET
TZOFFSETFROM:+0200
TZOFFSETTO:+0100
END:STANDARD
END:VTIMEZONE
END:VCALENDAR
