BEGIN:VCALENDAR
VERSION:2.0
PRODID:-//destination.one//NONSGML destination.meta API//DE
X-WR-CALDESC:A calendar powered by destination.meta
X-WR-CALNAME:Gemeinde-bunde Kalender via destination.meta
BEGIN:VEVENT
CATEGORIES:Frühjahrsmarkt
DESCRIPTION:Kreatives und Leckeres an der Ditzumer Mühle\n\nmehr Informatio
 nen unter http://pages.destination.one/de/Gemeinde-bunde/streaming/detail/
 Event/e_100778658/ditzumer-fr-hlingsmarkt
DTEND;TZID=Europe/Berlin:20240511T170000
DTSTAMP:20260422T123545Z
DTSTART;TZID=Europe/Berlin:20240511T110000
GEO:53.315621;7.278678
LOCATION:Mühle Ditzum\, Mühlenstraße 10\, Jemgum
ORGANIZER;CN=Mühlenverein Ditzum e. V.:mailto:hermannoltmanns@gmx.de
SEQUENCE:0
SUMMARY:Ditzumer Frühlingsmarkt
UID:e_100778658_iv0
URL:http://pages.destination.one/de/Gemeinde-bunde/streaming/detail/Event/e
 _100778658/ditzumer-fr-hlingsmarkt
END:VEVENT
BEGIN:VEVENT
CATEGORIES:Frühjahrsmarkt
DESCRIPTION:Kreatives und Leckeres an der Ditzumer Mühle\n\nmehr Informatio
 nen unter http://pages.destination.one/de/Gemeinde-bunde/streaming/detail/
 Event/e_100778658/ditzumer-fr-hlingsmarkt
DTEND;TZID=Europe/Berlin:20250510T180000
DTSTAMP:20260422T123545Z
DTSTART;TZID=Europe/Berlin:20250510T100000
GEO:53.315621;7.278678
LOCATION:Mühle Ditzum\, Mühlenstraße 10\, Jemgum
ORGANIZER;CN=Mühlenverein Ditzum e. V.:mailto:hermannoltmanns@gmx.de
SEQUENCE:0
SUMMARY:Ditzumer Frühlingsmarkt
UID:e_100778658_iv1
URL:http://pages.destination.one/de/Gemeinde-bunde/streaming/detail/Event/e
 _100778658/ditzumer-fr-hlingsmarkt
END:VEVENT
BEGIN:VEVENT
CATEGORIES:Frühjahrsmarkt
DESCRIPTION:Kreatives und Leckeres an der Ditzumer Mühle\n\nmehr Informatio
 nen unter http://pages.destination.one/de/Gemeinde-bunde/streaming/detail/
 Event/e_100778658/ditzumer-fr-hlingsmarkt
DTEND;TZID=Europe/Berlin:20260516T180000
DTSTAMP:20260422T123545Z
DTSTART;TZID=Europe/Berlin:20260516T100000
GEO:53.315621;7.278678
LOCATION:Mühle Ditzum\, Mühlenstraße 10\, Jemgum
ORGANIZER;CN=Mühlenverein Ditzum e. V.:mailto:hermannoltmanns@gmx.de
SEQUENCE:0
SUMMARY:Ditzumer Frühlingsmarkt
UID:e_100778658_iv2
URL:http://pages.destination.one/de/Gemeinde-bunde/streaming/detail/Event/e
 _100778658/ditzumer-fr-hlingsmarkt
END:VEVENT
BEGIN:VTIMEZONE
TZID:Europe/Berlin
X-LIC-LOCATION:Europe/Berlin
BEGIN:DAYLIGHT
DTSTART:19700329T020000
RRULE:FREQ=YEARLY;BYDAY=-1SU;BYMONTH=3
TZNAME:CEST
TZOFFSETFROM:+0100
TZOFFSETTO:+0200
END:DAYLIGHT
BEGIN:STANDARD
DTSTART:19701025T030000
RRULE:FREQ=YEARLY;BYDAY=-1SU;BYMONTH=10
TZNAME:CET
TZOFFSETFROM:+0200
TZOFFSETTO:+0100
END:STANDARD
END:VTIMEZONE
END:VCALENDAR
